Workbook

Sheet CDN
D1: U2 FASTENERS - Pricing / Order Sheet - CANADA
B5: Revision Date: | C5: 2026 April 01 | D5: Presumed Discount => | E5: 0 | G5: 0 | H5: 0
A6: Customer Name: | E6: Contact Name/Phone:
B7: Address:
F8: Your PO:
B10: Complete sections in YELLOW
B11: Send completed form to U2 fasteners: | F11: REQUESTED SHIP DATE:
B12: orders@u2fasteners.com
B13: Fx: 807-623-6224 Ph: 855-895-7096 | F13: T O T A L ==> | H13: =SUBTOTAL(9,H16:H534) -> 0
B14: Pricing Link: https://u2fasteners.com/cdn-pricing/ | F14: (taxes, freight [if any] will be added)
A15: Order Line # | B15: UPC | C15: Stockcode | D15: Description | E15: Pieces | F15: OrderQty | G15: MSRP-CDN | H15: Net Price | I15: Driver Bit Size | J15: STATUS don’t order NEW ITEMS ! Coming soon ! | K15: Total Weight including packing materials/lbs | L15: Box Info L X W X H (in inches) | M15: MC AMOUNT | N15: MC Info L X W X H (in inches) | O15: Units per Pallet | P15: MC per Pallet | Q15: Box Type | R15: HS Code | S15: Made in | T15: Metric Size | U15: Driver bit size
A16: =SUBTOTAL(3,$B$16:B16) -> 1 | B16: U2 Universal
A17: =SUBTOTAL(3,$B$16:B17) -> 2 | B17: 696244112168 | C17: U06100500B | D17: Univ 6X1/2" Bulk | E17: 16000 | G17: 695.61 | H17: =(ROUND(G17*(1-$E$5)*(1-$G$5)*(1-$H$5),2)*F17) -> 0 | I17: 15 | J17: available | K17: 27.543819 | L17: 11.25 x 11.25 x 7.5 | O17: 36 | Q17: Bulk Plastic Yellow Lid | R17: 7318.14.1060 | S17: TW | T17: 3.5 X 38 | U17: 15-1
A18: =SUBTOTAL(3,$B$16:B18) -> 3 | B18: 696244112182 | C18: U06100500H | D18: Univ 6X1/2" Pkg | E18: 100 | G18: 9.78 | H18: =(ROUND(G18*(1-$E$5)*(1-$G$5)*(1-$H$5),2)*F18) -> 0 | I18: 15 | J18: available | K18: 0.48014262 | L18: 1.5 x 3.5 x 4.75 | M18: 6 | N18: 7.375 x 5.375 x 5.375 | O18: 864 | P18: =O18/M18 -> 144 | Q18: Small Plastic | R18: 7318.14.1060 | S18: TW | T18: 3.5 X 38 | U18: 15-1
A19: =SUBTOTAL(3,$B$16:B19) -> 4 | B19: 696244112205 | C19: U06100500P | D19: Univ 6X1/2" Pail | E19: 1600 | G19: 71.29 | H19: =(ROUND(G19*(1-$E$5)*(1-$G$5)*(1-$H$5),2)*F19) -> 0 | I19: 15 | J19: available | K19: 3.2852819 | L19: 7.0 x 6.0 x 3.5 | M19: 2 | N19: 12.5 x 7.5 x 4.375 | O19: 140 | P19: =O19/M19 -> 70 | Q19: Pail Plastic | R19: 7318.14.1060 | S19: TW | T19: 3.5 X 38 | U19: 15-1
A20: =SUBTOTAL(3,$B$16:B20) -> 5 | B20: 696244112229 | C20: U06100625B | D20: Univ 6X5/8" Bulk | E20: 14000 | G20: 701.97 | H20: =(ROUND(G20*(1-$E$5)*(1-$G$5)*(1-$H$5),2)*F20) -> 0 | I20: 15 | J20: available | K20: 27.535786 | L20: 11.25 x 11.25 x 7.5 | O20: 36 | Q20: Bulk Plastic Yellow Lid | R20: 7318.14.1060 | S20: TW | T20: 3.5 X 38 | U20: 15-1
A21: =SUBTOTAL(3,$B$16:B21) -> 6 | B21: 696244112243 | C21: U06100625H | D21: Univ 6X5/8" Pkg | E21: 100 | G21: 10.1 | H21: =(ROUND(G21*(1-$E$5)*(1-$G$5)*(1-$H$5),2)*F21) -> 0 | I21: 15 | J21: available | K21: 0.50339133 | L21: 1.5 x 3.5 x 4.75 | M21: 6 | N21: 7.375 x 5.375 x 5.375 | O21: 864 | P21: =O21/M21 -> 144 | Q21: Small Plastic | R21: 7318.14.1060 | S21: TW | T21: 3.5 X 38 | U21: 15-1
A22: =SUBTOTAL(3,$B$16:B22) -> 7 | B22: 696244112267 | C22: U06100625P | D22: Univ 6X5/8" Pail | E22: 1400 | G22: 71.29 | H22: =(ROUND(G22*(1-$E$5)*(1-$G$5)*(1-$H$5),2)*F22) -> 0 | I22: 15 | J22: available | K22: 3.2844786 | L22: 7.0 x 6.0 x 3.5 | M22: 2 | N22: 12.5 x 7.5 x 4.375 | O22: 140 | P22: =O22/M22 -> 70 | Q22: Pail Plastic | R22: 7318.14.1060 | S22: TW | T22: 3.5 X 38 | U22: 15-1
A23: =SUBTOTAL(3,$B$16:B23) -> 8 | B23: 696244110232 | C23: U06101500B | D23: Univ 6X1"1/2 Bulk | E23: 8000 | G23: 584.41 | H23: =(ROUND(G23*(1-$E$5)*(1-$G$5)*(1-$H$5),2)*F23) -> 0 | I23: 15 | J23: available | K23: 32.12945 | L23: 11.25 x 11.25 x 7.5 | O23: 36 | Q23: Bulk Plastic Yellow Lid | R23: 7318.14.1060 | S23: TW | T23: 3.5 X 38 | U23: 15-1
A24: =SUBTOTAL(3,$B$16:B24) -> 9 | B24: 696244110256 | C24: U06101500H | D24: Univ 6X1"1/2 Pkg | E24: 100 | G24: 10.5 | H24: =(ROUND(G24*(1-$E$5)*(1-$G$5)*(1-$H$5),2)*F24) -> 0 | I24: 15 | J24: available | K24: 0.70060562 | L24: 1.5 x 3.5 x 4.75 | M24: 6 | N24: 7.375 x 5.375 x 5.375 | O24: 864 | P24: 144 | Q24: Small Plastic | R24: 7318.14.1060 | S24: TW | T24: 3.5 X 38 | U24: 15-1
A25: =SUBTOTAL(3,$B$16:B25) -> 10 | B25: 696244110270 | C25: U06101500P | D25: Univ 6X1"1/2 Pail | E25: 928 | G25: 71.29 | H25: =(ROUND(G25*(1-$E$5)*(1-$G$5)*(1-$H$5),2)*F25) -> 0 | I25: 15 | J25: available | K25: 4.2348602 | L25: 7.0 x 6.0 x 3.5 | M25: 2 | N25: 12.5 x 7.5 x 4.375 | O25: 140 | P25: 70 | Q25: Pail Plastic | R25: 7318.14.1060 | S25: TW | T25: 3.5 X 38 | U25: 15-1
A26: =SUBTOTAL(3,$B$16:B26) -> 11 | B26: 696244111079 | C26: U08101250B | D26: Univ 8X1"1/4 Bulk | E26: 10000 | G26: 850.83 | H26: =(ROUND(G26*(1-$E$5)*(1-$G$5)*(1-$H$5),2)*F26) -> 0 | I26: 15 | J26: available | K26: 44.872211 | L26: 11.25 x 11.25 x 7.5 | O26: 36 | Q26: Bulk Plastic Yellow Lid | R26: 7318.14.1060 | S26: TW | T26: 4 X 32 | U26: 15-1
A27: =SUBTOTAL(3,$B$16:B27) -> 12 | B27: 696244111093 | C27: U08101250H | D27: Univ 8X1"1/4 Pkg | E27: 100 | G27: 10.73 | H27: =(ROUND(G27*(1-$E$5)*(1-$G$5)*(1-$H$5),2)*F27) -> 0 | I27: 15 | J27: available | K27: 0.75131211 | L27: 1.5 x 3.5 x 4.75 | M27: 6 | N27: 7.375 x 5.375 x 5.375 | O27: 864 | P27: 144 | Q27: Small Plastic | R27: 7318.14.1060 | S27: TW | T27: 4 X 32 | U27: 15-1
A28: =SUBTOTAL(3,$B$16:B28) -> 13 | B28: 696244111116 | C28: U08101250P | D28: Univ 8X1"1/4 Pail | E28: 835 | G28: 71.29 | H28: =(ROUND(G28*(1-$E$5)*(1-$G$5)*(1-$H$5),2)*F28) -> 0 | I28: 15 | J28: available | K28: 4.3015061 | L28: 7.0 x 6.0 x 3.5 | M28: 2 | N28: 12.5 x 7.5 x 4.375 | O28: 140 | P28: 70 | Q28: Pail Plastic | R28: 7318.14.1060 | S28: TW | T28: 4 X 32 | U28: 15-1
A29: =SUBTOTAL(3,$B$16:B29) -> 14 | B29: 696244100004 | C29: U08101500B | D29: Univ 8X1"1/2 Bulk | E29: 6500 | G29: 592 | H29: =(ROUND(G29*(1-$E$5)*(1-$G$5)*(1-$H$5),2)*F29) -> 0 | I29: 15 | J29: available | K29: 32.250704 | L29: 11.25 x 11.25 x 7.5 | O29: 36 | Q29: Bulk Plastic Yellow Lid | R29: 7318.14.1060 | S29: TW | T29: 4 X 38 | U29: 15-1
A30: =SUBTOTAL(3,$B$16:B30) -> 15 | B30: 696244100271 | C30: U08101500H | D30: Univ 8X1"1/2 Pkg | E30: 100 | G30: 11.38 | H30: =(ROUND(G30*(1-$E$5)*(1-$G$5)*(1-$H$5),2)*F30) -> 0 | I30: 15 | J30: available | K30: 0.79099545 | L30: 1.5 x 3.5 x 4.75 | M30: 6 | N30: 7.375 x 5.375 x 5.375 | O30: 864 | P30: 144 | Q30: Small Plastic | R30: 7318.14.1060 | S30: TW | T30: 4 X 38 | U30: 15-1
A31: =SUBTOTAL(3,$B$16:B31) -> 16 | B31: 696244100141 | C31: U08101500P | D31: Univ 8X1"1/2 Pail | E31: 750 | G31: 71.29 | H31: =(ROUND(G31*(1-$E$5)*(1-$G$5)*(1-$H$5),2)*F31) -> 0 | I31: 15 | J31: available | K31: 4.2299659 | L31: 7.0 x 6.0 x 3.5 | M31: 2 | N31: 12.5 x 7.5 x 4.375 | O31: 140 | P31: 70 | Q31: Pail Plastic | R31: 7318.14.1060 | S31: TW | T31: 4 X 38 | U31: 15-1
A32: =SUBTOTAL(3,$B$16:B32) -> 17 | B32: 696244100011 | C32: U08102000B | D32: Univ 8X2" Bulk | E32: 4500 | G32: 460.92 | H32: =(ROUND(G32*(1-$E$5)*(1-$G$5)*(1-$H$5),2)*F32) -> 0 | I32: 15 | J32: available | K32: 29.020921 | L32: 11.25 x 11.25 x 7.5 | O32: 36 | Q32: Bulk Plastic Yellow Lid | R32: 7318.14.1060 | S32: TW | T32: 4 X 51 | U32: 15-1
A33: =SUBTOTAL(3,$B$16:B33) -> 18 | B33: 696244100288 | C33: U08102000H | D33: Univ 8X2" Pkg | E33: 100 | G33: 12.8 | H33: =(ROUND(G33*(1-$E$5)*(1-$G$5)*(1-$H$5),2)*F33) -> 0 | I33: 15 | J33: available | K33: 0.92988714 | L33: 1.5 x 3.5 x 4.75 | M33: 6 | N33: 7.375 x 5.375 x 5.375 | O33: 864 | P33: 144 | Q33: Small Plastic | R33: 7318.14.1060 | S33: TW | T33: 4 X 51 | U33: 15-1
A34: =SUBTOTAL(3,$B$16:B34) -> 19 | B34: 696244100158 | C34: U08102000P | D34: Univ 8X2" Pail | E34: 630 | G34: 71.29 | H34: =(ROUND(G34*(1-$E$5)*(1-$G$5)*(1-$H$5),2)*F34) -> 0 | I34: 15 | J34: available | K34: 4.536189 | L34: 7.0 x 6.0 x 3.5 | M34: 2 | N34: 12.5 x 7.5 x 4.375 | O34: 140 | P34: 70 | Q34: Pail Plastic | R34: 7318.14.1060 | S34: TW | T34: 4 X 51 | U34: 15-1
A35: =SUBTOTAL(3,$B$16:B35) -> 20 | B35: 696244100028 | C35: U09101500B | D35: Univ 9X1"1/2 Bulk | E35: 5200 | G35: 510.2244 | H35: =(ROUND(G35*(1-$E$5)*(1-$G$5)*(1-$H$5),2)*F35) -> 0 | I35: 25 | J35: available | K35: 31.247598 | L35: 11.25 x 11.25 x 7.5 | O35: 36 | Q35: Bulk Plastic Yellow Lid | R35: 7318.14.1060 | S35: TW | T35: 4.5 X 38 | U35: 25-1
A36: =SUBTOTAL(3,$B$16:B36) -> 21 | B36: 696244100295 | C36: U09101500H | D36: Univ 9X1"1/2 Pkg | E36: 100 | G36: 12.2706 | H36: =(ROUND(G36*(1-$E$5)*(1-$G$5)*(1-$H$5),2)*F36) -> 0 | I36: 25 | J36: available | K36: 0.8902038 | L36: 1.5 x 3.5 x 4.75 | M36: 6 | N36: 7.375 x 5.375 x 5.375 | O36: 864 | P36: 144 | Q36: Small Plastic | R36: 7318.14.1060 | S36: TW | T36: 4.5 X 38 | U36: 25-1
A37: =SUBTOTAL(3,$B$16:B37) -> 22 | B37: 696244100165 | C37: U09101500P | D37: Univ 9X1"1/2 Pail | E37: 610 | G37: 72.7158 | H37: =(ROUND(G37*(1-$E$5)*(1-$G$5)*(1-$H$5),2)*F37) -> 0 | I37: 25 | J37: available | K37: 4.1715432 | L37: 7.0 x 6.0 x 3.5 | M37: 2 | N37: 12.5 x 7.5 x 4.375 | O37: 140 | P37: 70 | Q37: Pail Plastic | R37: 7318.14.1060 | S37: TW | T37: 4.5 X 38 | U37: 25-1
A38: =SUBTOTAL(3,$B$16:B38) -> 23 | B38: 696244100936 | C38: U09101750B | D38: Univ 9X1"3/4 Bulk | E38: 4500 | G38: 573.3726 | H38: =(ROUND(G38*(1-$E$5)*(1-$G$5)*(1-$H$5),2)*F38) -> 0 | I38: 25 | J38: available | K38: 32.790839 | L38: 11.25 x 11.25 x 7.5 | O38: 36 | Q38: Bulk Plastic Yellow Lid | R38: 7318.14.1060 | S38: TW | T38: 4.5 X 45 | U38: 15-1
A39: =SUBTOTAL(3,$B$16:B39) -> 24 | B39: 696244100950 | C39: U09101750H | D39: Univ 9X1"3/4 Pkg | E39: 100 | G39: 15.1164 | H39: =(ROUND(G39*(1-$E$5)*(1-$G$5)*(1-$H$5),2)*F39) -> 0 | I39: 15 | J39: available | K39: 1.0136631 | L39: 1.5 x 3.5 x 4.75 | M39: 6 | N39: 7.375 x 5.375 x 5.375 | O39: 864 | P39: 144 | Q39: Small Plastic | R39: 7318.14.1060 | S39: TW | T39: 4.5 X 45 | U39: 15-1
A40: =SUBTOTAL(3,$B$16:B40) -> 25 | B40: 696244100974 | C40: U09101750P | D40: Univ 9X1"3/4 Pail | E40: 542 | G40: 72.7158 | H40: =(ROUND(G40*(1-$E$5)*(1-$G$5)*(1-$H$5),2)*F40) -> 0 | I40: 15 | J40: available | K40: 4.4509139 | L40: 7.0 x 6.0 x 3.5 | M40: 2 | N40: 12.5 x 7.5 x 4.375 | O40: 140 | P40: 70 | Q40: Pail Plastic | R40: 7318.14.1060 | S40: TW | T40: 4.5 X 45 | U40: 15-1
A41: =SUBTOTAL(3,$B$16:B41) -> 26 | B41: 696244100035 | C41: U09102000B | D41: Univ 9X2" Bulk | E41: 3700 | G41: 452.9004 | H41: =(ROUND(G41*(1-$E$5)*(1-$G$5)*(1-$H$5),2)*F41) -> 0 | I41: 25 | J41: available | K41: 29.583102 | L41: 11.25 x 11.25 x 7.5 | O41: 36 | Q41: Bulk Plastic Yellow Lid | R41: 7318.14.1060 | S41: TW | T41: 4.5 X 51 | U41: 25-1
A42: =SUBTOTAL(3,$B$16:B42) -> 27 | B42: 696244100301 | C42: U09102000H | D42: Univ 9X2" Pkg | E42: 100 | G42: 15.3102 | H42: =(ROUND(G42*(1-$E$5)*(1-$G$5)*(1-$H$5),2)*F42) -> 0 | I42: 25 | J42: available | K42: 1.0775974 | L42: 1.5 x 3.5 x 4.75 | M42: 6 | N42: 7.375 x 5.375 x 5.375 | O42: 864 | P42: 144 | Q42: Small Plastic | R42: 7318.14.1060 | S42: TW | T42: 4.5 X 51 | U42: 25-1
A43: =SUBTOTAL(3,$B$16:B43) -> 28 | B43: 696244100172 | C43: U09102000P | D43: Univ 9X2" Pail | E43: 510 | G43: 72.7158 | H43: =(ROUND(G43*(1-$E$5)*(1-$G$5)*(1-$H$5),2)*F43) -> 0 | I43: 25 | J43: available | K43: 4.5540465 | L43: 7.0 x 6.0 x 3.5 | M43: 2 | N43: 12.5 x 7.5 x 4.375 | O43: 140 | P43: 70 | Q43: Pail Plastic | R43: 7318.14.1060 | S43: TW | T43: 4.5 X 51 | U43: 25-1
A44: =SUBTOTAL(3,$B$16:B44) -> 29 | B44: 696244100042 | C44: U09102500B | D44: Univ 9X2"1/2 Bulk | E44: 2600 | G44: 375.513 | H44: =(ROUND(G44*(1-$E$5)*(1-$G$5)*(1-$H$5),2)*F44) -> 0 | I44: 25 | J44: available | K44: 25.974123 | L44: 11.25 x 11.25 x 7.5 | O44: 36 | Q44: Bulk Plastic Yellow Lid | R44: 7318.14.1060 | S44: TW | T44: 4.5 X 63 | U44: 25-1
A45: =SUBTOTAL(3,$B$16:B45) -> 30 | B45: 696244100318 | C45: U09102500H | D45: Univ 9X2"1/2 Pkg | E45: 100 | G45: 18.054 | H45: =(ROUND(G45*(1-$E$5)*(1-$G$5)*(1-$H$5),2)*F45) -> 0 | I45: 25 | J45: available | K45: 1.3265816 | L45: 2.5 x 3.5 x 4.75 | M45: 6 | N45: 7.375 x 5.375 x 7.5 | O45: 648 | P45: 108 | Q45: Medium Plastic | R45: 7318.14.1060 | S45: TW | T45: 4.5 X 63 | U45: 25-1
A46: =SUBTOTAL(3,$B$16:B46) -> 31 | B46: 696244100189 | C46: U09102500P | D46: Univ 9X2"1/2 Pail | E46: 435 | G46: 72.7158 | H46: =(ROUND(G46*(1-$E$5)*(1-$G$5)*(1-$H$5),2)*F46) -> 0 | I46: 25 | J46: available | K46: 4.7795801 | L46: 7.0 x 6.0 x 3.5 | M46: 2 | N46: 12.5 x 7.5 x 4.375 | O46: 140 | P46: 70 | Q46: Pail Plastic | R46: 7318.14.1060 | S46: TW | T46: 4.5 X 63 | U46: 25-1
A47: =SUBTOTAL(3,$B$16:B47) -> 32 | B47: 696244100059 | C47: U09102750B | D47: Univ 9X2"3/4 Bulk | E47: 2000 | G47: 344.76 | H47: =(ROUND(G47*(1-$E$5)*(1-$G$5)*(1-$H$5),2)*F47) -> 0 | I47: 25 | J47: available | K47: 22.914096 | L47: 11.25 x 11.25 x 7.5 | O47: 36 | Q47: Bulk Plastic Yellow Lid | R47: 7318.14.1060 | S47: TW | T47: 4.5 X 70 | U47: 25-1
A48: =SUBTOTAL(3,$B$16:B48) -> 33 | B48: 696244100325 | C48: U09102750H | D48: Univ 9X2"3/4 Pkg | E48: 100 | G48: 21.5526 | H48: =(ROUND(G48*(1-$E$5)*(1-$G$5)*(1-$H$5),2)*F48) -> 0 | I48: 25 | J48: available | K48: 1.4566548 | L48: 2.5 x 3.5 x 4.75 | M48: 6 | N48: 7.375 x 5.375 x 7.5 | O48: 648 | P48: 108 | Q48: Medium Plastic | R48: 7318.14.1060 | S48: TW | T48: 4.5 X 70 | U48: 25-1
A49: =SUBTOTAL(3,$B$16:B49) -> 34 | B49: 696244100196 | C49: U09102750P | D49: Univ 9X2"3/4 Pail | E49: 365 | G49: 72.7158 | H49: =(ROUND(G49*(1-$E$5)*(1-$G$5)*(1-$H$5),2)*F49) -> 0 | I49: 25 | J49: available | K49: 4.5938401 | L49: 7.0 x 6.0 x 3.5 | M49: 2 | N49: 12.5 x 7.5 x 4.375 | O49: 140 | P49: 70 | Q49: Pail Plastic | R49: 7318.14.1060 | S49: TW | T49: 4.5 X 70 | U49: 25-1
A50: =SUBTOTAL(3,$B$16:B50) -> 35 | B50: 696244101117 | C50: U09103125B | D50: Univ 9X3"1/8 Bulk | E50: 1500 | G50: 247.2786 | H50: =(ROUND(G50*(1-$E$5)*(1-$G$5)*(1-$H$5),2)*F50) -> 0 | I50: 25 | J50: available | K50: 18.967808 | L50: 11.25 x 11.25 x 7.5 | O50: 36 | Q50: Bulk Plastic Yellow Lid | R50: 7318.14.1060 | S50: TW | T50: 4.5 X 78 | U50: 25-1
A51: =SUBTOTAL(3,$B$16:B51) -> 36 | B51: 696244101131 | C51: U09103125H | D51: Univ 9X3"1/8 Pkg | E51: 100 | G51: 22.6848 | H51: =(ROUND(G51*(1-$E$5)*(1-$G$5)*(1-$H$5),2)*F51) -> 0 | I51: 25 | J51: available | K51: 1.5514539 | L51: 2.5 x 3.5 x 4.75 | M51: 6 | N51: 7.375 x 5.375 x 7.5 | O51: 648 | P51: 108 | Q51: Medium Plastic | R51: 7318.14.1060 | S51: TW | T51: 4.5 X 78 | U51: 25-1
A52: =SUBTOTAL(3,$B$16:B52) -> 37 | B52: 696244101155 | C52: U09103125P | D52: Univ 9X3"1/8 Pail | E52: 330 | G52: 64.2192 | H52: =(ROUND(G52*(1-$E$5)*(1-$G$5)*(1-$H$5),2)*F52) -> 0 | I52: 25 | J52: available | K52: 4.5308979 | L52: 7.0 x 6.0 x 3.5 | M52: 2 | N52: 12.5 x 7.5 x 4.375 | O52: 140 | P52: 70 | Q52: Pail Plastic | R52: 7318.14.1060 | S52: TW | T52: 4.5 X 78 | U52: 25-1
A53: =SUBTOTAL(3,$B$16:B53) -> 38 | B53: 696244111550 | C53: U10101625B | D53: Univ 10X1"5/8 Bulk | E53: 2500 | G53: 400.9314 | H53: =(ROUND(G53*(1-$E$5)*(1-$G$5)*(1-$H$5),2)*F53) -> 0 | I53: 25 | J53: available | K53: 21.448017 | L53: 11.25 x 11.25 x 7.5 | O53: 36 | Q53: Bulk Plastic Yellow Lid | R53: 7318.14.1060 | S53: TW | T53: 5 X 41 | U53: 25-1
A54: =SUBTOTAL(3,$B$16:B54) -> 39 | B54: 696244111574 | C54: U10101625H | D54: Univ 10X1"5/8 Pkg | E54: 100 | G54: 18.1662 | H54: =(ROUND(G54*(1-$E$5)*(1-$G$5)*(1-$H$5),2)*F54) -> 0 | I54: 25 | J54: available | K54: 1.1172807 | L54: 1.5 x 3.5 x 4.75 | M54: 6 | N54: 7.375 x 5.375 x 5.375 | O54: 864 | P54: 144 | Q54: Small Plastic | R54: 7318.14.1060 | S54: TW | T54: 5 X 41 | U54: 25-1
A55: =SUBTOTAL(3,$B$16:B55) -> 40 | B55: 696244111598 | C55: U10101625P | D55: Univ 10X1"5/8 Pail | E55: 500 | G55: 80.376 | H55: =(ROUND(G55*(1-$E$5)*(1-$G$5)*(1-$H$5),2)*F55) -> 0 | I55: 25 | J55: available | K55: 4.6764034 | L55: 7.0 x 6.0 x 3.5 | M55: 2 | N55: 12.5 x 7.5 x 4.375 | O55: 140 | P55: 70 | Q55: Pail Plastic | R55: 7318.14.1060 | S55: TW | T55: 5 X 41 | U55: 25-1
A56: =SUBTOTAL(3,$B$16:B56) -> 41 | B56: 696244111857 | C56: U10102250B | D56: Univ 10X2"1/4 Bulk | E56: 2500 | G56: 522.6888 | H56: =(ROUND(G56*(1-$E$5)*(1-$G$5)*(1-$H$5),2)*F56) -> 0 | I56: 25 | J56: available | K56: 28.502833 | L56: 11.25 x 11.25 x 7.5 | O56: 36 | Q56: Bulk Plastic Yellow Lid | R56: 7318.14.1060 | S56: TW | T56: 5 X 57 | U56: 25-1
A57: =SUBTOTAL(3,$B$16:B57) -> 42 | B57: 696244111871 | C57: U10102250H | D57: Univ 10X2"1/4 Pkg | E57: 100 | G57: 23.6436 | H57: =(ROUND(G57*(1-$E$5)*(1-$G$5)*(1-$H$5),2)*F57) -> 0 | I57: 25 | J57: available | K57: 1.4654733 | L57: 2.5 x 3.5 x 4.75 | M57: 6 | N57: 7.375 x 5.375 x 7.5 | O57: 648 | P57: 108 | Q57: Medium Plastic | R57: 7318.14.1060 | S57: TW | T57: 5 X 57 | U57: 25-1
A58: =SUBTOTAL(3,$B$16:B58) -> 43 | B58: 696244111895 | C58: U10102250P | D58: Univ 10X2"1/4 Pail | E58: 500 | G58: 104.7234 | H58: =(ROUND(G58*(1-$E$5)*(1-$G$5)*(1-$H$5),2)*F58) -> 0 | I58: 25 | J58: available | K58: 6.0873666 | L58: 7.0 x 6.0 x 3.5 | M58: 2 | N58: 12.5 x 7.5 x 4.375 | O58: 140 | P58: 70 | Q58: Pail Plastic | R58: 7318.14.1060 | S58: TW | T58: 5 X 57 | U58: 25-1
A59: =SUBTOTAL(3,$B$16:B59) -> 44 | B59: 696244100073 | C59: U10102500B | D59: Univ 10X2"1/2 Bulk | E59: 2200 | G59: 395.0766 | H59: =(ROUND(G59*(1-$E$5)*(1-$G$5)*(1-$H$5),2)*F59) -> 0 | I59: 25 | J59: available | K59: 28.020019 | L59: 11.25 x 11.25 x 7.5 | O59: 36 | Q59: Bulk Plastic Yellow Lid | R59: 7318.14.1060 | S59: TW | T59: 5 X 63 | U59: 25-1
A60: =SUBTOTAL(3,$B$16:B60) -> 45 | B60: 696244100349 | C60: U10102500H | D60: Univ 10X2"1/2 Pkg | E60: 100 | G60: 22.4502 | H60: =(ROUND(G60*(1-$E$5)*(1-$G$5)*(1-$H$5),2)*F60) -> 0 | I60: 25 | J60: available | K60: 1.5911372 | L60: 2.5 x 3.5 x 4.75 | M60: 6 | N60: 7.375 x 5.375 x 7.5 | O60: 648 | P60: 108 | Q60: Medium Plastic | R60: 7318.14.1060 | S60: TW | T60: 5 X 63 | U60: 25-1
A61: =SUBTOTAL(3,$B$16:B61) -> 46 | B61: 696244100219 | C61: U10102500P | D61: Univ 10X2"1/2 Pail | E61: 350 | G61: 72.7158 | H61: =(ROUND(G61*(1-$E$5)*(1-$G$5)*(1-$H$5),2)*F61) -> 0 | I61: 25 | J61: available | K61: 4.9034803 | L61: 7.0 x 6.0 x 3.5 | M61: 2 | N61: 12.5 x 7.5 x 4.375 | O61: 140 | P61: 70 | Q61: Pail Plastic | R61: 7318.14.1060 | S61: TW | T61: 5 X 63 | U61: 25-1
A62: =SUBTOTAL(3,$B$16:B62) -> 47 | B62: 696244100080 | C62: U10102750B | D62: Univ 10X2"3/4 Bulk | E62: 2000 | G62: 409.428 | H62: =(ROUND(G62*(1-$E$5)*(1-$G$5)*(1-$H$5),2)*F62) -> 0 | I62: 25 | J62: available | K62: 27.587912 | L62: 11.25 x 11.25 x 7.5 | O62: 36 | Q62: Bulk Plastic Yellow Lid | R62: 7318.14.1060 | S62: TW | T62: 5 X 70 | U62: 25-1
A63: =SUBTOTAL(3,$B$16:B63) -> 48 | B63: 696244100356 | C63: U10102750H | D63: Univ 10X2"3/4 Pkg | E63: 100 | G63: 25.602 | H63: =(ROUND(G63*(1-$E$5)*(1-$G$5)*(1-$H$5),2)*F63) -> 0 | I63: 25 | J63: available | K63: 1.6903456 | L63: 2.5 x 3.5 x 4.75 | M63: 6 | N63: 7.375 x 5.375 x 7.5 | O63: 648 | P63: 108 | Q63: Medium Plastic | R63: 7318.14.1060 | S63: TW | T63: 5 X 70 | U63: 25-1
A64: =SUBTOTAL(3,$B$16:B64) -> 49 | B64: 696244100226 | C64: U10102750P | D64: Univ 10X2"3/4 Pail | E64: 295 | G64: 72.7158 | H64: =(ROUND(G64*(1-$E$5)*(1-$G$5)*(1-$H$5),2)*F64) -> 0 | I64: 25 | J64: available | K64: 4.5316695 | L64: 7.0 x 6.0 x 3.5 | M64: 2 | N64: 12.5 x 7.5 x 4.375 | O64: 140 | P64: 70 | Q64: Pail Plastic | R64: 7318.14.1060 | S64: TW | T64: 5 X 70 | U64: 25-1
A65: =SUBTOTAL(3,$B$16:B65) -> 50 | B65: 696244101261 | C65: U10103125B | D65: Univ 10X3"1/8 Bulk | E65: 1500 | G65: 296.0652 | H65: =(ROUND(G65*(1-$E$5)*(1-$G$5)*(1-$H$5),2)*F65) -> 0 | I65: 25 | J65: available | K65: 24.225851 | L65: 11.25 x 11.25 x 7.5 | O65: 36 | Q65: Bulk Plastic Yellow Lid | R65: 7318.14.1060 | S65: TW | T65: 5 X 78 | U65: 25-1
A66: =SUBTOTAL(3,$B$16:B66) -> 51 | B66: 696244101285 | C66: U10103125H | D66: Univ 10X3"1/8 Pkg | E66: 100 | G66: 27.336 | H66: =(ROUND(G66*(1-$E$5)*(1-$G$5)*(1-$H$5),2)*F66) -> 0 | I66: 25 | J66: available | K66: 1.9019901 | L66: 2.5 x 3.5 x 4.75 | M66: 6 | N66: 7.375 x 5.375 x 7.5 | O66: 648 | P66: 108 | Q66: Medium Plastic | R66: 7318.14.1060 | S66: TW | T66: 5 X 78 | U66: 25-1
A67: =SUBTOTAL(3,$B$16:B67) -> 52 | B67: 696244101308 | C67: U10103125P | D67: Univ 10X3"1/8 Pail | E67: 270 | G67: 64.2192 | H67: =(ROUND(G67*(1-$E$5)*(1-$G$5)*(1-$H$5),2)*F67) -> 0 | I67: 25 | J67: available | K67: 4.7762732 | L67: 7.0 x 6.0 x 3.5 | M67: 2 | N67: 12.5 x 7.5 x 4.375 | O67: 140 | P67: 70 | Q67: Pail Plastic | R67: 7318.14.1060 | S67: TW | T67: 5 X 78 | U67: 25-1
A68: =SUBTOTAL(3,$B$16:B68) -> 53 | B68: 696244100103 | C68: U10103500B | D68: Univ 10X3"1/2 Bulk | E68: 1200 | G68: 277.1136 | H68: =(ROUND(G68*(1-$E$5)*(1-$G$5)*(1-$H$5),2)*F68) -> 0 | I68: 25 | J68: available | K68: 21.256214 | L68: 11.25 x 11.25 x 7.5 | O68: 36 | Q68: Bulk Plastic Yellow Lid | R68: 7318.14.1060 | S68: TW | T68: 5 X 89 | U68: 25-1
A69: =SUBTOTAL(3,$B$16:B69) -> 54 | B69: 696244100370 | C69: U10103500H | D69: Univ 10X3"1/2 Pkg | E69: 50 | G69: 16.524 | H69: =(ROUND(G69*(1-$E$5)*(1-$G$5)*(1-$H$5),2)*F69) -> 0 | I69: 25 | J69: available | K69: 1.1426339 | L69: 1.5 x 3.5 x 4.75 | M69: 6 | N69: 7.375 x 5.375 x 5.375 | O69: 864 | P69: 144 | Q69: Small Plastic | R69: 7318.14.1060 | S69: TW | T69: 5 X 89 | U69: 25-1
A70: =SUBTOTAL(3,$B$16:B70) -> 55 | B70: 696244100240 | C70: U10103500P | D70: Univ 10X3"1/2 Pail | E70: 225 | G70: 64.2192 | H70: =(ROUND(G70*(1-$E$5)*(1-$G$5)*(1-$H$5),2)*F70) -> 0 | I70: 25 | J70: available | K70: 4.3903527 | L70: 7.0 x 6.0 x 3.5 | M70: 2 | N70: 12.5 x 7.5 x 4.375 | O70: 140 | P70: 70 | Q70: Pail Plastic | R70: 7318.14.1060 | S70: TW | T70: 5 X 89 | U70: 25-1
A71: =SUBTOTAL(3,$B$16:B71) -> 56 | B71: 696244100110 | C71: U10104000B | D71: Univ 10X4" Bulk | E71: 1000 | G71: 264.1188 | H71: =(ROUND(G71*(1-$E$5)*(1-$G$5)*(1-$H$5),2)*F71) -> 0 | I71: 25 | J71: available | K71: 20.290586 | L71: 11.25 x 11.25 x 7.5 | O71: 36 | Q71: Bulk Plastic Yellow Lid | R71: 7318.14.1060 | S71: TW | T71: 5 X 101 | U71: 25-1
A72: =SUBTOTAL(3,$B$16:B72) -> 57 | B72: 696244100387 | C72: U10104000H | D72: Univ 10X4" Pkg | E72: 50 | G72: 18.7272 | H72: =(ROUND(G72*(1-$E$5)*(1-$G$5)*(1-$H$5),2)*F72) -> 0 | I72: 25 | J72: available | K72: 1.2594793 | L72: 1.5 x 3.5 x 4.75 | M72: 6 | N72: 7.375 x 5.375 x 5.375 | O72: 864 | P72: 144 | Q72: Small Plastic | R72: 7318.14.1060 | S72: TW | T72: 5 X 101 | U72: 25-1
A73: =SUBTOTAL(3,$B$16:B73) -> 58 | B73: 696244100257 | C73: U10104000P | D73: Univ 10X4" Pail | E73: 200 | G73: 64.2192 | H73: =(ROUND(G73*(1-$E$5)*(1-$G$5)*(1-$H$5),2)*F73) -> 0 | I73: 25 | J73: available | K73: 4.4449173 | L73: 7.0 x 6.0 x 3.5 | M73: 2 | N73: 12.5 x 7.5 x 4.375 | O73: 140 | P73: 70 | Q73: Pail Plastic | R73: 7318.14.1060 | S73: TW | T73: 5 X 101 | U73: 25-1
A74: =SUBTOTAL(3,$B$16:B74) -> 59 | B74: 696244100127 | C74: U10104500B | D74: Univ 10X4"1/2 Bulk | E74: 800 | G74: 255.714 | H74: =(ROUND(G74*(1-$E$5)*(1-$G$5)*(1-$H$5),2)*F74) -> 0 | I74: 25 | J74: available | K74: 17.543618 | L74: 11.25 x 11.25 x 7.5 | O74: 36 | Q74: Bulk Plastic Yellow Lid | R74: 7318.14.1060 | S74: TW | T74: 5 X 114 | U74: 25-1
A75: =SUBTOTAL(3,$B$16:B75) -> 60 | B75: 696244100394 | C75: U10104500H | D75: Univ 10X4"1/2 Pkg | E75: 50 | G75: 21.8484 | H75: =(ROUND(G75*(1-$E$5)*(1-$G$5)*(1-$H$5),2)*F75) -> 0 | I75: 25 | J75: available | K75: 1.5614136 | L75: 2.5 x 3.5 x 9.75 | M75: 4 | N75: 10 x 7.375 x 5.5 | O75: 256 | P75: 64 | Q75: Large Plastic | R75: 7318.14.1060 | S75: TW | T75: 5 X 114 | U75: 25-1
A76: =SUBTOTAL(3,$B$16:B76) -> 61 | B76: 696244100264 | C76: U10104500P | D76: Univ 10X4"1/2 Pail | E76: 170 | G76: 64.2192 | H76: =(ROUND(G76*(1-$E$5)*(1-$G$5)*(1-$H$5),2)*F76) -> 0 | I76: 25 | J76: available | K76: 4.0968062 | L76: 7.0 x 6.0 x 3.5 | M76: 2 | N76: 12.5 x 7.5 x 4.375 | O76: 140 | P76: 70 | Q76: Pail Plastic | R76: 7318.14.1060 | S76: TW | T76: 5 X 114 | U76: 25-1
A77: =SUBTOTAL(3,$B$16:B77) -> 62 | B77: 696244111918 | C77: U12103500B | D77: Univ 12X3"1/2 Bulk | E77: 1200 | G77: 573.59 | H77: =(ROUND(G77*(1-$E$5)*(1-$G$5)*(1-$H$5),2)*F77) -> 0 | I77: 25 | J77: available | K77: 30.03946 | L77: 11.25 x 11.25 x 7.5 | O77: 36 | Q77: Bulk Plastic Yellow Lid | R77: 7318.14.1060 | S77: TW | T77: 6 X 89 | U77: 25-1
A78: =SUBTOTAL(3,$B$16:B78) -> 63 | B78: 696244111932 | C78: U12103500H | D78: Univ 12X3"1/2 Pkg | E78: 50 | G78: 28.85 | H78: =(ROUND(G78*(1-$E$5)*(1-$G$5)*(1-$H$5),2)*F78) -> 0 | I78: 25 | J78: available | K78: 1.5086025 | L78: 1.5 x 3.5 x 4.75 | M78: 6 | N78: 7.375 x 5.375 x 5.375 | O78: 864 | P78: 144 | Q78: Small Plastic | R78: 7318.14.1060 | S78: TW | T78: 6 X 89 | U78: 25-1
A79: =SUBTOTAL(3,$B$16:B79) -> 64 | B79: 696244111956 | C79: U12103500P | D79: Univ 12X3"1/2 Pail | E79: 125 | G79: 62.96 | H79: =(ROUND(G79*(1-$E$5)*(1-$G$5)*(1-$H$5),2)*F79) -> 0 | I79: 25 | J79: available | K79: 3.6540063 | L79: 7.0 x 6.0 x 3.5 | M79: 2 | N79: 12.5 x 7.5 x 4.375 | O79: 140 | P79: 70 | Q79: Pail Plastic | R79: 7318.14.1060 | S79: TW | T79: 6 X 89 | U79: 25-1
A80: =SUBTOTAL(3,$B$16:B80) -> 65 | B80: 696244111970 | C80: U12104000B | D80: Univ 12X4" Bulk | E80: 800 | G80: 408.51 | H80: =(ROUND(G80*(1-$E$5)*(1-$G$5)*(1-$H$5),2)*F80) -> 0 | I80: 25 | J80: available | K80: 22.71127 | L80: 11.25 x 11.25 x 7.5 | O80: 36 | Q80: Bulk Plastic Yellow Lid | R80: 7318.14.5080 | S80: TW | T80: 6 X 101 | U80: 25-2
A81: =SUBTOTAL(3,$B$16:B81) -> 66 | B81: 696244111994 | C81: U12104000H | D81: Univ 12X4" Pkg | E81: 50 | G81: 31.92 | H81: =(ROUND(G81*(1-$E$5)*(1-$G$5)*(1-$H$5),2)*F81) -> 0 | I81: 25 | J81: available | K81: 1.7123919 | L81: 2.5 x 3.5 x 4.75 | M81: 6 | N81: 7.375 x 5.375 x 7.5 | O81: 648 | P81: =O81/M81 -> 108 | Q81: Medium Plastic | R81: 7318.14.5080 | S81: TW | T81: 6 X 101 | U81: 25-3
A82: =SUBTOTAL(3,$B$16:B82) -> 67 | B82: 696244100585 | C82: U12105000B | D82: Univ 12X5" Bulk | E82: 500 | G82: 303.66 | H82: =(ROUND(G82*(1-$E$5)*(1-$G$5)*(1-$H$5),2)*F82) -> 0 | I82: 25 | J82: available | K82: 17.975725 | L82: 11.25 x 11.25 x 7.5 | O82: 36 | Q82: Bulk Plastic Yellow Lid | R82: 7318.14.5080 | S82: TW | T82: 6 X 127 | U82: 25-1
A83: =SUBTOTAL(3,$B$16:B83) -> 68 | B83: 696244100592 | C83: U12105000H | D83: Univ 12X5" Pkg | E83: 50 | G83: 39.58 | H83: =(ROUND(G83*(1-$E$5)*(1-$G$5)*(1-$H$5),2)*F83) -> 0 | I83: 25 | J83: available | K83: 2.2084725 | L83: 2.5 x 3.5 x 9.75 | M83: 4 | N83: 10 x 7.375 x 5.5 | O83: 256 | P83: 64 | Q83: Large Plastic | R83: 7318.14.5080 | S83: TW | T83: 6 X 127 | U83: 25-1
A84: =SUBTOTAL(3,$B$16:B84) -> 69 | B84: 696244100134 | C84: U12106000B | D84: Univ 12X6" Bulk | E84: 500 | G84: 395.95 | H84: =(ROUND(G84*(1-$E$5)*(1-$G$5)*(1-$H$5),2)*F84) -> 0 | I84: 25 | J84: available | K84: 21.855874 | L84: 11.25 x 11.25 x 7.5 | O84: 36 | Q84: Bulk Plastic Yellow Lid | R84: 7318.14.5080 | S84: TW | T84: 6 X 152 | U84: 25-1
A85: =SUBTOTAL(3,$B$16:B85) -> 70 | B85: 696244100400 | C85: U12106000H | D85: Univ 12X6" Pkg | E85: 50 | G85: 47.69 | H85: =(ROUND(G85*(1-$E$5)*(1-$G$5)*(1-$H$5),2)*F85) -> 0 | I85: 25 | J85: available | K85: 2.5964874 | L85: 2.5 x 3.5 x 9.75 | M85: 4 | N85: 10 x 7.375 x 5.5 | O85: 256 | P85: 64 | Q85: Large Plastic | R85: 7318.14.5080 | S85: TW | T85: 6 X 152 | U85: 25-1
A86: =SUBTOTAL(3,$B$16:B88) -> 73 | B86: 696244101704 | C86: U12106000I | D86: Univ 12X6" CLAMSHELL | E86: 10 | G86: 17.71 | H86: =(ROUND(G86*(1-$E$5)*(1-$G$5)*(1-$H$5),2)*F86) -> 0 | J86: available | K86: 0.41929748
A87: =SUBTOTAL(3,$B$16:B87) -> 72 | B87: 696244110478 | C87: U12107000B | D87: Univ 12X7" Bulk | E87: 300 | G87: 400.9 | H87: =(ROUND(G87*(1-$E$5)*(1-$G$5)*(1-$H$5),2)*F87) -> 0 | I87: 25 | J87: available | K87: 15.244188 | L87: 11.25 x 11.25 x 7.5 | R87: 7318.14.5080 | S87: TW | T87: 6 X 178 | U87: 25-1
A88: =SUBTOTAL(3,$B$16:B88) -> 73 | B88: 696244110492 | C88: U12107000H | D88: Univ 12X7" Pkg | E88: 40 | G88: 66.82 | H88: =(ROUND(G88*(1-$E$5)*(1-$G$5)*(1-$H$5),2)*F88) -> 0 | I88: 25 | J88: available | K88: 2.3954251 | L88: 2.5 x 3.5 x 9.75 | M88: 4 | N88: 10 x 7.375 x 5.5 | O88: 256 | P88: 64 | Q88: Large Plastic | R88: 7318.14.5080 | S88: TW | T88: 6 X 178 | U88: 25-1
A89: =SUBTOTAL(3,$B$16:B91) -> 76 | B89: 696244110508 | C89: U12107000I | D89: Univ 12X7" CLAMSHELL | E89: 10 | G89: 22.94 | H89: =(ROUND(G89*(1-$E$5)*(1-$G$5)*(1-$H$5),2)*F89) -> 0 | J89: available | K89: 0.47110628
A90: =SUBTOTAL(3,$B$16:B90) -> 75 | B90: 696244110591 | C90: U12108000B | D90: Univ 12X8" Bulk | E90: 300 | G90: 627.27 | H90: =(ROUND(G90*(1-$E$5)*(1-$G$5)*(1-$H$5),2)*F90) -> 0 | I90: 25 | J90: available | K90: 17.16883 | L90: 11.25 x 11.25 x 7.5 | R90: 7318.14.5080 | S90: TW | T90: 6 X 203 | U90: 25-1
A91: =SUBTOTAL(3,$B$16:B91) -> 76 | B91: 696244110614 | C91: U12108000H | D91: Univ 12X8" Pkg | E91: 40 | G91: 104.54 | H91: =(ROUND(G91*(1-$E$5)*(1-$G$5)*(1-$H$5),2)*F91) -> 0 | I91: 25 | J91: available | K91: 2.6520441 | L91: 2.5 x 3.5 x 9.75 | M91: 4 | N91: 10 x 7.375 x 5.5 | O91: 256 | P91: 64 | Q91: Large Plastic | R91: 7318.14.5080 | S91: TW | T91: 6 X 203 | U91: 25-1
A92: =SUBTOTAL(3,$B$16:B96) -> 81 | B92: 696244110621 | C92: U12108000I | D92: Univ 12X8" CLAMSHELL | E92: 10 | G92: 30.07 | H92: =(ROUND(G92*(1-$E$5)*(1-$G$5)*(1-$H$5),2)*F92) -> 0 | J92: available | K92: 0.53526101
A93: =SUBTOTAL(3,$B$16:B93) -> 78 | B93: 696244110713 | C93: U12110000B | D93: Univ 12X10" Bulk | E93: 300 | G93: 921.73 | H93: =(ROUND(G93*(1-$E$5)*(1-$G$5)*(1-$H$5),2)*F93) -> 0 | I93: 25 | J93: available | K93: 20.411659 | L93: 10.5 x 10.0 x 7.5 | R93: 7318.14.5080 | S93: TW | T93: 6 X 254 | U93: 25-1
A94: =SUBTOTAL(3,$B$16:B94) -> 79 | B94: 696244110737 | C94: U12110000H | D94: Univ 12X10" Pkg | E94: 40 | G94: 154.35 | H94: =(ROUND(G94*(1-$E$5)*(1-$G$5)*(1-$H$5),2)*F94) -> 0 | I94: 25 | J94: available | K94: 2.6177545 | L94: 7.25 x 12.5 x 4.3 | M94: 1 | Q94: Card Board Box | R94: 7318.14.5080 | S94: TW | T94: 6 X 254 | U94: 25-1
A95: =SUBTOTAL(3,$B$16:B97) -> 82 | B95: 696244110744 | C95: U12110000I | D95: Univ 12X10" CLAMSHELL | E95: 8 | G95: 37.52 | H95: =(ROUND(G95*(1-$E$5)*(1-$G$5)*(1-$H$5),2)*F95) -> 0 | J95: available | K95: 0.5323509
A96: =SUBTOTAL(3,$B$16:B96) -> 81 | B96: 696244110898 | C96: U12112000B | D96: Univ 12X12" Bulk | E96: 300 | G96: 1179.13 | H96: =(ROUND(G96*(1-$E$5)*(1-$G$5)*(1-$H$5),2)*F96) -> 0 | I96: 25 | J96: available | K96: 24.304487 | L96: 14.5 x 10.5 x 6.25 | R96: 7318.14.5080 | S96: TW | T96: 6 X 305 | U96: 25-1
A97: =SUBTOTAL(3,$B$16:B97) -> 82 | B97: 696244110911 | C97: U12112000H | D97: Univ 12X12" Pkg | E97: 40 | G97: 196.94 | H97: =(ROUND(G97*(1-$E$5)*(1-$G$5)*(1-$H$5),2)*F97) -> 0 | I97: 25 | J97: available | K97: 3.127465 | L97: 7.25 x 12.5 x 4.3 | M97: 1 | Q97: Card Board Box | R97: 7318.14.5080 | S97: TW | T97: 6 X 305 | U97: 25-1
A98: =SUBTOTAL(3,$B$16:B535) -> 520 | B98: 696244110928 | C98: U12112000I | D98: Univ 12X12" CLAMSHELL | E98: 8 | G98: 46.87 | H98: =(ROUND(G98*(1-$E$5)*(1-$G$5)*(1-$H$5),2)*F98) -> 0 | J98: available | K98: 0.63429299
A99: =SUBTOTAL(3,$B$16:B99) -> 84 | B99: U2 BLACK Universal
A100: =SUBTOTAL(3,$B$16:B100) -> 85 | B100: 696244112526 | C100: U10B02500B | D100: Univ 10X2"1/2 (blk) Bulk | E100: 2200 | G100: 395.0766 | H100: =(ROUND(G100*(1-$E$5)*(1-$G$5)*(1-$H$5),2)*F100) -> 0 | I100: 25 | J100: available | K100: 28.020019 | L100: 11.25 x 11.25 x 7.5 | O100: 36 | Q100: Bulk Plastic Yellow Lid | R100: 7318.14.1060 | S100: TW | T100: 5 X 63 | U100: 25-1
A101: =SUBTOTAL(3,$B$16:B101) -> 86 | B101: 696244112540 | C101: U10B02500H | D101: Univ 10X2"1/2 (blk) Pkg | E101: 100 | G101: 22.4502 | H101: =(ROUND(G101*(1-$E$5)*(1-$G$5)*(1-$H$5),2)*F101) -> 0 | I101: 25 | J101: available | K101: 1.5911372 | L101: 2.5 x 3.5 x 4.75 | M101: 6 | N101: 7.375 x 5.375 x 7.5 | O101: 648 | P101: 108 | Q101: Medium Plastic | R101: 7318.14.1060 | S101: TW | T101: 5 X 63 | U101: 25-1
A102: =SUBTOTAL(3,$B$16:B102) -> 87 | B102: 696244112564 | C102: U10B02500P | D102: Univ 10X2"1/2 (blk) Pail | E102: 350 | G102: 72.7158 | H102: =(ROUND(G102*(1-$E$5)*(1-$G$5)*(1-$H$5),2)*F102) -> 0 | I102: 25 | J102: available | K102: 4.9034803 | L102: 7.0 x 6.0 x 3.5 | M102: 2 | N102: 12.5 x 7.5 x 4.375 | O102: 140 | P102: 70 | Q102: Pail Plastic | R102: 7318.14.1060 | S102: TW | T102: 5 X 63 | U102: 25-1
A103: =SUBTOTAL(3,$B$16:B103) -> 88 | B103: 696244112595 | C103: U10B03125B | D103: Univ 10X3"1/8 (blk) Bulk | E103: 1500 | G103: 296.0652 | H103: =(ROUND(G103*(1-$E$5)*(1-$G$5)*(1-$H$5),2)*F103) -> 0 | I103: 25 | J103: available | K103: 24.225851 | L103: 11.25 x 11.25 x 7.5 | O103: 36 | Q103: Bulk Plastic Yellow Lid | R103: 7318.14.1060 | S103: TW | T103: 5 X 78 | U103: 25-1
A104: =SUBTOTAL(3,$B$16:B104) -> 89 | B104: 696244112618 | C104: U10B03125H | D104: Univ 10X3"1/8 (blk) Pkg | E104: 100 | G104: 27.336 | H104: =(ROUND(G104*(1-$E$5)*(1-$G$5)*(1-$H$5),2)*F104) -> 0 | I104: 25 | J104: available | K104: 1.9019901 | L104: 2.5 x 3.5 x 4.75 | M104: 6 | N104: 7.375 x 5.375 x 7.5 | O104: 648 | P104: 108 | Q104: Medium Plastic | R104: 7318.14.1060 | S104: TW | T104: 5 X 78 | U104: 25-1
...

Sheet CDN Price Index
A1: UNIVERSAL SCREW | M1: Discounts
B2: BULK | E2: Pail | H2: PACKAGE | M2: #1 | N2: 0
A3: SIZE | B3: STOCK CODE | C3: PCS | D3: MSRP | E3: STOCK CODE | F3: PCS | G3: MSRP | H3: STOCK CODE | I3: PCS | J3: MSRP | K3: CDN Pricing | M3: #2 | N3: 0
A4: 6 X 1/2" | B4: U06100500B | C4: =INDEX(CDN!E:E,MATCH($B:$B,CDN!$C:$C,0)) -> 16000 | D4: =ROUND(INDEX(CDN!G:G,MATCH('CDN Price Index'!B:B,CDN!C:C,0))*(1-$N$2)*(1-$N$3)*(1-$N$4),2) -> 695.61 | E4: U06100500P | F4: =INDEX(CDN!E:E,MATCH($E:$E,CDN!$C:$C,0)) -> 1600 | G4: =ROUND(INDEX(CDN!G:G,MATCH($E:$E,CDN!$C:$C,0))*(1-$N$2)*(1-$N$3)*(1-$N$4),2) -> 71.29 | H4: U06100500H | I4: =INDEX(CDN!E:E,MATCH($H:$H,CDN!$C:$C,0)) -> 100 | J4: =ROUND(INDEX(CDN!G:G,MATCH($H:$H,CDN!$C:$C,0))*(1-$N$2)*(1-$N$3)*(1-$N$4),2) -> 9.78 | M4: #3 | N4: 0
A5: 6 X 5/8" | B5: U06100625B | C5: =INDEX(CDN!E:E,MATCH(B:B,CDN!C:C,0)) -> 14000 | D5: =ROUND(INDEX(CDN!G:G,MATCH('CDN Price Index'!B:B,CDN!C:C,0))*(1-$N$2)*(1-$N$3)*(1-$N$4),2) -> 701.97 | E5: U06100625P | F5: =INDEX(CDN!E:E,MATCH($E:$E,CDN!$C:$C,0)) -> 1400 | G5: =ROUND(INDEX(CDN!G:G,MATCH($E:$E,CDN!$C:$C,0))*(1-$N$2)*(1-$N$3)*(1-$N$4),2) -> 71.29 | H5: U06100625H | I5: =INDEX(CDN!E:E,MATCH($H:$H,CDN!$C:$C,0)) -> 100 | J5: =ROUND(INDEX(CDN!G:G,MATCH($H:$H,CDN!$C:$C,0))*(1-$N$2)*(1-$N$3)*(1-$N$4),2) -> 10.1
A6: 6 X 1-1/2" | B6: U06101500B | C6: =INDEX(CDN!E:E,MATCH(B:B,CDN!C:C,0)) -> 8000 | D6: =ROUND(INDEX(CDN!G:G,MATCH('CDN Price Index'!B:B,CDN!C:C,0))*(1-$N$2)*(1-$N$3)*(1-$N$4),2) -> 584.41 | E6: U06101500P | F6: =INDEX(CDN!E:E,MATCH($E:$E,CDN!$C:$C,0)) -> 928 | G6: =ROUND(INDEX(CDN!G:G,MATCH($E:$E,CDN!$C:$C,0))*(1-$N$2)*(1-$N$3)*(1-$N$4),2) -> 71.29 | H6: U06101500H | I6: =INDEX(CDN!E:E,MATCH($H:$H,CDN!$C:$C,0)) -> 100 | J6: =ROUND(INDEX(CDN!G:G,MATCH($H:$H,CDN!$C:$C,0))*(1-$N$2)*(1-$N$3)*(1-$N$4),2) -> 10.5
A7: 8 X 1-1/4" | B7: U08101250B | C7: =INDEX(CDN!E:E,MATCH(B:B,CDN!C:C,0)) -> 10000 | D7: =ROUND(INDEX(CDN!G:G,MATCH('CDN Price Index'!B:B,CDN!C:C,0))*(1-$N$2)*(1-$N$3)*(1-$N$4),2) -> 850.83 | E7: U08101250P | F7: =INDEX(CDN!E:E,MATCH($E:$E,CDN!$C:$C,0)) -> 835 | G7: =ROUND(INDEX(CDN!G:G,MATCH($E:$E,CDN!$C:$C,0))*(1-$N$2)*(1-$N$3)*(1-$N$4),2) -> 71.29 | H7: U08101250H | I7: =INDEX(CDN!E:E,MATCH($H:$H,CDN!$C:$C,0)) -> 100 | J7: =ROUND(INDEX(CDN!G:G,MATCH($H:$H,CDN!$C:$C,0))*(1-$N$2)*(1-$N$3)*(1-$N$4),2) -> 10.73
A8: 8 X 1-1/2" | B8: U08101500B | C8: =INDEX(CDN!E:E,MATCH(B:B,CDN!C:C,0)) -> 6500 | D8: =ROUND(INDEX(CDN!G:G,MATCH('CDN Price Index'!B:B,CDN!C:C,0))*(1-$N$2)*(1-$N$3)*(1-$N$4),2) -> 592 | E8: U08101500P | F8: =INDEX(CDN!E:E,MATCH($E:$E,CDN!$C:$C,0)) -> 750 | G8: =ROUND(INDEX(CDN!G:G,MATCH($E:$E,CDN!$C:$C,0))*(1-$N$2)*(1-$N$3)*(1-$N$4),2) -> 71.29 | H8: U08101500H | I8: =INDEX(CDN!E:E,MATCH($H:$H,CDN!$C:$C,0)) -> 100 | J8: =ROUND(INDEX(CDN!G:G,MATCH($H:$H,CDN!$C:$C,0))*(1-$N$2)*(1-$N$3)*(1-$N$4),2) -> 11.38
A9: 8 X 2" | B9: U08102000B | C9: =INDEX(CDN!E:E,MATCH(B:B,CDN!C:C,0)) -> 4500 | D9: =ROUND(INDEX(CDN!G:G,MATCH('CDN Price Index'!B:B,CDN!C:C,0))*(1-$N$2)*(1-$N$3)*(1-$N$4),2) -> 460.92 | E9: U08102000P | F9: =INDEX(CDN!E:E,MATCH($E:$E,CDN!$C:$C,0)) -> 630 | G9: =ROUND(INDEX(CDN!G:G,MATCH($E:$E,CDN!$C:$C,0))*(1-$N$2)*(1-$N$3)*(1-$N$4),2) -> 71.29 | H9: U08102000H | I9: =INDEX(CDN!E:E,MATCH($H:$H,CDN!$C:$C,0)) -> 100 | J9: =ROUND(INDEX(CDN!G:G,MATCH($H:$H,CDN!$C:$C,0))*(1-$N$2)*(1-$N$3)*(1-$N$4),2) -> 12.8
A10: 9 X 1-1/2" | B10: U09101500B | C10: =INDEX(CDN!E:E,MATCH(B:B,CDN!C:C,0)) -> 5200 | D10: =ROUND(INDEX(CDN!G:G,MATCH('CDN Price Index'!B:B,CDN!C:C,0))*(1-$N$2)*(1-$N$3)*(1-$N$4),2) -> 510.22 | E10: U09101500P | F10: =INDEX(CDN!E:E,MATCH($E:$E,CDN!$C:$C,0)) -> 610 | G10: =ROUND(INDEX(CDN!G:G,MATCH($E:$E,CDN!$C:$C,0))*(1-$N$2)*(1-$N$3)*(1-$N$4),2) -> 72.72 | H10: U09101500H | I10: =INDEX(CDN!E:E,MATCH($H:$H,CDN!$C:$C,0)) -> 100 | J10: =ROUND(INDEX(CDN!G:G,MATCH($H:$H,CDN!$C:$C,0))*(1-$N$2)*(1-$N$3)*(1-$N$4),2) -> 12.27
A11: 9 X 1-3/4 | B11: U09101750B | C11: =INDEX(CDN!E:E,MATCH(B:B,CDN!C:C,0)) -> 4500 | D11: =ROUND(INDEX(CDN!G:G,MATCH('CDN Price Index'!B:B,CDN!C:C,0))*(1-$N$2)*(1-$N$3)*(1-$N$4),2) -> 573.37 | E11: U09101750P | F11: =INDEX(CDN!E:E,MATCH($E:$E,CDN!$C:$C,0)) -> 542 | G11: =ROUND(INDEX(CDN!G:G,MATCH($E:$E,CDN!$C:$C,0))*(1-$N$2)*(1-$N$3)*(1-$N$4),2) -> 72.72 | H11: U09101750H | I11: =INDEX(CDN!E:E,MATCH($H:$H,CDN!$C:$C,0)) -> 100 | J11: =ROUND(INDEX(CDN!G:G,MATCH($H:$H,CDN!$C:$C,0))*(1-$N$2)*(1-$N$3)*(1-$N$4),2) -> 15.12
A12: 9 X 2" | B12: U09102000B | C12: =INDEX(CDN!E:E,MATCH(B:B,CDN!C:C,0)) -> 3700 | D12: =ROUND(INDEX(CDN!G:G,MATCH('CDN Price Index'!B:B,CDN!C:C,0))*(1-$N$2)*(1-$N$3)*(1-$N$4),2) -> 452.9 | E12: U09102000P | F12: =INDEX(CDN!E:E,MATCH($E:$E,CDN!$C:$C,0)) -> 510 | G12: =ROUND(INDEX(CDN!G:G,MATCH($E:$E,CDN!$C:$C,0))*(1-$N$2)*(1-$N$3)*(1-$N$4),2) -> 72.72 | H12: U09102000H | I12: =INDEX(CDN!E:E,MATCH($H:$H,CDN!$C:$C,0)) -> 100 | J12: =ROUND(INDEX(CDN!G:G,MATCH($H:$H,CDN!$C:$C,0))*(1-$N$2)*(1-$N$3)*(1-$N$4),2) -> 15.31
A13: 9 X 2-1/2" | B13: U09102500B | C13: =INDEX(CDN!E:E,MATCH(B:B,CDN!C:C,0)) -> 2600 | D13: =ROUND(INDEX(CDN!G:G,MATCH('CDN Price Index'!B:B,CDN!C:C,0))*(1-$N$2)*(1-$N$3)*(1-$N$4),2) -> 375.51 | E13: U09102500P | F13: =INDEX(CDN!E:E,MATCH($E:$E,CDN!$C:$C,0)) -> 435 | G13: =ROUND(INDEX(CDN!G:G,MATCH($E:$E,CDN!$C:$C,0))*(1-$N$2)*(1-$N$3)*(1-$N$4),2) -> 72.72 | H13: U09102500H | I13: =INDEX(CDN!E:E,MATCH($H:$H,CDN!$C:$C,0)) -> 100 | J13: =ROUND(INDEX(CDN!G:G,MATCH($H:$H,CDN!$C:$C,0))*(1-$N$2)*(1-$N$3)*(1-$N$4),2) -> 18.05
A14: 9 X 2-3/4" | B14: U09102750B | C14: =INDEX(CDN!E:E,MATCH(B:B,CDN!C:C,0)) -> 2000 | D14: =ROUND(INDEX(CDN!G:G,MATCH('CDN Price Index'!B:B,CDN!C:C,0))*(1-$N$2)*(1-$N$3)*(1-$N$4),2) -> 344.76 | E14: U09102750P | F14: =INDEX(CDN!E:E,MATCH($E:$E,CDN!$C:$C,0)) -> 365 | G14: =ROUND(INDEX(CDN!G:G,MATCH($E:$E,CDN!$C:$C,0))*(1-$N$2)*(1-$N$3)*(1-$N$4),2) -> 72.72 | H14: U09102750H | I14: =INDEX(CDN!E:E,MATCH($H:$H,CDN!$C:$C,0)) -> 100 | J14: =ROUND(INDEX(CDN!G:G,MATCH($H:$H,CDN!$C:$C,0))*(1-$N$2)*(1-$N$3)*(1-$N$4),2) -> 21.55
A15: 9 X 3-1/8" | B15: U09103125B | C15: =INDEX(CDN!E:E,MATCH(B:B,CDN!C:C,0)) -> 1500 | D15: =ROUND(INDEX(CDN!G:G,MATCH('CDN Price Index'!B:B,CDN!C:C,0))*(1-$N$2)*(1-$N$3)*(1-$N$4),2) -> 247.28 | E15: U09103125P | F15: =INDEX(CDN!E:E,MATCH($E:$E,CDN!$C:$C,0)) -> 330 | G15: =ROUND(INDEX(CDN!G:G,MATCH($E:$E,CDN!$C:$C,0))*(1-$N$2)*(1-$N$3)*(1-$N$4),2) -> 64.22 | H15: U09103125H | I15: =INDEX(CDN!E:E,MATCH($H:$H,CDN!$C:$C,0)) -> 100 | J15: =ROUND(INDEX(CDN!G:G,MATCH($H:$H,CDN!$C:$C,0))*(1-$N$2)*(1-$N$3)*(1-$N$4),2) -> 22.68
A16: 10 X 1-5/8" | B16: U10101625B | C16: =INDEX(CDN!E:E,MATCH(B:B,CDN!C:C,0)) -> 2500 | D16: =ROUND(INDEX(CDN!G:G,MATCH('CDN Price Index'!B:B,CDN!C:C,0))*(1-$N$2)*(1-$N$3)*(1-$N$4),2) -> 400.93 | E16: U10101625P | F16: =INDEX(CDN!E:E,MATCH($E:$E,CDN!$C:$C,0)) -> 500 | G16: =ROUND(INDEX(CDN!G:G,MATCH($E:$E,CDN!$C:$C,0))*(1-$N$2)*(1-$N$3)*(1-$N$4),2) -> 80.38 | H16: U10101625H | I16: =INDEX(CDN!E:E,MATCH($H:$H,CDN!$C:$C,0)) -> 100 | J16: =ROUND(INDEX(CDN!G:G,MATCH($H:$H,CDN!$C:$C,0))*(1-$N$2)*(1-$N$3)*(1-$N$4),2) -> 18.17
... A24: 12 X 3-1/2" | B24: U12103500B | C24: =INDEX(CDN!E:E,MATCH(B:B,CDN!C:C,0)) -> 1200 | D24: =ROUND(INDEX(CDN!G:G,MATCH('CDN Price Index'!B:B,CDN!C:C,0))*(1-$N$2)*(1-$N$3)*(1-$N$4),2) -> 573.59 | E24: U12103500P | F24: =INDEX(CDN!E:E,MATCH($E:$E,CDN!$C:$C,0)) -> 125 | G24: =ROUND(INDEX(CDN!G:G,MATCH($E:$E,CDN!$C:$C,0))*(1-$N$2)*(1-$N$3)*(1-$N$4),2) -> 62.96 | H24: U12103500H | I24: =INDEX(CDN!E:E,MATCH($H:$H,CDN!$C:$C,0)) -> 50 | J24: =ROUND(INDEX(CDN!G:G,MATCH($H:$H,CDN!$C:$C,0))*(1-$N$2)*(1-$N$3)*(1-$N$4),2) -> 28.85
A25: 12 X 4" | B25: U12104000B | C25: =INDEX(CDN!E:E,MATCH(B:B,CDN!C:C,0)) -> 800 | D25: =ROUND(INDEX(CDN!G:G,MATCH('CDN Price Index'!B:B,CDN!C:C,0))*(1-$N$2)*(1-$N$3)*(1-$N$4),2) -> 408.51 | H25: U12104000H | I25: =INDEX(CDN!E:E,MATCH($H:$H,CDN!$C:$C,0)) -> 50 | J25: =ROUND(INDEX(CDN!G:G,MATCH($H:$H,CDN!$C:$C,0))*(1-$N$2)*(1-$N$3)*(1-$N$4),2) -> 31.92
A26: 12 X 5" | B26: U12105000B | C26: =INDEX(CDN!E:E,MATCH(B:B,CDN!C:C,0)) -> 500 | D26: =ROUND(INDEX(CDN!G:G,MATCH('CDN Price Index'!B:B,CDN!C:C,0))*(1-$N$2)*(1-$N$3)*(1-$N$4),2) -> 303.66 | H26: U12105000H | I26: =INDEX(CDN!E:E,MATCH($H:$H,CDN!$C:$C,0)) -> 50 | J26: =ROUND(INDEX(CDN!G:G,MATCH($H:$H,CDN!$C:$C,0))*(1-$N$2)*(1-$N$3)*(1-$N$4),2) -> 39.58
A27: 12 X 6" | B27: U12106000B | C27: =INDEX(CDN!E:E,MATCH(B:B,CDN!C:C,0)) -> 500 | D27: =ROUND(INDEX(CDN!G:G,MATCH('CDN Price Index'!B:B,CDN!C:C,0))*(1-$N$2)*(1-$N$3)*(1-$N$4),2) -> 395.95 | H27: U12106000H | I27: =INDEX(CDN!E:E,MATCH($H:$H,CDN!$C:$C,0)) -> 50 | J27: =ROUND(INDEX(CDN!G:G,MATCH($H:$H,CDN!$C:$C,0))*(1-$N$2)*(1-$N$3)*(1-$N$4),2) -> 47.69
A28: 12 X 7" | B28: U12107000B | C28: =INDEX(CDN!E:E,MATCH(B:B,CDN!C:C,0)) -> 300 | D28: =ROUND(INDEX(CDN!G:G,MATCH('CDN Price Index'!B:B,CDN!C:C,0))*(1-$N$2)*(1-$N$3)*(1-$N$4),2) -> 400.9 | H28: U12107000H | I28: =INDEX(CDN!E:E,MATCH($H:$H,CDN!$C:$C,0)) -> 40 | J28: =ROUND(INDEX(CDN!G:G,MATCH($H:$H,CDN!$C:$C,0))*(1-$N$2)*(1-$N$3)*(1-$N$4),2) -> 66.82
A29: 12 X 8" | B29: U12108000B | C29: =INDEX(CDN!E:E,MATCH(B:B,CDN!C:C,0)) -> 300 | D29: =ROUND(INDEX(CDN!G:G,MATCH('CDN Price Index'!B:B,CDN!C:C,0))*(1-$N$2)*(1-$N$3)*(1-$N$4),2) -> 627.27 | H29: U12108000H | I29: =INDEX(CDN!E:E,MATCH($H:$H,CDN!$C:$C,0)) -> 40 | J29: =ROUND(INDEX(CDN!G:G,MATCH($H:$H,CDN!$C:$C,0))*(1-$N$2)*(1-$N$3)*(1-$N$4),2) -> 104.54
A30: 12 X 10" | B30: U12110000B | C30: =INDEX(CDN!E:E,MATCH(B:B,CDN!C:C,0)) -> 300 | D30: =ROUND(INDEX(CDN!G:G,MATCH('CDN Price Index'!B:B,CDN!C:C,0))*(1-$N$2)*(1-$N$3)*(1-$N$4),2) -> 921.73 | H30: U12110000H | I30: =INDEX(CDN!E:E,MATCH($H:$H,CDN!$C:$C,0)) -> 40 | J30: =ROUND(INDEX(CDN!G:G,MATCH($H:$H,CDN!$C:$C,0))*(1-$N$2)*(1-$N$3)*(1-$N$4),2) -> 154.35
A31: 12 X 12" | B31: U12112000B | C31: =INDEX(CDN!E:E,MATCH(B:B,CDN!C:C,0)) -> 300 | D31: =ROUND(INDEX(CDN!G:G,MATCH('CDN Price Index'!B:B,CDN!C:C,0))*(1-$N$2)*(1-$N$3)*(1-$N$4),2) -> 1179.13 | H31: U12112000H | I31: =INDEX(CDN!E:E,MATCH($H:$H,CDN!$C:$C,0)) -> 40 | J31: =ROUND(INDEX(CDN!G:G,MATCH($H:$H,CDN!$C:$C,0))*(1-$N$2)*(1-$N$3)*(1-$N$4),2) -> 196.94
A32: BLACK UNIVERSAL SCREW
B33: BULK | E33: Pail | H33: PACKAGE
A34: SIZE | B34: STOCK CODE | C34: PCS | D34: MSRP | E34: STOCK CODE | F34: PCS | G34: MSRP | H34: STOCK CODE | I34: PCS | J34: MSRP
A35: 10 X 2-1/2" BK | B35: U10B02500B | C35: =INDEX(CDN!E:E,MATCH(B:B,CDN!C:C,0)) -> 2200 | D35: =ROUND(INDEX(CDN!G:G,MATCH('CDN Price Index'!B:B,CDN!C:C,0))*(1-$N$2)*(1-$N$3)*(1-$N$4),2) -> 395.08 | E35: U10B02500P | F35: =INDEX(CDN!E:E,MATCH($E:$E,CDN!$C:$C,0)) -> 350 | G35: =ROUND(INDEX(CDN!G:G,MATCH($E:$E,CDN!$C:$C,0))*(1-$N$2)*(1-$N$3)*(1-$N$4),2) -> 72.72 | H35: U10B02500H | I35: =INDEX(CDN!E:E,MATCH($H:$H,CDN!$C:$C,0)) -> 100 | J35: =ROUND(INDEX(CDN!G:G,MATCH($H:$H,CDN!$C:$C,0))*(1-$N$2)*(1-$N$3)*(1-$N$4),2) -> 22.45
A36: 10 X 3-1/8" BK | B36: U10B03125B | C36: =INDEX(CDN!E:E,MATCH(B:B,CDN!C:C,0)) -> 1500 | D36: =ROUND(INDEX(CDN!G:G,MATCH('CDN Price Index'!B:B,CDN!C:C,0))*(1-$N$2)*(1-$N$3)*(1-$N$4),2) -> 296.07 | E36: U10B03125P | F36: =INDEX(CDN!E:E,MATCH($E:$E,CDN!$C:$C,0)) -> 270 | G36: =ROUND(INDEX(CDN!G:G,MATCH($E:$E,CDN!$C:$C,0))*(1-$N$2)*(1-$N$3)*(1-$N$4),2) -> 64.22 | H36: U10B03125H | I36: =INDEX(CDN!E:E,MATCH($H:$H,CDN!$C:$C,0)) -> 100 | J36: =ROUND(INDEX(CDN!G:G,MATCH($H:$H,CDN!$C:$C,0))*(1-$N$2)*(1-$N$3)*(1-$N$4),2) -> 27.34
A38: UNIVERSAL SCREW (STAINLESS 316)
B39: BULK | E39: Pail | H39: PACKAGE
A40: SIZE | B40: STOCK CODE | C40: PCS | D40: MSRP | E40: STOCK CODE | F40: PCS | G40: MSRP | H40: STOCK CODE | I40: PCS | J40: MSRP
A41: 8 X 1-1/4" | B41: H08101250B | C41: =INDEX(CDN!E:E,MATCH(B:B,CDN!C:C,0)) -> 10000 | D41: =ROUND(INDEX(CDN!G:G,MATCH('CDN Price Index'!B:B,CDN!C:C,0))*(1-$N$2)*(1-$N$3)*(1-$N$4),2) -> 2250.98 | E41: H08101250P | F41: =INDEX(CDN!E:E,MATCH($E:$E,CDN!$C:$C,0)) -> 680 | G41: =ROUND(INDEX(CDN!G:G,MATCH($E:$E,CDN!$C:$C,0))*(1-$N$2)*(1-$N$3)*(1-$N$4),2) -> 169.95 | H41: H08101250H | I41: =INDEX(CDN!E:E,MATCH($H:$H,CDN!$C:$C,0)) -> 100 | J41: =ROUND(INDEX(CDN!G:G,MATCH($H:$H,CDN!$C:$C,0))*(1-$N$2)*(1-$N$3)*(1-$N$4),2) -> 28.14
A42: 8 X 1-1/2" | B42: H08101500B | C42: =INDEX(CDN!E:E,MATCH(B:B,CDN!C:C,0)) -> 6500 | D42: =ROUND(INDEX(CDN!G:G,MATCH('CDN Price Index'!B:B,CDN!C:C,0))*(1-$N$2)*(1-$N$3)*(1-$N$4),2) -> 1530.8 | E42: H08101500P | F42: =INDEX(CDN!E:E,MATCH($E:$E,CDN!$C:$C,0)) -> 620 | G42: =ROUND(INDEX(CDN!G:G,MATCH($E:$E,CDN!$C:$C,0))*(1-$N$2)*(1-$N$3)*(1-$N$4),2) -> 169.95 | H42: H08101500H | I42: =INDEX(CDN!E:E,MATCH($H:$H,CDN!$C:$C,0)) -> 100 | J42: =ROUND(INDEX(CDN!G:G,MATCH($H:$H,CDN!$C:$C,0))*(1-$N$2)*(1-$N$3)*(1-$N$4),2) -> 29.43
A43: 8 X 1-3/4" | B43: H08101750B | C43: =INDEX(CDN!E:E,MATCH(B:B,CDN!C:C,0)) -> 5000 | D43: =ROUND(INDEX(CDN!G:G,MATCH('CDN Price Index'!B:B,CDN!C:C,0))*(1-$N$2)*(1-$N$3)*(1-$N$4),2) -> 1545.73 | E43: H08101750P | F43: =INDEX(CDN!E:E,MATCH($E:$E,CDN!$C:$C,0)) -> 548 | G43: =ROUND(INDEX(CDN!G:G,MATCH($E:$E,CDN!$C:$C,0))*(1-$N$2)*(1-$N$3)*(1-$N$4),2) -> 169.95 | H43: H08101750H | I43: =INDEX(CDN!E:E,MATCH($H:$H,CDN!$C:$C,0)) -> 100 | J43: =ROUND(INDEX(CDN!G:G,MATCH($H:$H,CDN!$C:$C,0))*(1-$N$2)*(1-$N$3)*(1-$N$4),2) -> 35.21
A44: 9 X 1-1/2" | B44: H09101500B | C44: =INDEX(CDN!E:E,MATCH(B:B,CDN!C:C,0)) -> 5000 | D44: =ROUND(INDEX(CDN!G:G,MATCH('CDN Price Index'!B:B,CDN!C:C,0))*(1-$N$2)*(1-$N$3)*(1-$N$4),2) -> 1620.08 | E44: H09101500P | F44: =INDEX(CDN!E:E,MATCH($E:$E,CDN!$C:$C,0)) -> 545 | G44: =ROUND(INDEX(CDN!G:G,MATCH($E:$E,CDN!$C:$C,0))*(1-$N$2)*(1-$N$3)*(1-$N$4),2) -> 169.95 | H44: H09101500H | I44: =INDEX(CDN!E:E,MATCH($H:$H,CDN!$C:$C,0)) -> 100 | J44: =ROUND(INDEX(CDN!G:G,MATCH($H:$H,CDN!$C:$C,0))*(1-$N$2)*(1-$N$3)*(1-$N$4),2) -> 33.69
A45: 9 X 2" | B45: H09102000B | C45: =INDEX(CDN!E:E,MATCH(B:B,CDN!C:C,0)) -> 3700 | D45: =ROUND(INDEX(CDN!G:G,MATCH('CDN Price Index'!B:B,CDN!C:C,0))*(1-$N$2)*(1-$N$3)*(1-$N$4),2) -> 1327.5 | E45: H09102000P | F45: =INDEX(CDN!E:E,MATCH($E:$E,CDN!$C:$C,0)) -> 460 | G45: =ROUND(INDEX(CDN!G:G,MATCH($E:$E,CDN!$C:$C,0))*(1-$N$2)*(1-$N$3)*(1-$N$4),2) -> 169.95 | H45: H09102000H | I45: =INDEX(CDN!E:E,MATCH($H:$H,CDN!$C:$C,0)) -> 100 | J45: =ROUND(INDEX(CDN!G:G,MATCH($H:$H,CDN!$C:$C,0))*(1-$N$2)*(1-$N$3)*(1-$N$4),2) -> 41.23
A46: 10 X 2-1/2" | B46: H10102500B | C46: =INDEX(CDN!E:E,MATCH(B:B,CDN!C:C,0)) -> 2200 | D46: =ROUND(INDEX(CDN!G:G,MATCH('CDN Price Index'!B:B,CDN!C:C,0))*(1-$N$2)*(1-$N$3)*(1-$N$4),2) -> 946.67 | E46: H10102500P | F46: =INDEX(CDN!E:E,MATCH($E:$E,CDN!$C:$C,0)) -> 295 | G46: =ROUND(INDEX(CDN!G:G,MATCH($E:$E,CDN!$C:$C,0))*(1-$N$2)*(1-$N$3)*(1-$N$4),2) -> 169.95 | H46: H10102500H | I46: =INDEX(CDN!E:E,MATCH($H:$H,CDN!$C:$C,0)) -> 100 | J46: =ROUND(INDEX(CDN!G:G,MATCH($H:$H,CDN!$C:$C,0))*(1-$N$2)*(1-$N$3)*(1-$N$4),2) -> 62.09
A47: 10 X 2-3/4" | B47: H10102750B | C47: =INDEX(CDN!E:E,MATCH(B:B,CDN!C:C,0)) -> 2000 | D47: =ROUND(INDEX(CDN!G:G,MATCH('CDN Price Index'!B:B,CDN!C:C,0))*(1-$N$2)*(1-$N$3)*(1-$N$4),2) -> 1103.8 | E47: H10102750P | F47: =INDEX(CDN!E:E,MATCH($E:$E,CDN!$C:$C,0)) -> 250 | G47: =ROUND(INDEX(CDN!G:G,MATCH($E:$E,CDN!$C:$C,0))*(1-$N$2)*(1-$N$3)*(1-$N$4),2) -> 169.95 | H47: H10102750H | I47: =INDEX(CDN!E:E,MATCH($H:$H,CDN!$C:$C,0)) -> 100 | J47: =ROUND(INDEX(CDN!G:G,MATCH($H:$H,CDN!$C:$C,0))*(1-$N$2)*(1-$N$3)*(1-$N$4),2) -> 72.82
A48: 10 X 3" | B48: H10103000B | C48: =INDEX(CDN!E:E,MATCH(B:B,CDN!C:C,0)) -> 1500 | D48: =ROUND(INDEX(CDN!G:G,MATCH('CDN Price Index'!B:B,CDN!C:C,0))*(1-$N$2)*(1-$N$3)*(1-$N$4),2) -> 919.5 | E48: H10103000P | F48: =INDEX(CDN!E:E,MATCH($E:$E,CDN!$C:$C,0)) -> 210 | G48: =ROUND(INDEX(CDN!G:G,MATCH($E:$E,CDN!$C:$C,0))*(1-$N$2)*(1-$N$3)*(1-$N$4),2) -> 169.95 | H48: H10103000H | I48: =INDEX(CDN!E:E,MATCH($H:$H,CDN!$C:$C,0)) -> 100 | J48: =ROUND(INDEX(CDN!G:G,MATCH($H:$H,CDN!$C:$C,0))*(1-$N$2)*(1-$N$3)*(1-$N$4),2) -> 88.55
A49: 10 X 4" | B49: H10104000B | C49: =INDEX(CDN!E:E,MATCH(B:B,CDN!C:C,0)) -> 1000 | D49: =ROUND(INDEX(CDN!G:G,MATCH('CDN Price Index'!B:B,CDN!C:C,0))*(1-$N$2)*(1-$N$3)*(1-$N$4),2) -> 788.71 | E49: H10104000P | F49: =INDEX(CDN!E:E,MATCH($E:$E,CDN!$C:$C,0)) -> 165 | G49: =ROUND(INDEX(CDN!G:G,MATCH($E:$E,CDN!$C:$C,0))*(1-$N$2)*(1-$N$3)*(1-$N$4),2) -> 169.95 | H49: H10104000H | I49: =INDEX(CDN!E:E,MATCH($H:$H,CDN!$C:$C,0)) -> 50 | J49: =ROUND(INDEX(CDN!G:G,MATCH($H:$H,CDN!$C:$C,0))*(1-$N$2)*(1-$N$3)*(1-$N$4),2) -> 56.34
A50: CONSTRUCTION SCREW
B51: BULK | E51: Pail | H51: PACKAGE
A52: SIZE | B52: STOCK CODE | C52: PCS | D52: MSRP | E52: STOCK CODE | F52: PCS | G52: MSRP | H52: STOCK CODE | I52: PCS | J52: MSRP
A53: 10 X 1-1/2" | B53: S10101500B | C53: =INDEX(CDN!E:E,MATCH(B:B,CDN!C:C,0)) -> 2300 | D53: =ROUND(INDEX(CDN!G:G,MATCH('CDN Price Index'!B:B,CDN!C:C,0))*(1-$N$2)*(1-$N$3)*(1-$N$4),2) -> 475.57 | E53: S10101500P | F53: =INDEX(CDN!E:E,MATCH($E:$E,CDN!$C:$C,0)) -> 282 | G53: =ROUND(INDEX(CDN!G:G,MATCH($E:$E,CDN!$C:$C,0))*(1-$N$2)*(1-$N$3)*(1-$N$4),2) -> 70.61 | H53: S10101500H | I53: =INDEX(CDN!E:E,MATCH($H:$H,CDN!$C:$C,0)) -> 40 | J53: =ROUND(INDEX(CDN!G:G,MATCH($H:$H,CDN!$C:$C,0))*(1-$N$2)*(1-$N$3)*(1-$N$4),2) -> 10.36
A54: 10 X 2" | B54: S10102000B | C54: =INDEX(CDN!E:E,MATCH(B:B,CDN!C:C,0)) -> 1600 | D54: =ROUND(INDEX(CDN!G:G,MATCH('CDN Price Index'!B:B,CDN!C:C,0))*(1-$N$2)*(1-$N$3)*(1-$N$4),2) -> 361.74 | E54: S10102000P | F54: =INDEX(CDN!E:E,MATCH($E:$E,CDN!$C:$C,0)) -> 258 | G54: =ROUND(INDEX(CDN!G:G,MATCH($E:$E,CDN!$C:$C,0))*(1-$N$2)*(1-$N$3)*(1-$N$4),2) -> 70.61 | H54: S10102000H | I54: =INDEX(CDN!E:E,MATCH($H:$H,CDN!$C:$C,0)) -> 40 | J54: =ROUND(INDEX(CDN!G:G,MATCH($H:$H,CDN!$C:$C,0))*(1-$N$2)*(1-$N$3)*(1-$N$4),2) -> 11.36
A55: 10 X 2-1/2" | B55: S10102500B | C55: =INDEX(CDN!E:E,MATCH(B:B,CDN!C:C,0)) -> 1000 | D55: =ROUND(INDEX(CDN!G:G,MATCH('CDN Price Index'!B:B,CDN!C:C,0))*(1-$N$2)*(1-$N$3)*(1-$N$4),2) -> 239.25 | E55: S10102500P | F55: =INDEX(CDN!E:E,MATCH($E:$E,CDN!$C:$C,0)) -> 240 | G55: =ROUND(INDEX(CDN!G:G,MATCH($E:$E,CDN!$C:$C,0))*(1-$N$2)*(1-$N$3)*(1-$N$4),2) -> 70.61 | H55: S10102500H | I55: =INDEX(CDN!E:E,MATCH($H:$H,CDN!$C:$C,0)) -> 40 | J55: =ROUND(INDEX(CDN!G:G,MATCH($H:$H,CDN!$C:$C,0))*(1-$N$2)*(1-$N$3)*(1-$N$4),2) -> 12.08
A56: 10 X 2-3/4" | B56: S10102750B | C56: =INDEX(CDN!E:E,MATCH(B:B,CDN!C:C,0)) -> 1000 | D56: =ROUND(INDEX(CDN!G:G,MATCH('CDN Price Index'!B:B,CDN!C:C,0))*(1-$N$2)*(1-$N$3)*(1-$N$4),2) -> 281.04 | E56: S10102750P | F56: =INDEX(CDN!E:E,MATCH($E:$E,CDN!$C:$C,0)) -> 207 | G56: =ROUND(INDEX(CDN!G:G,MATCH($E:$E,CDN!$C:$C,0))*(1-$N$2)*(1-$N$3)*(1-$N$4),2) -> 70.61 | H56: S10102750H | I56: =INDEX(CDN!E:E,MATCH($H:$H,CDN!$C:$C,0)) -> 40 | J56: =ROUND(INDEX(CDN!G:G,MATCH($H:$H,CDN!$C:$C,0))*(1-$N$2)*(1-$N$3)*(1-$N$4),2) -> 14.25
A57: 10 X 3-1/8" | B57: S10103125B | C57: =INDEX(CDN!E:E,MATCH(B:B,CDN!C:C,0)) -> 800 | D57: =ROUND(INDEX(CDN!G:G,MATCH('CDN Price Index'!B:B,CDN!C:C,0))*(1-$N$2)*(1-$N$3)*(1-$N$4),2) -> 228.94 | E57: S10103125P | F57: =INDEX(CDN!E:E,MATCH($E:$E,CDN!$C:$C,0)) -> 180 | G57: =ROUND(INDEX(CDN!G:G,MATCH($E:$E,CDN!$C:$C,0))*(1-$N$2)*(1-$N$3)*(1-$N$4),2) -> 62.37 | H57: S10103125H | I57: =INDEX(CDN!E:E,MATCH($H:$H,CDN!$C:$C,0)) -> 40 | J57: =ROUND(INDEX(CDN!G:G,MATCH($H:$H,CDN!$C:$C,0))*(1-$N$2)*(1-$N$3)*(1-$N$4),2) -> 15.12
A58: 1/4 X 1-1/2" | B58: S14101500B | C58: =INDEX(CDN!E:E,MATCH(B:B,CDN!C:C,0)) -> 1000 | D58: =ROUND(INDEX(CDN!G:G,MATCH('CDN Price Index'!B:B,CDN!C:C,0))*(1-$N$2)*(1-$N$3)*(1-$N$4),2) -> 258.71 | E58: S14101500P | F58: =INDEX(CDN!E:E,MATCH($E:$E,CDN!$C:$C,0)) -> 225 | G58: =ROUND(INDEX(CDN!G:G,MATCH($E:$E,CDN!$C:$C,0))*(1-$N$2)*(1-$N$3)*(1-$N$4),2) -> 70.61 | H58: S14101500H | I58: =INDEX(CDN!E:E,MATCH($H:$H,CDN!$C:$C,0)) -> 40 | J58: =ROUND(INDEX(CDN!G:G,MATCH($H:$H,CDN!$C:$C,0))*(1-$N$2)*(1-$N$3)*(1-$N$4),2) -> 12.97
A59: 1/4 X 2" | B59: S14102000B | C59: =INDEX(CDN!E:E,MATCH(B:B,CDN!C:C,0)) -> 800 | D59: =ROUND(INDEX(CDN!G:G,MATCH('CDN Price Index'!B:B,CDN!C:C,0))*(1-$N$2)*(1-$N$3)*(1-$N$4),2) -> 259.8 | E59: S14102000P | F59: =INDEX(CDN!E:E,MATCH($E:$E,CDN!$C:$C,0)) -> 179 | G59: =ROUND(INDEX(CDN!G:G,MATCH($E:$E,CDN!$C:$C,0))*(1-$N$2)*(1-$N$3)*(1-$N$4),2) -> 70.61 | H59: S14102000H | I59: =INDEX(CDN!E:E,MATCH($H:$H,CDN!$C:$C,0)) -> 40 | J59: =ROUND(INDEX(CDN!G:G,MATCH($H:$H,CDN!$C:$C,0))*(1-$N$2)*(1-$N$3)*(1-$N$4),2) -> 16.36
A60: 1/4 X 2-1/2" | B60: S14102500B | C60: =INDEX(CDN!E:E,MATCH(B:B,CDN!C:C,0)) -> 700 | D60: =ROUND(INDEX(CDN!G:G,MATCH('CDN Price Index'!B:B,CDN!C:C,0))*(1-$N$2)*(1-$N$3)*(1-$N$4),2) -> 246.19 | E60: S14102500P | F60: =INDEX(CDN!E:E,MATCH($E:$E,CDN!$C:$C,0)) -> 166 | G60: =ROUND(INDEX(CDN!G:G,MATCH($E:$E,CDN!$C:$C,0))*(1-$N$2)*(1-$N$3)*(1-$N$4),2) -> 70.61 | H60: S14102500H | I60: =INDEX(CDN!E:E,MATCH($H:$H,CDN!$C:$C,0)) -> 40 | J60: =ROUND(INDEX(CDN!G:G,MATCH($H:$H,CDN!$C:$C,0))*(1-$N$2)*(1-$N$3)*(1-$N$4),2) -> 17.69
A61: 1/4 X 2-3/4" | B61: S14102750B | C61: =INDEX(CDN!E:E,MATCH(B:B,CDN!C:C,0)) -> 700 | D61: =ROUND(INDEX(CDN!G:G,MATCH('CDN Price Index'!B:B,CDN!C:C,0))*(1-$N$2)*(1-$N$3)*(1-$N$4),2) -> 246.19 | E61: S14102750P | F61: =INDEX(CDN!E:E,MATCH($E:$E,CDN!$C:$C,0)) -> 144 | G61: =ROUND(INDEX(CDN!G:G,MATCH($E:$E,CDN!$C:$C,0))*(1-$N$2)*(1-$N$3)*(1-$N$4),2) -> 70.61 | H61: S14102750H | I61: =INDEX(CDN!E:E,MATCH($H:$H,CDN!$C:$C,0)) -> 40 | J61: =ROUND(INDEX(CDN!G:G,MATCH($H:$H,CDN!$C:$C,0))*(1-$N$2)*(1-$N$3)*(1-$N$4),2) -> 17.69
A62: 1/4 X 3-1/8" | B62: S14103125B | C62: =INDEX(CDN!E:E,MATCH(B:B,CDN!C:C,0)) -> 700 | D62: =ROUND(INDEX(CDN!G:G,MATCH('CDN Price Index'!B:B,CDN!C:C,0))*(1-$N$2)*(1-$N$3)*(1-$N$4),2) -> 288.94 | E62: S14103125P | F62: =INDEX(CDN!E:E,MATCH($E:$E,CDN!$C:$C,0)) -> 131 | G62: =ROUND(INDEX(CDN!G:G,MATCH($E:$E,CDN!$C:$C,0))*(1-$N$2)*(1-$N$3)*(1-$N$4),2) -> 62.37 | H62: S14103125H | I62: =INDEX(CDN!E:E,MATCH($H:$H,CDN!$C:$C,0)) -> 40 | J62: =ROUND(INDEX(CDN!G:G,MATCH($H:$H,CDN!$C:$C,0))*(1-$N$2)*(1-$N$3)*(1-$N$4),2) -> 20.74
A63: 1/4 X 3-3/8" | B63: S14103375B | C63: =INDEX(CDN!E:E,MATCH(B:B,CDN!C:C,0)) -> 400 | D63: =ROUND(INDEX(CDN!G:G,MATCH('CDN Price Index'!B:B,CDN!C:C,0))*(1-$N$2)*(1-$N$3)*(1-$N$4),2) -> 201.25 | E63: S14103375P | F63: =INDEX(CDN!E:E,MATCH($E:$E,CDN!$C:$C,0)) -> 107 | G63: =ROUND(INDEX(CDN!G:G,MATCH($E:$E,CDN!$C:$C,0))*(1-$N$2)*(1-$N$3)*(1-$N$4),2) -> 62.37 | H63: S14103375H | I63: =INDEX(CDN!E:E,MATCH($H:$H,CDN!$C:$C,0)) -> 40 | J63: =ROUND(INDEX(CDN!G:G,MATCH($H:$H,CDN!$C:$C,0))*(1-$N$2)*(1-$N$3)*(1-$N$4),2) -> 25.86
A64: 5/16 X 2-1/2" | B64: S20102500B | C64: =INDEX(CDN!E:E,MATCH(B:B,CDN!C:C,0)) -> 600 | D64: =ROUND(INDEX(CDN!G:G,MATCH('CDN Price Index'!B:B,CDN!C:C,0))*(1-$N$2)*(1-$N$3)*(1-$N$4),2) -> 281.09 | E64: S20102500P | F64: =INDEX(CDN!E:E,MATCH($E:$E,CDN!$C:$C,0)) -> 100 | G64: =ROUND(INDEX(CDN!G:G,MATCH($E:$E,CDN!$C:$C,0))*(1-$N$2)*(1-$N$3)*(1-$N$4),2) -> 51.91 | H64: S20102500H | I64: =INDEX(CDN!E:E,MATCH($H:$H,CDN!$C:$C,0)) -> 40 | J64: =ROUND(INDEX(CDN!G:G,MATCH($H:$H,CDN!$C:$C,0))*(1-$N$2)*(1-$N$3)*(1-$N$4),2) -> 25.45
... A66: 5/16 X 4" | B66: S20104000B | C66: =INDEX(CDN!E:E,MATCH(B:B,CDN!C:C,0)) -> 400 | D66: =ROUND(INDEX(CDN!G:G,MATCH('CDN Price Index'!B:B,CDN!C:C,0))*(1-$N$2)*(1-$N$3)*(1-$N$4),2) -> 242.17 | E66: S20104000P | F66: =INDEX(CDN!E:E,MATCH($E:$E,CDN!$C:$C,0)) -> 100 | G66: =ROUND(INDEX(CDN!G:G,MATCH($E:$E,CDN!$C:$C,0))*(1-$N$2)*(1-$N$3)*(1-$N$4),2) -> 73.55 | H66: S20104000H | I66: =INDEX(CDN!E:E,MATCH($H:$H,CDN!$C:$C,0)) -> 40 | J66: =ROUND(INDEX(CDN!G:G,MATCH($H:$H,CDN!$C:$C,0))*(1-$N$2)*(1-$N$3)*(1-$N$4),2) -> 31.94
A67: 5/16 X 5" | B67: S20105000B | C67: =INDEX(CDN!E:E,MATCH(B:B,CDN!C:C,0)) -> 300 | D67: =ROUND(INDEX(CDN!G:G,MATCH('CDN Price Index'!B:B,CDN!C:C,0))*(1-$N$2)*(1-$N$3)*(1-$N$4),2) -> 268.52 | H67: S20105000H | I67: =INDEX(CDN!E:E,MATCH($H:$H,CDN!$C:$C,0)) -> 40 | J67: =ROUND(INDEX(CDN!G:G,MATCH($H:$H,CDN!$C:$C,0))*(1-$N$2)*(1-$N$3)*(1-$N$4),2) -> 47.86
A68: 5/16 X 6" | B68: S20106000B | C68: =INDEX(CDN!E:E,MATCH(B:B,CDN!C:C,0)) -> 300 | D68: =ROUND(INDEX(CDN!G:G,MATCH('CDN Price Index'!B:B,CDN!C:C,0))*(1-$N$2)*(1-$N$3)*(1-$N$4),2) -> 349.98 | H68: S20106000H | I68: =INDEX(CDN!E:E,MATCH($H:$H,CDN!$C:$C,0)) -> 40 | J68: =ROUND(INDEX(CDN!G:G,MATCH($H:$H,CDN!$C:$C,0))*(1-$N$2)*(1-$N$3)*(1-$N$4),2) -> 61.09
A69: 3/8 X 3-1/8" | B69: S22103125B | C69: =INDEX(CDN!E:E,MATCH(B:B,CDN!C:C,0)) -> 300 | D69: =ROUND(INDEX(CDN!G:G,MATCH('CDN Price Index'!B:B,CDN!C:C,0))*(1-$N$2)*(1-$N$3)*(1-$N$4),2) -> 291.34 | H69: S22103125H | I69: =INDEX(CDN!E:E,MATCH($H:$H,CDN!$C:$C,0)) -> 40 | J69: =ROUND(INDEX(CDN!G:G,MATCH($H:$H,CDN!$C:$C,0))*(1-$N$2)*(1-$N$3)*(1-$N$4),2) -> 48.56
A70: 3/8 X 3-3/8" | B70: S22103375B | C70: =INDEX(CDN!E:E,MATCH(B:B,CDN!C:C,0)) -> 300 | D70: =ROUND(INDEX(CDN!G:G,MATCH('CDN Price Index'!B:B,CDN!C:C,0))*(1-$N$2)*(1-$N$3)*(1-$N$4),2) -> 311.38 | H70: S22103375H | I70: =INDEX(CDN!E:E,MATCH($H:$H,CDN!$C:$C,0)) -> 40 | J70: =ROUND(INDEX(CDN!G:G,MATCH($H:$H,CDN!$C:$C,0))*(1-$N$2)*(1-$N$3)*(1-$N$4),2) -> 51.26
A71: 3/8 X 4" | B71: S22104000B | C71: =INDEX(CDN!E:E,MATCH(B:B,CDN!C:C,0)) -> 300 | D71: =ROUND(INDEX(CDN!G:G,MATCH('CDN Price Index'!B:B,CDN!C:C,0))*(1-$N$2)*(1-$N$3)*(1-$N$4),2) -> 316.27 | H71: S22104000H | I71: =INDEX(CDN!E:E,MATCH($H:$H,CDN!$C:$C,0)) -> 40 | J71: =ROUND(INDEX(CDN!G:G,MATCH($H:$H,CDN!$C:$C,0))*(1-$N$2)*(1-$N$3)*(1-$N$4),2) -> 53.16
A72: 3/8 X 5" | B72: S22105000B | C72: =INDEX(CDN!E:E,MATCH(B:B,CDN!C:C,0)) -> 300 | D72: =ROUND(INDEX(CDN!G:G,MATCH('CDN Price Index'!B:B,CDN!C:C,0))*(1-$N$2)*(1-$N$3)*(1-$N$4),2) -> 476.51 | H72: S22105000H | I72: =INDEX(CDN!E:E,MATCH($H:$H,CDN!$C:$C,0)) -> 40 | J72: =ROUND(INDEX(CDN!G:G,MATCH($H:$H,CDN!$C:$C,0))*(1-$N$2)*(1-$N$3)*(1-$N$4),2) -> 79.43
A73: 3/8 X 6" | B73: S22106000B | C73: =INDEX(CDN!E:E,MATCH(B:B,CDN!C:C,0)) -> 300 | D73: =ROUND(INDEX(CDN!G:G,MATCH('CDN Price Index'!B:B,CDN!C:C,0))*(1-$N$2)*(1-$N$3)*(1-$N$4),2) -> 490.25 | H73: S22106000H | I73: =INDEX(CDN!E:E,MATCH($H:$H,CDN!$C:$C,0)) -> 40 | J73: =ROUND(INDEX(CDN!G:G,MATCH($H:$H,CDN!$C:$C,0))*(1-$N$2)*(1-$N$3)*(1-$N$4),2) -> 81.49
A74: 3/8 X 6-3/4" | B74: S22106750B | C74: =INDEX(CDN!E:E,MATCH(B:B,CDN!C:C,0)) -> 300 | D74: =ROUND(INDEX(CDN!G:G,MATCH('CDN Price Index'!B:B,CDN!C:C,0))*(1-$N$2)*(1-$N$3)*(1-$N$4),2) -> 581.72 | H74: S22106750H | I74: =INDEX(CDN!E:E,MATCH($H:$H,CDN!$C:$C,0)) -> 40 | J74: =ROUND(INDEX(CDN!G:G,MATCH($H:$H,CDN!$C:$C,0))*(1-$N$2)*(1-$N$3)*(1-$N$4),2) -> 100.68
A75: 3/8 X 7" | B75: S22107000B | C75: =INDEX(CDN!E:E,MATCH(B:B,CDN!C:C,0)) -> 300 | D75: =ROUND(INDEX(CDN!G:G,MATCH('CDN Price Index'!B:B,CDN!C:C,0))*(1-$N$2)*(1-$N$3)*(1-$N$4),2) -> 587.12 | H75: S22107000H | I75: =INDEX(CDN!E:E,MATCH($H:$H,CDN!$C:$C,0)) -> 40 | J75: =ROUND(INDEX(CDN!G:G,MATCH($H:$H,CDN!$C:$C,0))*(1-$N$2)*(1-$N$3)*(1-$N$4),2) -> 106.95
A76: 3/8 X 8" | B76: S22108000B | C76: =INDEX(CDN!E:E,MATCH(B:B,CDN!C:C,0)) -> 300 | D76: =ROUND(INDEX(CDN!G:G,MATCH('CDN Price Index'!B:B,CDN!C:C,0))*(1-$N$2)*(1-$N$3)*(1-$N$4),2) -> 741.41 | H76: S22108000H | I76: =INDEX(CDN!E:E,MATCH($H:$H,CDN!$C:$C,0)) -> 40 | J76: =ROUND(INDEX(CDN!G:G,MATCH($H:$H,CDN!$C:$C,0))*(1-$N$2)*(1-$N$3)*(1-$N$4),2) -> 123.99
A77: 3/8 X 10" | B77: S22110000B | C77: =INDEX(CDN!E:E,MATCH(B:B,CDN!C:C,0)) -> 300 | D77: =ROUND(INDEX(CDN!G:G,MATCH('CDN Price Index'!B:B,CDN!C:C,0))*(1-$N$2)*(1-$N$3)*(1-$N$4),2) -> 1168.64 | H77: S22110000H | I77: =INDEX(CDN!E:E,MATCH($H:$H,CDN!$C:$C,0)) -> 40 | J77: =ROUND(INDEX(CDN!G:G,MATCH($H:$H,CDN!$C:$C,0))*(1-$N$2)*(1-$N$3)*(1-$N$4),2) -> 213.21
A78: 3/8 X 12" | B78: S22112000B | C78: =INDEX(CDN!E:E,MATCH(B:B,CDN!C:C,0)) -> 300 | D78: =ROUND(INDEX(CDN!G:G,MATCH('CDN Price Index'!B:B,CDN!C:C,0))*(1-$N$2)*(1-$N$3)*(1-$N$4),2) -> 1350.82 | H78: S22112000H | I78: =INDEX(CDN!E:E,MATCH($H:$H,CDN!$C:$C,0)) -> 40 | J78: =ROUND(INDEX(CDN!G:G,MATCH($H:$H,CDN!$C:$C,0))*(1-$N$2)*(1-$N$3)*(1-$N$4),2) -> 234.93
... A81: 3/8 X 20" | B81: S22120000B | C81: =INDEX(CDN!E:E,MATCH(B:B,CDN!C:C,0)) -> 100 | D81: =ROUND(INDEX(CDN!G:G,MATCH('CDN Price Index'!B:B,CDN!C:C,0))*(1-$N$2)*(1-$N$3)*(1-$N$4),2) -> 1445.75 | H81: S22120000H | I81: =INDEX(CDN!E:E,MATCH($H:$H,CDN!$C:$C,0)) -> 25 | J81: =ROUND(INDEX(CDN!G:G,MATCH($H:$H,CDN!$C:$C,0))*(1-$N$2)*(1-$N$3)*(1-$N$4),2) -> 361.42
A82: BLACK CONSTRUCTION SCREW
B83: BULK | E83: Pail | H83: PACKAGE
A84: SIZE | B84: STOCK CODE | C84: PCS | D84: MSRP | E84: STOCK CODE | F84: PCS | G84: MSRP | H84: STOCK CODE | I84: PCS | J84: MSRP
A85: 5/16 X 2"7/8 BK | B85: S20B02875B | C85: =INDEX(CDN!E:E,MATCH(B:B,CDN!C:C,0)) -> 500 | D85: =ROUND(INDEX(CDN!G:G,MATCH('CDN Price Index'!B:B,CDN!C:C,0))*(1-$N$2)*(1-$N$3)*(1-$N$4),2) -> 383.64 | E85: S20B02875P | F85: =INDEX(CDN!E:E,MATCH($E:$E,CDN!$C:$C,0)) -> 120 | G85: =ROUND(INDEX(CDN!G:G,MATCH($E:$E,CDN!$C:$C,0))*(1-$N$2)*(1-$N$3)*(1-$N$4),2) -> 89.95 | H85: S20B02875H | I85: =INDEX(CDN!E:E,MATCH($H:$H,CDN!$C:$C,0)) -> 40 | J85: =ROUND(INDEX(CDN!G:G,MATCH($H:$H,CDN!$C:$C,0))*(1-$N$2)*(1-$N$3)*(1-$N$4),2) -> 40.89
A86: 5/16 X 3"1/8 BK | B86: S20B03125B | C86: =INDEX(CDN!E:E,MATCH(B:B,CDN!C:C,0)) -> 500 | D86: =ROUND(INDEX(CDN!G:G,MATCH('CDN Price Index'!B:B,CDN!C:C,0))*(1-$N$2)*(1-$N$3)*(1-$N$4),2) -> 285.51 | E86: S20B03125P | F86: =INDEX(CDN!E:E,MATCH($E:$E,CDN!$C:$C,0)) -> 100 | G86: =ROUND(INDEX(CDN!G:G,MATCH($E:$E,CDN!$C:$C,0))*(1-$N$2)*(1-$N$3)*(1-$N$4),2) -> 62.4 | H86: S20B03125H | I86: =INDEX(CDN!E:E,MATCH($H:$H,CDN!$C:$C,0)) -> 40 | J86: =ROUND(INDEX(CDN!G:G,MATCH($H:$H,CDN!$C:$C,0))*(1-$N$2)*(1-$N$3)*(1-$N$4),2) -> 24.81
A87: 5/16 X 4" BK | B87: S20B04000B | C87: =INDEX(CDN!E:E,MATCH(B:B,CDN!C:C,0)) -> 400 | D87: =ROUND(INDEX(CDN!G:G,MATCH('CDN Price Index'!B:B,CDN!C:C,0))*(1-$N$2)*(1-$N$3)*(1-$N$4),2) -> 242.17 | E87: S20B04000P | F87: =INDEX(CDN!E:E,MATCH($E:$E,CDN!$C:$C,0)) -> 100 | G87: =ROUND(INDEX(CDN!G:G,MATCH($E:$E,CDN!$C:$C,0))*(1-$N$2)*(1-$N$3)*(1-$N$4),2) -> 73.55 | H87: S20B04000H | I87: =INDEX(CDN!E:E,MATCH($H:$H,CDN!$C:$C,0)) -> 40 | J87: =ROUND(INDEX(CDN!G:G,MATCH($H:$H,CDN!$C:$C,0))*(1-$N$2)*(1-$N$3)*(1-$N$4),2) -> 31.94
A88: 5/16 X 5" BK | B88: S20B05000B | C88: =INDEX(CDN!E:E,MATCH(B:B,CDN!C:C,0)) -> 300 | D88: =ROUND(INDEX(CDN!G:G,MATCH('CDN Price Index'!B:B,CDN!C:C,0))*(1-$N$2)*(1-$N$3)*(1-$N$4),2) -> 268.52 | H88: S20B05000H | I88: =INDEX(CDN!E:E,MATCH($H:$H,CDN!$C:$C,0)) -> 40 | J88: =ROUND(INDEX(CDN!G:G,MATCH($H:$H,CDN!$C:$C,0))*(1-$N$2)*(1-$N$3)*(1-$N$4),2) -> 47.86
A89: 5/16 X 6" BK | B89: S20B06000B | C89: =INDEX(CDN!E:E,MATCH(B:B,CDN!C:C,0)) -> 300 | D89: =ROUND(INDEX(CDN!G:G,MATCH('CDN Price Index'!B:B,CDN!C:C,0))*(1-$N$2)*(1-$N$3)*(1-$N$4),2) -> 349.98 | H89: S20B06000H | I89: =INDEX(CDN!E:E,MATCH($H:$H,CDN!$C:$C,0)) -> 40 | J89: =ROUND(INDEX(CDN!G:G,MATCH($H:$H,CDN!$C:$C,0))*(1-$N$2)*(1-$N$3)*(1-$N$4),2) -> 61.09
A90: 3/8 X 5" BK | B90: S22B05000B | C90: =INDEX(CDN!E:E,MATCH(B:B,CDN!C:C,0)) -> 300 | D90: =ROUND(INDEX(CDN!G:G,MATCH('CDN Price Index'!B:B,CDN!C:C,0))*(1-$N$2)*(1-$N$3)*(1-$N$4),2) -> 476.51 | H90: S22B05000H | I90: =INDEX(CDN!E:E,MATCH($H:$H,CDN!$C:$C,0)) -> 40 | J90: =ROUND(INDEX(CDN!G:G,MATCH($H:$H,CDN!$C:$C,0))*(1-$N$2)*(1-$N$3)*(1-$N$4),2) -> 79.43
A91: 3/8 X 6" BK | B91: S22B06000B | C91: =INDEX(CDN!E:E,MATCH(B:B,CDN!C:C,0)) -> 300 | D91: =ROUND(INDEX(CDN!G:G,MATCH('CDN Price Index'!B:B,CDN!C:C,0))*(1-$N$2)*(1-$N$3)*(1-$N$4),2) -> 490.25 | H91: S22B06000H | I91: =INDEX(CDN!E:E,MATCH($H:$H,CDN!$C:$C,0)) -> 40 | J91: =ROUND(INDEX(CDN!G:G,MATCH($H:$H,CDN!$C:$C,0))*(1-$N$2)*(1-$N$3)*(1-$N$4),2) -> 81.49
A92: 3/8 X 8" BK | B92: S22B08000B | C92: =INDEX(CDN!E:E,MATCH(B:B,CDN!C:C,0)) -> 300 | D92: =ROUND(INDEX(CDN!G:G,MATCH('CDN Price Index'!B:B,CDN!C:C,0))*(1-$N$2)*(1-$N$3)*(1-$N$4),2) -> 741.41 | H92: S22B08000H | I92: =INDEX(CDN!E:E,MATCH($H:$H,CDN!$C:$C,0)) -> 40 | J92: =ROUND(INDEX(CDN!G:G,MATCH($H:$H,CDN!$C:$C,0))*(1-$N$2)*(1-$N$3)*(1-$N$4),2) -> 123.99
A93: 3/8 X 10" BK | B93: S22B10000B | C93: =INDEX(CDN!E:E,MATCH(B:B,CDN!C:C,0)) -> 300 | D93: =ROUND(INDEX(CDN!G:G,MATCH('CDN Price Index'!B:B,CDN!C:C,0))*(1-$N$2)*(1-$N$3)*(1-$N$4),2) -> 1168.64 | H93: S22B10000H | I93: =INDEX(CDN!E:E,MATCH($H:$H,CDN!$C:$C,0)) -> 40 | J93: =ROUND(INDEX(CDN!G:G,MATCH($H:$H,CDN!$C:$C,0))*(1-$N$2)*(1-$N$3)*(1-$N$4),2) -> 213.21
A94: 3/8 X 12" BK | B94: S22B12000B | C94: =INDEX(CDN!E:E,MATCH(B:B,CDN!C:C,0)) -> 300 | D94: =ROUND(INDEX(CDN!G:G,MATCH('CDN Price Index'!B:B,CDN!C:C,0))*(1-$N$2)*(1-$N$3)*(1-$N$4),2) -> 1350.82 | H94: S22B12000H | I94: =INDEX(CDN!E:E,MATCH($H:$H,CDN!$C:$C,0)) -> 40 | J94: =ROUND(INDEX(CDN!G:G,MATCH($H:$H,CDN!$C:$C,0))*(1-$N$2)*(1-$N$3)*(1-$N$4),2) -> 234.93
A96: CONSTRUCTION SCREW (STAINLESS 316)
B97: BULK | E97: Pail | H97: PACKAGE
A98: SIZE | B98: STOCK CODE | C98: PCS | D98: MSRP | E98: STOCK CODE | F98: PCS | G98: MSRP | H98: STOCK CODE | I98: PCS | J98: MSRP
A99: 10 X 1" | B99: I10101000B | C99: =INDEX(CDN!E:E,MATCH(B:B,CDN!C:C,0)) -> 2500 | D99: =ROUND(INDEX(CDN!G:G,MATCH('CDN Price Index'!B:B,CDN!C:C,0))*(1-$N$2)*(1-$N$3)*(1-$N$4),2) -> 764.73 | E99: I10101000P | F99: =INDEX(CDN!E:E,MATCH($E:$E,CDN!$C:$C,0)) -> 510 | G99: =ROUND(INDEX(CDN!G:G,MATCH($E:$E,CDN!$C:$C,0))*(1-$N$2)*(1-$N$3)*(1-$N$4),2) -> 161.86 | H99: I10101000H | I99: =INDEX(CDN!E:E,MATCH($H:$H,CDN!$C:$C,0)) -> 40 | J99: =ROUND(INDEX(CDN!G:G,MATCH($H:$H,CDN!$C:$C,0))*(1-$N$2)*(1-$N$3)*(1-$N$4),2) -> 16.83
A100: 10 x 1-1/2" | B100: I10101500B | C100: =INDEX(CDN!E:E,MATCH(B:B,CDN!C:C,0)) -> 2300 | D100: =ROUND(INDEX(CDN!G:G,MATCH('CDN Price Index'!B:B,CDN!C:C,0))*(1-$N$2)*(1-$N$3)*(1-$N$4),2) -> 869.55 | E100: I10101500P | F100: =INDEX(CDN!E:E,MATCH($E:$E,CDN!$C:$C,0)) -> 372 | G100: =ROUND(INDEX(CDN!G:G,MATCH($E:$E,CDN!$C:$C,0))*(1-$N$2)*(1-$N$3)*(1-$N$4),2) -> 161.86 | H100: I10101500H | I100: =INDEX(CDN!E:E,MATCH($H:$H,CDN!$C:$C,0)) -> 40 | J100: =ROUND(INDEX(CDN!G:G,MATCH($H:$H,CDN!$C:$C,0))*(1-$N$2)*(1-$N$3)*(1-$N$4),2) -> 18.9
A101: 1/4 X 2" | B101: I14102000B | C101: =INDEX(CDN!E:E,MATCH(B:B,CDN!C:C,0)) -> 800 | D101: =ROUND(INDEX(CDN!G:G,MATCH('CDN Price Index'!B:B,CDN!C:C,0))*(1-$N$2)*(1-$N$3)*(1-$N$4),2) -> 563.17 | E101: I14102000P | F101: =INDEX(CDN!E:E,MATCH($E:$E,CDN!$C:$C,0)) -> 220 | G101: =ROUND(INDEX(CDN!G:G,MATCH($E:$E,CDN!$C:$C,0))*(1-$N$2)*(1-$N$3)*(1-$N$4),2) -> 169.95 | H101: I14102000H | I101: =INDEX(CDN!E:E,MATCH($H:$H,CDN!$C:$C,0)) -> 40 | J101: =ROUND(INDEX(CDN!G:G,MATCH($H:$H,CDN!$C:$C,0))*(1-$N$2)*(1-$N$3)*(1-$N$4),2) -> 35.21
A102: 5/16 X 2-1/2" | B102: I20102500B | C102: =INDEX(CDN!E:E,MATCH(B:B,CDN!C:C,0)) -> 600 | D102: =ROUND(INDEX(CDN!G:G,MATCH('CDN Price Index'!B:B,CDN!C:C,0))*(1-$N$2)*(1-$N$3)*(1-$N$4),2) -> 605.97 | H102: I20102500H | I102: =INDEX(CDN!E:E,MATCH($H:$H,CDN!$C:$C,0)) -> 40 | J102: =ROUND(INDEX(CDN!G:G,MATCH($H:$H,CDN!$C:$C,0))*(1-$N$2)*(1-$N$3)*(1-$N$4),2) -> 51.74
A103: 5/16 X 3" | B103: I20103000B | C103: =INDEX(CDN!E:E,MATCH(B:B,CDN!C:C,0)) -> 500 | D103: =ROUND(INDEX(CDN!G:G,MATCH('CDN Price Index'!B:B,CDN!C:C,0))*(1-$N$2)*(1-$N$3)*(1-$N$4),2) -> 641.24 | H103: I20103000H | I103: =INDEX(CDN!E:E,MATCH($H:$H,CDN!$C:$C,0)) -> 40 | J103: =ROUND(INDEX(CDN!G:G,MATCH($H:$H,CDN!$C:$C,0))*(1-$N$2)*(1-$N$3)*(1-$N$4),2) -> 66.51
A104: 5/16 X 4" | B104: I20104000B | C104: =INDEX(CDN!E:E,MATCH(B:B,CDN!C:C,0)) -> 400 | D104: =ROUND(INDEX(CDN!G:G,MATCH('CDN Price Index'!B:B,CDN!C:C,0))*(1-$N$2)*(1-$N$3)*(1-$N$4),2) -> 621.36 | H104: I20104000H | I104: =INDEX(CDN!E:E,MATCH($H:$H,CDN!$C:$C,0)) -> 40 | J104: =ROUND(INDEX(CDN!G:G,MATCH($H:$H,CDN!$C:$C,0))*(1-$N$2)*(1-$N$3)*(1-$N$4),2) -> 81.29
A105: 5/16 X 5" | B105: I20105000B | C105: =INDEX(CDN!E:E,MATCH(B:B,CDN!C:C,0)) -> 300 | D105: =ROUND(INDEX(CDN!G:G,MATCH('CDN Price Index'!B:B,CDN!C:C,0))*(1-$N$2)*(1-$N$3)*(1-$N$4),2) -> 867.22 | H105: I20105000H | I105: =INDEX(CDN!E:E,MATCH($H:$H,CDN!$C:$C,0)) -> 40 | J105: =ROUND(INDEX(CDN!G:G,MATCH($H:$H,CDN!$C:$C,0))*(1-$N$2)*(1-$N$3)*(1-$N$4),2) -> 127.13
A106: 5/16 X 6" | B106: I20106000B | C106: =INDEX(CDN!E:E,MATCH(B:B,CDN!C:C,0)) -> 300 | D106: =ROUND(INDEX(CDN!G:G,MATCH('CDN Price Index'!B:B,CDN!C:C,0))*(1-$N$2)*(1-$N$3)*(1-$N$4),2) -> 887.06 | H106: I20106000H | I106: =INDEX(CDN!E:E,MATCH($H:$H,CDN!$C:$C,0)) -> 40 | J106: =ROUND(INDEX(CDN!G:G,MATCH($H:$H,CDN!$C:$C,0))*(1-$N$2)*(1-$N$3)*(1-$N$4),2) -> 132.01
A107: 3/8 X 4" | B107: I22104000B | C107: =INDEX(CDN!E:E,MATCH(B:B,CDN!C:C,0)) -> 300 | D107: =ROUND(INDEX(CDN!G:G,MATCH('CDN Price Index'!B:B,CDN!C:C,0))*(1-$N$2)*(1-$N$3)*(1-$N$4),2) -> 768.17 | H107: I22104000H | I107: =INDEX(CDN!E:E,MATCH($H:$H,CDN!$C:$C,0)) -> 40 | J107: =ROUND(INDEX(CDN!G:G,MATCH($H:$H,CDN!$C:$C,0))*(1-$N$2)*(1-$N$3)*(1-$N$4),2) -> 128.03
A108: 3/8 X 5" | B108: I22105000B | C108: =INDEX(CDN!E:E,MATCH(B:B,CDN!C:C,0)) -> 300 | D108: =ROUND(INDEX(CDN!G:G,MATCH('CDN Price Index'!B:B,CDN!C:C,0))*(1-$N$2)*(1-$N$3)*(1-$N$4),2) -> 1003.56 | H108: I22105000H | I108: =INDEX(CDN!E:E,MATCH($H:$H,CDN!$C:$C,0)) -> 40 | J108: =ROUND(INDEX(CDN!G:G,MATCH($H:$H,CDN!$C:$C,0))*(1-$N$2)*(1-$N$3)*(1-$N$4),2) -> 167.26
A109: 3/8 X 8" | B109: I22108000B | C109: =INDEX(CDN!E:E,MATCH(B:B,CDN!C:C,0)) -> 300 | D109: =ROUND(INDEX(CDN!G:G,MATCH('CDN Price Index'!B:B,CDN!C:C,0))*(1-$N$2)*(1-$N$3)*(1-$N$4),2) -> 2496.87 | H109: I22108000H | I109: =INDEX(CDN!E:E,MATCH($H:$H,CDN!$C:$C,0)) -> 40 | J109: =ROUND(INDEX(CDN!G:G,MATCH($H:$H,CDN!$C:$C,0))*(1-$N$2)*(1-$N$3)*(1-$N$4),2) -> 412.13
A110: FLAT HEAD WOOD BLACK
B111: BULK | E111: Pail | H111: PACKAGE
A112: SIZE | B112: STOCK CODE | C112: PCS | D112: MSRP | E112: STOCK CODE | F112: PCS | G112: MSRP | H112: STOCK CODE | I112: PCS | J112: MSRP
...
