Workbook

Sheet CDN
D1: U2 FASTENERS - Pricing / Order Sheet - CANADA
B5: Revision Date: | C5: 2026 April 01 | D5: Presumed Discount => | E5: 0 | G5: 0 | H5: 0
A6: Customer Name: | E6: Contact Name/Phone:
B7: Address:
F8: Your PO:
B10: Complete sections in YELLOW
B11: Send completed form to U2 fasteners: | F11: REQUESTED SHIP DATE:
B12: orders@u2fasteners.com
B13: Fx: 807-623-6224 Ph: 855-895-7096 | F13: T O T A L ==> | H13: =SUBTOTAL(9,H16:H534) -> 0
B14: Pricing Link: https://u2fasteners.com/cdn-pricing/ | F14: (taxes, freight [if any] will be added)
A15: Order Line # | B15: UPC | C15: Stockcode | D15: Description | E15: Pieces | F15: OrderQty | G15: MSRP-CDN | H15: Net Price | I15: Driver Bit Size | J15: STATUS don’t order NEW ITEMS ! Coming soon ! | K15: Total Weight including packing materials/lbs | L15: Box Info L X W X H (in inches) | M15: MC AMOUNT | N15: MC Info L X W X H (in inches) | O15: Units per Pallet | P15: MC per Pallet | Q15: Box Type | R15: HS Code | S15: Made in | T15: Metric Size | U15: Driver bit size
A16: =SUBTOTAL(3,$B$16:B16) -> 1 | B16: U2 Universal
A17: =SUBTOTAL(3,$B$16:B17) -> 2 | B17: 696244112168 | C17: U06100500B | D17: Univ 6X1/2" Bulk | E17: 16000 | G17: 695.61 | H17: =(ROUND(G17*(1-$E$5)*(1-$G$5)*(1-$H$5),2)*F17) -> 0 | I17: 15 | J17: available | K17: 27.543819 | L17: 11.25 x 11.25 x 7.5 | O17: 36 | Q17: Bulk Plastic Yellow Lid | R17: 7318.14.1060 | S17: TW | T17: 3.5 X 38 | U17: 15-1
A18: =SUBTOTAL(3,$B$16:B18) -> 3 | B18: 696244112182 | C18: U06100500H | D18: Univ 6X1/2" Pkg | E18: 100 | G18: 9.78 | H18: =(ROUND(G18*(1-$E$5)*(1-$G$5)*(1-$H$5),2)*F18) -> 0 | I18: 15 | J18: available | K18: 0.48014262 | L18: 1.5 x 3.5 x 4.75 | M18: 6 | N18: 7.375 x 5.375 x 5.375 | O18: 864 | P18: =O18/M18 -> 144 | Q18: Small Plastic | R18: 7318.14.1060 | S18: TW | T18: 3.5 X 38 | U18: 15-1
A19: =SUBTOTAL(3,$B$16:B19) -> 4 | B19: 696244112205 | C19: U06100500P | D19: Univ 6X1/2" Pail | E19: 1600 | G19: 71.29 | H19: =(ROUND(G19*(1-$E$5)*(1-$G$5)*(1-$H$5),2)*F19) -> 0 | I19: 15 | J19: available | K19: 3.2852819 | L19: 7.0 x 6.0 x 3.5 | M19: 2 | N19: 12.5 x 7.5 x 4.375 | O19: 140 | P19: =O19/M19 -> 70 | Q19: Pail Plastic | R19: 7318.14.1060 | S19: TW | T19: 3.5 X 38 | U19: 15-1
A20: =SUBTOTAL(3,$B$16:B20) -> 5 | B20: 696244112229 | C20: U06100625B | D20: Univ 6X5/8" Bulk | E20: 14000 | G20: 701.97 | H20: =(ROUND(G20*(1-$E$5)*(1-$G$5)*(1-$H$5),2)*F20) -> 0 | I20: 15 | J20: available | K20: 27.535786 | L20: 11.25 x 11.25 x 7.5 | O20: 36 | Q20: Bulk Plastic Yellow Lid | R20: 7318.14.1060 | S20: TW | T20: 3.5 X 38 | U20: 15-1
A21: =SUBTOTAL(3,$B$16:B21) -> 6 | B21: 696244112243 | C21: U06100625H | D21: Univ 6X5/8" Pkg | E21: 100 | G21: 10.1 | H21: =(ROUND(G21*(1-$E$5)*(1-$G$5)*(1-$H$5),2)*F21) -> 0 | I21: 15 | J21: available | K21: 0.50339133 | L21: 1.5 x 3.5 x 4.75 | M21: 6 | N21: 7.375 x 5.375 x 5.375 | O21: 864 | P21: =O21/M21 -> 144 | Q21: Small Plastic | R21: 7318.14.1060 | S21: TW | T21: 3.5 X 38 | U21: 15-1
A22: =SUBTOTAL(3,$B$16:B22) -> 7 | B22: 696244112267 | C22: U06100625P | D22: Univ 6X5/8" Pail | E22: 1400 | G22: 71.29 | H22: =(ROUND(G22*(1-$E$5)*(1-$G$5)*(1-$H$5),2)*F22) -> 0 | I22: 15 | J22: available | K22: 3.2844786 | L22: 7.0 x 6.0 x 3.5 | M22: 2 | N22: 12.5 x 7.5 x 4.375 | O22: 140 | P22: =O22/M22 -> 70 | Q22: Pail Plastic | R22: 7318.14.1060 | S22: TW | T22: 3.5 X 38 | U22: 15-1
A23: =SUBTOTAL(3,$B$16:B23) -> 8 | B23: 696244110232 | C23: U06101500B | D23: Univ 6X1"1/2 Bulk | E23: 8000 | G23: 584.41 | H23: =(ROUND(G23*(1-$E$5)*(1-$G$5)*(1-$H$5),2)*F23) -> 0 | I23: 15 | J23: available | K23: 32.12945 | L23: 11.25 x 11.25 x 7.5 | O23: 36 | Q23: Bulk Plastic Yellow Lid | R23: 7318.14.1060 | S23: TW | T23: 3.5 X 38 | U23: 15-1
A24: =SUBTOTAL(3,$B$16:B24) -> 9 | B24: 696244110256 | C24: U06101500H | D24: Univ 6X1"1/2 Pkg | E24: 100 | G24: 10.5 | H24: =(ROUND(G24*(1-$E$5)*(1-$G$5)*(1-$H$5),2)*F24) -> 0 | I24: 15 | J24: available | K24: 0.70060562 | L24: 1.5 x 3.5 x 4.75 | M24: 6 | N24: 7.375 x 5.375 x 5.375 | O24: 864 | P24: 144 | Q24: Small Plastic | R24: 7318.14.1060 | S24: TW | T24: 3.5 X 38 | U24: 15-1
A25: =SUBTOTAL(3,$B$16:B25) -> 10 | B25: 696244110270 | C25: U06101500P | D25: Univ 6X1"1/2 Pail | E25: 928 | G25: 71.29 | H25: =(ROUND(G25*(1-$E$5)*(1-$G$5)*(1-$H$5),2)*F25) -> 0 | I25: 15 | J25: available | K25: 4.2348602 | L25: 7.0 x 6.0 x 3.5 | M25: 2 | N25: 12.5 x 7.5 x 4.375 | O25: 140 | P25: 70 | Q25: Pail Plastic | R25: 7318.14.1060 | S25: TW | T25: 3.5 X 38 | U25: 15-1
A26: =SUBTOTAL(3,$B$16:B26) -> 11 | B26: 696244111079 | C26: U08101250B | D26: Univ 8X1"1/4 Bulk | E26: 10000 | G26: 850.83 | H26: =(ROUND(G26*(1-$E$5)*(1-$G$5)*(1-$H$5),2)*F26) -> 0 | I26: 15 | J26: available | K26: 44.872211 | L26: 11.25 x 11.25 x 7.5 | O26: 36 | Q26: Bulk Plastic Yellow Lid | R26: 7318.14.1060 | S26: TW | T26: 4 X 32 | U26: 15-1
A27: =SUBTOTAL(3,$B$16:B27) -> 12 | B27: 696244111093 | C27: U08101250H | D27: Univ 8X1"1/4 Pkg | E27: 100 | G27: 10.73 | H27: =(ROUND(G27*(1-$E$5)*(1-$G$5)*(1-$H$5),2)*F27) -> 0 | I27: 15 | J27: available | K27: 0.75131211 | L27: 1.5 x 3.5 x 4.75 | M27: 6 | N27: 7.375 x 5.375 x 5.375 | O27: 864 | P27: 144 | Q27: Small Plastic | R27: 7318.14.1060 | S27: TW | T27: 4 X 32 | U27: 15-1
A28: =SUBTOTAL(3,$B$16:B28) -> 13 | B28: 696244111116 | C28: U08101250P | D28: Univ 8X1"1/4 Pail | E28: 835 | G28: 71.29 | H28: =(ROUND(G28*(1-$E$5)*(1-$G$5)*(1-$H$5),2)*F28) -> 0 | I28: 15 | J28: available | K28: 4.3015061 | L28: 7.0 x 6.0 x 3.5 | M28: 2 | N28: 12.5 x 7.5 x 4.375 | O28: 140 | P28: 70 | Q28: Pail Plastic | R28: 7318.14.1060 | S28: TW | T28: 4 X 32 | U28: 15-1
A29: =SUBTOTAL(3,$B$16:B29) -> 14 | B29: 696244100004 | C29: U08101500B | D29: Univ 8X1"1/2 Bulk | E29: 6500 | G29: 592 | H29: =(ROUND(G29*(1-$E$5)*(1-$G$5)*(1-$H$5),2)*F29) -> 0 | I29: 15 | J29: available | K29: 32.250704 | L29: 11.25 x 11.25 x 7.5 | O29: 36 | Q29: Bulk Plastic Yellow Lid | R29: 7318.14.1060 | S29: TW | T29: 4 X 38 | U29: 15-1
A30: =SUBTOTAL(3,$B$16:B30) -> 15 | B30: 696244100271 | C30: U08101500H | D30: Univ 8X1"1/2 Pkg | E30: 100 | G30: 11.38 | H30: =(ROUND(G30*(1-$E$5)*(1-$G$5)*(1-$H$5),2)*F30) -> 0 | I30: 15 | J30: available | K30: 0.79099545 | L30: 1.5 x 3.5 x 4.75 | M30: 6 | N30: 7.375 x 5.375 x 5.375 | O30: 864 | P30: 144 | Q30: Small Plastic | R30: 7318.14.1060 | S30: TW | T30: 4 X 38 | U30: 15-1
A31: =SUBTOTAL(3,$B$16:B31) -> 16 | B31: 696244100141 | C31: U08101500P | D31: Univ 8X1"1/2 Pail | E31: 750 | G31: 71.29 | H31: =(ROUND(G31*(1-$E$5)*(1-$G$5)*(1-$H$5),2)*F31) -> 0 | I31: 15 | J31: available | K31: 4.2299659 | L31: 7.0 x 6.0 x 3.5 | M31: 2 | N31: 12.5 x 7.5 x 4.375 | O31: 140 | P31: 70 | Q31: Pail Plastic | R31: 7318.14.1060 | S31: TW | T31: 4 X 38 | U31: 15-1
A32: =SUBTOTAL(3,$B$16:B32) -> 17 | B32: 696244100011 | C32: U08102000B | D32: Univ 8X2" Bulk | E32: 4500 | G32: 460.92 | H32: =(ROUND(G32*(1-$E$5)*(1-$G$5)*(1-$H$5),2)*F32) -> 0 | I32: 15 | J32: available | K32: 29.020921 | L32: 11.25 x 11.25 x 7.5 | O32: 36 | Q32: Bulk Plastic Yellow Lid | R32: 7318.14.1060 | S32: TW | T32: 4 X 51 | U32: 15-1
A33: =SUBTOTAL(3,$B$16:B33) -> 18 | B33: 696244100288 | C33: U08102000H | D33: Univ 8X2" Pkg | E33: 100 | G33: 12.8 | H33: =(ROUND(G33*(1-$E$5)*(1-$G$5)*(1-$H$5),2)*F33) -> 0 | I33: 15 | J33: available | K33: 0.92988714 | L33: 1.5 x 3.5 x 4.75 | M33: 6 | N33: 7.375 x 5.375 x 5.375 | O33: 864 | P33: 144 | Q33: Small Plastic | R33: 7318.14.1060 | S33: TW | T33: 4 X 51 | U33: 15-1
A34: =SUBTOTAL(3,$B$16:B34) -> 19 | B34: 696244100158 | C34: U08102000P | D34: Univ 8X2" Pail | E34: 630 | G34: 71.29 | H34: =(ROUND(G34*(1-$E$5)*(1-$G$5)*(1-$H$5),2)*F34) -> 0 | I34: 15 | J34: available | K34: 4.536189 | L34: 7.0 x 6.0 x 3.5 | M34: 2 | N34: 12.5 x 7.5 x 4.375 | O34: 140 | P34: 70 | Q34: Pail Plastic | R34: 7318.14.1060 | S34: TW | T34: 4 X 51 | U34: 15-1
A35: =SUBTOTAL(3,$B$16:B35) -> 20 | B35: 696244100028 | C35: U09101500B | D35: Univ 9X1"1/2 Bulk | E35: 5200 | G35: 510.2244 | H35: =(ROUND(G35*(1-$E$5)*(1-$G$5)*(1-$H$5),2)*F35) -> 0 | I35: 25 | J35: available | K35: 31.247598 | L35: 11.25 x 11.25 x 7.5 | O35: 36 | Q35: Bulk Plastic Yellow Lid | R35: 7318.14.1060 | S35: TW | T35: 4.5 X 38 | U35: 25-1
A36: =SUBTOTAL(3,$B$16:B36) -> 21 | B36: 696244100295 | C36: U09101500H | D36: Univ 9X1"1/2 Pkg | E36: 100 | G36: 12.2706 | H36: =(ROUND(G36*(1-$E$5)*(1-$G$5)*(1-$H$5),2)*F36) -> 0 | I36: 25 | J36: available | K36: 0.8902038 | L36: 1.5 x 3.5 x 4.75 | M36: 6 | N36: 7.375 x 5.375 x 5.375 | O36: 864 | P36: 144 | Q36: Small Plastic | R36: 7318.14.1060 | S36: TW | T36: 4.5 X 38 | U36: 25-1
A37: =SUBTOTAL(3,$B$16:B37) -> 22 | B37: 696244100165 | C37: U09101500P | D37: Univ 9X1"1/2 Pail | E37: 610 | G37: 72.7158 | H37: =(ROUND(G37*(1-$E$5)*(1-$G$5)*(1-$H$5),2)*F37) -> 0 | I37: 25 | J37: available | K37: 4.1715432 | L37: 7.0 x 6.0 x 3.5 | M37: 2 | N37: 12.5 x 7.5 x 4.375 | O37: 140 | P37: 70 | Q37: Pail Plastic | R37: 7318.14.1060 | S37: TW | T37: 4.5 X 38 | U37: 25-1
A38: =SUBTOTAL(3,$B$16:B38) -> 23 | B38: 696244100936 | C38: U09101750B | D38: Univ 9X1"3/4 Bulk | E38: 4500 | G38: 573.3726 | H38: =(ROUND(G38*(1-$E$5)*(1-$G$5)*(1-$H$5),2)*F38) -> 0 | I38: 25 | J38: available | K38: 32.790839 | L38: 11.25 x 11.25 x 7.5 | O38: 36 | Q38: Bulk Plastic Yellow Lid | R38: 7318.14.1060 | S38: TW | T38: 4.5 X 45 | U38: 15-1
A39: =SUBTOTAL(3,$B$16:B39) -> 24 | B39: 696244100950 | C39: U09101750H | D39: Univ 9X1"3/4 Pkg | E39: 100 | G39: 15.1164 | H39: =(ROUND(G39*(1-$E$5)*(1-$G$5)*(1-$H$5),2)*F39) -> 0 | I39: 15 | J39: available | K39: 1.0136631 | L39: 1.5 x 3.5 x 4.75 | M39: 6 | N39: 7.375 x 5.375 x 5.375 | O39: 864 | P39: 144 | Q39: Small Plastic | R39: 7318.14.1060 | S39: TW | T39: 4.5 X 45 | U39: 15-1
A40: =SUBTOTAL(3,$B$16:B40) -> 25 | B40: 696244100974 | C40: U09101750P | D40: Univ 9X1"3/4 Pail | E40: 542 | G40: 72.7158 | H40: =(ROUND(G40*(1-$E$5)*(1-$G$5)*(1-$H$5),2)*F40) -> 0 | I40: 15 | J40: available | K40: 4.4509139 | L40: 7.0 x 6.0 x 3.5 | M40: 2 | N40: 12.5 x 7.5 x 4.375 | O40: 140 | P40: 70 | Q40: Pail Plastic | R40: 7318.14.1060 | S40: TW | T40: 4.5 X 45 | U40: 15-1
A41: =SUBTOTAL(3,$B$16:B41) -> 26 | B41: 696244100035 | C41: U09102000B | D41: Univ 9X2" Bulk | E41: 3700 | G41: 452.9004 | H41: =(ROUND(G41*(1-$E$5)*(1-$G$5)*(1-$H$5),2)*F41) -> 0 | I41: 25 | J41: available | K41: 29.583102 | L41: 11.25 x 11.25 x 7.5 | O41: 36 | Q41: Bulk Plastic Yellow Lid | R41: 7318.14.1060 | S41: TW | T41: 4.5 X 51 | U41: 25-1
A42: =SUBTOTAL(3,$B$16:B42) -> 27 | B42: 696244100301 | C42: U09102000H | D42: Univ 9X2" Pkg | E42: 100 | G42: 15.3102 | H42: =(ROUND(G42*(1-$E$5)*(1-$G$5)*(1-$H$5),2)*F42) -> 0 | I42: 25 | J42: available | K42: 1.0775974 | L42: 1.5 x 3.5 x 4.75 | M42: 6 | N42: 7.375 x 5.375 x 5.375 | O42: 864 | P42: 144 | Q42: Small Plastic | R42: 7318.14.1060 | S42: TW | T42: 4.5 X 51 | U42: 25-1
A43: =SUBTOTAL(3,$B$16:B43) -> 28 | B43: 696244100172 | C43: U09102000P | D43: Univ 9X2" Pail | E43: 510 | G43: 72.7158 | H43: =(ROUND(G43*(1-$E$5)*(1-$G$5)*(1-$H$5),2)*F43) -> 0 | I43: 25 | J43: available | K43: 4.5540465 | L43: 7.0 x 6.0 x 3.5 | M43: 2 | N43: 12.5 x 7.5 x 4.375 | O43: 140 | P43: 70 | Q43: Pail Plastic | R43: 7318.14.1060 | S43: TW | T43: 4.5 X 51 | U43: 25-1
A44: =SUBTOTAL(3,$B$16:B44) -> 29 | B44: 696244100042 | C44: U09102500B | D44: Univ 9X2"1/2 Bulk | E44: 2600 | G44: 375.513 | H44: =(ROUND(G44*(1-$E$5)*(1-$G$5)*(1-$H$5),2)*F44) -> 0 | I44: 25 | J44: available | K44: 25.974123 | L44: 11.25 x 11.25 x 7.5 | O44: 36 | Q44: Bulk Plastic Yellow Lid | R44: 7318.14.1060 | S44: TW | T44: 4.5 X 63 | U44: 25-1
...

Sheet CDN Price Index
A1: UNIVERSAL SCREW | M1: Discounts
B2: BULK | E2: Pail | H2: PACKAGE | M2: #1 | N2: 0
A3: SIZE | B3: STOCK CODE | C3: PCS | D3: MSRP | E3: STOCK CODE | F3: PCS | G3: MSRP | H3: STOCK CODE | I3: PCS | J3: MSRP | K3: CDN Pricing | M3: #2 | N3: 0
A4: 6 X 1/2" | B4: U06100500B | C4: =INDEX(CDN!E:E,MATCH($B:$B,CDN!$C:$C,0)) -> 16000 | D4: =ROUND(INDEX(CDN!G:G,MATCH('CDN Price Index'!B:B,CDN!C:C,0))*(1-$N$2)*(1-$N$3)*(1-$N$4),2) -> 695.61 | E4: U06100500P | F4: =INDEX(CDN!E:E,MATCH($E:$E,CDN!$C:$C,0)) -> 1600 | G4: =ROUND(INDEX(CDN!G:G,MATCH($E:$E,CDN!$C:$C,0))*(1-$N$2)*(1-$N$3)*(1-$N$4),2) -> 71.29 | H4: U06100500H | I4: =INDEX(CDN!E:E,MATCH($H:$H,CDN!$C:$C,0)) -> 100 | J4: =ROUND(INDEX(CDN!G:G,MATCH($H:$H,CDN!$C:$C,0))*(1-$N$2)*(1-$N$3)*(1-$N$4),2) -> 9.78 | M4: #3 | N4: 0
A5: 6 X 5/8" | B5: U06100625B | C5: =INDEX(CDN!E:E,MATCH(B:B,CDN!C:C,0)) -> 14000 | D5: =ROUND(INDEX(CDN!G:G,MATCH('CDN Price Index'!B:B,CDN!C:C,0))*(1-$N$2)*(1-$N$3)*(1-$N$4),2) -> 701.97 | E5: U06100625P | F5: =INDEX(CDN!E:E,MATCH($E:$E,CDN!$C:$C,0)) -> 1400 | G5: =ROUND(INDEX(CDN!G:G,MATCH($E:$E,CDN!$C:$C,0))*(1-$N$2)*(1-$N$3)*(1-$N$4),2) -> 71.29 | H5: U06100625H | I5: =INDEX(CDN!E:E,MATCH($H:$H,CDN!$C:$C,0)) -> 100 | J5: =ROUND(INDEX(CDN!G:G,MATCH($H:$H,CDN!$C:$C,0))*(1-$N$2)*(1-$N$3)*(1-$N$4),2) -> 10.1
A6: 6 X 1-1/2" | B6: U06101500B | C6: =INDEX(CDN!E:E,MATCH(B:B,CDN!C:C,0)) -> 8000 | D6: =ROUND(INDEX(CDN!G:G,MATCH('CDN Price Index'!B:B,CDN!C:C,0))*(1-$N$2)*(1-$N$3)*(1-$N$4),2) -> 584.41 | E6: U06101500P | F6: =INDEX(CDN!E:E,MATCH($E:$E,CDN!$C:$C,0)) -> 928 | G6: =ROUND(INDEX(CDN!G:G,MATCH($E:$E,CDN!$C:$C,0))*(1-$N$2)*(1-$N$3)*(1-$N$4),2) -> 71.29 | H6: U06101500H | I6: =INDEX(CDN!E:E,MATCH($H:$H,CDN!$C:$C,0)) -> 100 | J6: =ROUND(INDEX(CDN!G:G,MATCH($H:$H,CDN!$C:$C,0))*(1-$N$2)*(1-$N$3)*(1-$N$4),2) -> 10.5
A7: 8 X 1-1/4" | B7: U08101250B | C7: =INDEX(CDN!E:E,MATCH(B:B,CDN!C:C,0)) -> 10000 | D7: =ROUND(INDEX(CDN!G:G,MATCH('CDN Price Index'!B:B,CDN!C:C,0))*(1-$N$2)*(1-$N$3)*(1-$N$4),2) -> 850.83 | E7: U08101250P | F7: =INDEX(CDN!E:E,MATCH($E:$E,CDN!$C:$C,0)) -> 835 | G7: =ROUND(INDEX(CDN!G:G,MATCH($E:$E,CDN!$C:$C,0))*(1-$N$2)*(1-$N$3)*(1-$N$4),2) -> 71.29 | H7: U08101250H | I7: =INDEX(CDN!E:E,MATCH($H:$H,CDN!$C:$C,0)) -> 100 | J7: =ROUND(INDEX(CDN!G:G,MATCH($H:$H,CDN!$C:$C,0))*(1-$N$2)*(1-$N$3)*(1-$N$4),2) -> 10.73
A8: 8 X 1-1/2" | B8: U08101500B | C8: =INDEX(CDN!E:E,MATCH(B:B,CDN!C:C,0)) -> 6500 | D8: =ROUND(INDEX(CDN!G:G,MATCH('CDN Price Index'!B:B,CDN!C:C,0))*(1-$N$2)*(1-$N$3)*(1-$N$4),2) -> 592 | E8: U08101500P | F8: =INDEX(CDN!E:E,MATCH($E:$E,CDN!$C:$C,0)) -> 750 | G8: =ROUND(INDEX(CDN!G:G,MATCH($E:$E,CDN!$C:$C,0))*(1-$N$2)*(1-$N$3)*(1-$N$4),2) -> 71.29 | H8: U08101500H | I8: =INDEX(CDN!E:E,MATCH($H:$H,CDN!$C:$C,0)) -> 100 | J8: =ROUND(INDEX(CDN!G:G,MATCH($H:$H,CDN!$C:$C,0))*(1-$N$2)*(1-$N$3)*(1-$N$4),2) -> 11.38
A9: 8 X 2" | B9: U08102000B | C9: =INDEX(CDN!E:E,MATCH(B:B,CDN!C:C,0)) -> 4500 | D9: =ROUND(INDEX(CDN!G:G,MATCH('CDN Price Index'!B:B,CDN!C:C,0))*(1-$N$2)*(1-$N$3)*(1-$N$4),2) -> 460.92 | E9: U08102000P | F9: =INDEX(CDN!E:E,MATCH($E:$E,CDN!$C:$C,0)) -> 630 | G9: =ROUND(INDEX(CDN!G:G,MATCH($E:$E,CDN!$C:$C,0))*(1-$N$2)*(1-$N$3)*(1-$N$4),2) -> 71.29 | H9: U08102000H | I9: =INDEX(CDN!E:E,MATCH($H:$H,CDN!$C:$C,0)) -> 100 | J9: =ROUND(INDEX(CDN!G:G,MATCH($H:$H,CDN!$C:$C,0))*(1-$N$2)*(1-$N$3)*(1-$N$4),2) -> 12.8
A10: 9 X 1-1/2" | B10: U09101500B | C10: =INDEX(CDN!E:E,MATCH(B:B,CDN!C:C,0)) -> 5200 | D10: =ROUND(INDEX(CDN!G:G,MATCH('CDN Price Index'!B:B,CDN!C:C,0))*(1-$N$2)*(1-$N$3)*(1-$N$4),2) -> 510.22 | E10: U09101500P | F10: =INDEX(CDN!E:E,MATCH($E:$E,CDN!$C:$C,0)) -> 610 | G10: =ROUND(INDEX(CDN!G:G,MATCH($E:$E,CDN!$C:$C,0))*(1-$N$2)*(1-$N$3)*(1-$N$4),2) -> 72.72 | H10: U09101500H | I10: =INDEX(CDN!E:E,MATCH($H:$H,CDN!$C:$C,0)) -> 100 | J10: =ROUND(INDEX(CDN!G:G,MATCH($H:$H,CDN!$C:$C,0))*(1-$N$2)*(1-$N$3)*(1-$N$4),2) -> 12.27
A11: 9 X 1-3/4 | B11: U09101750B | C11: =INDEX(CDN!E:E,MATCH(B:B,CDN!C:C,0)) -> 4500 | D11: =ROUND(INDEX(CDN!G:G,MATCH('CDN Price Index'!B:B,CDN!C:C,0))*(1-$N$2)*(1-$N$3)*(1-$N$4),2) -> 573.37 | E11: U09101750P | F11: =INDEX(CDN!E:E,MATCH($E:$E,CDN!$C:$C,0)) -> 542 | G11: =ROUND(INDEX(CDN!G:G,MATCH($E:$E,CDN!$C:$C,0))*(1-$N$2)*(1-$N$3)*(1-$N$4),2) -> 72.72 | H11: U09101750H | I11: =INDEX(CDN!E:E,MATCH($H:$H,CDN!$C:$C,0)) -> 100 | J11: =ROUND(INDEX(CDN!G:G,MATCH($H:$H,CDN!$C:$C,0))*(1-$N$2)*(1-$N$3)*(1-$N$4),2) -> 15.12
A12: 9 X 2" | B12: U09102000B | C12: =INDEX(CDN!E:E,MATCH(B:B,CDN!C:C,0)) -> 3700 | D12: =ROUND(INDEX(CDN!G:G,MATCH('CDN Price Index'!B:B,CDN!C:C,0))*(1-$N$2)*(1-$N$3)*(1-$N$4),2) -> 452.9 | E12: U09102000P | F12: =INDEX(CDN!E:E,MATCH($E:$E,CDN!$C:$C,0)) -> 510 | G12: =ROUND(INDEX(CDN!G:G,MATCH($E:$E,CDN!$C:$C,0))*(1-$N$2)*(1-$N$3)*(1-$N$4),2) -> 72.72 | H12: U09102000H | I12: =INDEX(CDN!E:E,MATCH($H:$H,CDN!$C:$C,0)) -> 100 | J12: =ROUND(INDEX(CDN!G:G,MATCH($H:$H,CDN!$C:$C,0))*(1-$N$2)*(1-$N$3)*(1-$N$4),2) -> 15.31
A13: 9 X 2-1/2" | B13: U09102500B | C13: =INDEX(CDN!E:E,MATCH(B:B,CDN!C:C,0)) -> 2600 | D13: =ROUND(INDEX(CDN!G:G,MATCH('CDN Price Index'!B:B,CDN!C:C,0))*(1-$N$2)*(1-$N$3)*(1-$N$4),2) -> 375.51 | E13: U09102500P | F13: =INDEX(CDN!E:E,MATCH($E:$E,CDN!$C:$C,0)) -> 435 | G13: =ROUND(INDEX(CDN!G:G,MATCH($E:$E,CDN!$C:$C,0))*(1-$N$2)*(1-$N$3)*(1-$N$4),2) -> 72.72 | H13: U09102500H | I13: =INDEX(CDN!E:E,MATCH($H:$H,CDN!$C:$C,0)) -> 100 | J13: =ROUND(INDEX(CDN!G:G,MATCH($H:$H,CDN!$C:$C,0))*(1-$N$2)*(1-$N$3)*(1-$N$4),2) -> 18.05
A14: 9 X 2-3/4" | B14: U09102750B | C14: =INDEX(CDN!E:E,MATCH(B:B,CDN!C:C,0)) -> 2000 | D14: =ROUND(INDEX(CDN!G:G,MATCH('CDN Price Index'!B:B,CDN!C:C,0))*(1-$N$2)*(1-$N$3)*(1-$N$4),2) -> 344.76 | E14: U09102750P | F14: =INDEX(CDN!E:E,MATCH($E:$E,CDN!$C:$C,0)) -> 365 | G14: =ROUND(INDEX(CDN!G:G,MATCH($E:$E,CDN!$C:$C,0))*(1-$N$2)*(1-$N$3)*(1-$N$4),2) -> 72.72 | H14: U09102750H | I14: =INDEX(CDN!E:E,MATCH($H:$H,CDN!$C:$C,0)) -> 100 | J14: =ROUND(INDEX(CDN!G:G,MATCH($H:$H,CDN!$C:$C,0))*(1-$N$2)*(1-$N$3)*(1-$N$4),2) -> 21.55
A15: 9 X 3-1/8" | B15: U09103125B | C15: =INDEX(CDN!E:E,MATCH(B:B,CDN!C:C,0)) -> 1500 | D15: =ROUND(INDEX(CDN!G:G,MATCH('CDN Price Index'!B:B,CDN!C:C,0))*(1-$N$2)*(1-$N$3)*(1-$N$4),2) -> 247.28 | E15: U09103125P | F15: =INDEX(CDN!E:E,MATCH($E:$E,CDN!$C:$C,0)) -> 330 | G15: =ROUND(INDEX(CDN!G:G,MATCH($E:$E,CDN!$C:$C,0))*(1-$N$2)*(1-$N$3)*(1-$N$4),2) -> 64.22 | H15: U09103125H | I15: =INDEX(CDN!E:E,MATCH($H:$H,CDN!$C:$C,0)) -> 100 | J15: =ROUND(INDEX(CDN!G:G,MATCH($H:$H,CDN!$C:$C,0))*(1-$N$2)*(1-$N$3)*(1-$N$4),2) -> 22.68
A16: 10 X 1-5/8" | B16: U10101625B | C16: =INDEX(CDN!E:E,MATCH(B:B,CDN!C:C,0)) -> 2500 | D16: =ROUND(INDEX(CDN!G:G,MATCH('CDN Price Index'!B:B,CDN!C:C,0))*(1-$N$2)*(1-$N$3)*(1-$N$4),2) -> 400.93 | E16: U10101625P | F16: =INDEX(CDN!E:E,MATCH($E:$E,CDN!$C:$C,0)) -> 500 | G16: =ROUND(INDEX(CDN!G:G,MATCH($E:$E,CDN!$C:$C,0))*(1-$N$2)*(1-$N$3)*(1-$N$4),2) -> 80.38 | H16: U10101625H | I16: =INDEX(CDN!E:E,MATCH($H:$H,CDN!$C:$C,0)) -> 100 | J16: =ROUND(INDEX(CDN!G:G,MATCH($H:$H,CDN!$C:$C,0))*(1-$N$2)*(1-$N$3)*(1-$N$4),2) -> 18.17
... A24: 12 X 3-1/2" | B24: U12103500B | C24: =INDEX(CDN!E:E,MATCH(B:B,CDN!C:C,0)) -> 1200 | D24: =ROUND(INDEX(CDN!G:G,MATCH('CDN Price Index'!B:B,CDN!C:C,0))*(1-$N$2)*(1-$N$3)*(1-$N$4),2) -> 573.59 | E24: U12103500P | F24: =INDEX(CDN!E:E,MATCH($E:$E,CDN!$C:$C,0)) -> 125 | G24: =ROUND(INDEX(CDN!G:G,MATCH($E:$E,CDN!$C:$C,0))*(1-$N$2)*(1-$N$3)*(1-$N$4),2) -> 62.96 | H24: U12103500H | I24: =INDEX(CDN!E:E,MATCH($H:$H,CDN!$C:$C,0)) -> 50 | J24: =ROUND(INDEX(CDN!G:G,MATCH($H:$H,CDN!$C:$C,0))*(1-$N$2)*(1-$N$3)*(1-$N$4),2) -> 28.85
A25: 12 X 4" | B25: U12104000B | C25: =INDEX(CDN!E:E,MATCH(B:B,CDN!C:C,0)) -> 800 | D25: =ROUND(INDEX(CDN!G:G,MATCH('CDN Price Index'!B:B,CDN!C:C,0))*(1-$N$2)*(1-$N$3)*(1-$N$4),2) -> 408.51 | H25: U12104000H | I25: =INDEX(CDN!E:E,MATCH($H:$H,CDN!$C:$C,0)) -> 50 | J25: =ROUND(INDEX(CDN!G:G,MATCH($H:$H,CDN!$C:$C,0))*(1-$N$2)*(1-$N$3)*(1-$N$4),2) -> 31.92
A26: 12 X 5" | B26: U12105000B | C26: =INDEX(CDN!E:E,MATCH(B:B,CDN!C:C,0)) -> 500 | D26: =ROUND(INDEX(CDN!G:G,MATCH('CDN Price Index'!B:B,CDN!C:C,0))*(1-$N$2)*(1-$N$3)*(1-$N$4),2) -> 303.66 | H26: U12105000H | I26: =INDEX(CDN!E:E,MATCH($H:$H,CDN!$C:$C,0)) -> 50 | J26: =ROUND(INDEX(CDN!G:G,MATCH($H:$H,CDN!$C:$C,0))*(1-$N$2)*(1-$N$3)*(1-$N$4),2) -> 39.58
A27: 12 X 6" | B27: U12106000B | C27: =INDEX(CDN!E:E,MATCH(B:B,CDN!C:C,0)) -> 500 | D27: =ROUND(INDEX(CDN!G:G,MATCH('CDN Price Index'!B:B,CDN!C:C,0))*(1-$N$2)*(1-$N$3)*(1-$N$4),2) -> 395.95 | H27: U12106000H | I27: =INDEX(CDN!E:E,MATCH($H:$H,CDN!$C:$C,0)) -> 50 | J27: =ROUND(INDEX(CDN!G:G,MATCH($H:$H,CDN!$C:$C,0))*(1-$N$2)*(1-$N$3)*(1-$N$4),2) -> 47.69
A28: 12 X 7" | B28: U12107000B | C28: =INDEX(CDN!E:E,MATCH(B:B,CDN!C:C,0)) -> 300 | D28: =ROUND(INDEX(CDN!G:G,MATCH('CDN Price Index'!B:B,CDN!C:C,0))*(1-$N$2)*(1-$N$3)*(1-$N$4),2) -> 400.9 | H28: U12107000H | I28: =INDEX(CDN!E:E,MATCH($H:$H,CDN!$C:$C,0)) -> 40 | J28: =ROUND(INDEX(CDN!G:G,MATCH($H:$H,CDN!$C:$C,0))*(1-$N$2)*(1-$N$3)*(1-$N$4),2) -> 66.82
A29: 12 X 8" | B29: U12108000B | C29: =INDEX(CDN!E:E,MATCH(B:B,CDN!C:C,0)) -> 300 | D29: =ROUND(INDEX(CDN!G:G,MATCH('CDN Price Index'!B:B,CDN!C:C,0))*(1-$N$2)*(1-$N$3)*(1-$N$4),2) -> 627.27 | H29: U12108000H | I29: =INDEX(CDN!E:E,MATCH($H:$H,CDN!$C:$C,0)) -> 40 | J29: =ROUND(INDEX(CDN!G:G,MATCH($H:$H,CDN!$C:$C,0))*(1-$N$2)*(1-$N$3)*(1-$N$4),2) -> 104.54
A30: 12 X 10" | B30: U12110000B | C30: =INDEX(CDN!E:E,MATCH(B:B,CDN!C:C,0)) -> 300 | D30: =ROUND(INDEX(CDN!G:G,MATCH('CDN Price Index'!B:B,CDN!C:C,0))*(1-$N$2)*(1-$N$3)*(1-$N$4),2) -> 921.73 | H30: U12110000H | I30: =INDEX(CDN!E:E,MATCH($H:$H,CDN!$C:$C,0)) -> 40 | J30: =ROUND(INDEX(CDN!G:G,MATCH($H:$H,CDN!$C:$C,0))*(1-$N$2)*(1-$N$3)*(1-$N$4),2) -> 154.35
A31: 12 X 12" | B31: U12112000B | C31: =INDEX(CDN!E:E,MATCH(B:B,CDN!C:C,0)) -> 300 | D31: =ROUND(INDEX(CDN!G:G,MATCH('CDN Price Index'!B:B,CDN!C:C,0))*(1-$N$2)*(1-$N$3)*(1-$N$4),2) -> 1179.13 | H31: U12112000H | I31: =INDEX(CDN!E:E,MATCH($H:$H,CDN!$C:$C,0)) -> 40 | J31: =ROUND(INDEX(CDN!G:G,MATCH($H:$H,CDN!$C:$C,0))*(1-$N$2)*(1-$N$3)*(1-$N$4),2) -> 196.94
A32: BLACK UNIVERSAL SCREW
B33: BULK | E33: Pail | H33: PACKAGE
A34: SIZE | B34: STOCK CODE | C34: PCS | D34: MSRP | E34: STOCK CODE | F34: PCS | G34: MSRP | H34: STOCK CODE | I34: PCS | J34: MSRP
A35: 10 X 2-1/2" BK | B35: U10B02500B | C35: =INDEX(CDN!E:E,MATCH(B:B,CDN!C:C,0)) -> 2200 | D35: =ROUND(INDEX(CDN!G:G,MATCH('CDN Price Index'!B:B,CDN!C:C,0))*(1-$N$2)*(1-$N$3)*(1-$N$4),2) -> 395.08 | E35: U10B02500P | F35: =INDEX(CDN!E:E,MATCH($E:$E,CDN!$C:$C,0)) -> 350 | G35: =ROUND(INDEX(CDN!G:G,MATCH($E:$E,CDN!$C:$C,0))*(1-$N$2)*(1-$N$3)*(1-$N$4),2) -> 72.72 | H35: U10B02500H | I35: =INDEX(CDN!E:E,MATCH($H:$H,CDN!$C:$C,0)) -> 100 | J35: =ROUND(INDEX(CDN!G:G,MATCH($H:$H,CDN!$C:$C,0))*(1-$N$2)*(1-$N$3)*(1-$N$4),2) -> 22.45
A36: 10 X 3-1/8" BK | B36: U10B03125B | C36: =INDEX(CDN!E:E,MATCH(B:B,CDN!C:C,0)) -> 1500 | D36: =ROUND(INDEX(CDN!G:G,MATCH('CDN Price Index'!B:B,CDN!C:C,0))*(1-$N$2)*(1-$N$3)*(1-$N$4),2) -> 296.07 | E36: U10B03125P | F36: =INDEX(CDN!E:E,MATCH($E:$E,CDN!$C:$C,0)) -> 270 | G36: =ROUND(INDEX(CDN!G:G,MATCH($E:$E,CDN!$C:$C,0))*(1-$N$2)*(1-$N$3)*(1-$N$4),2) -> 64.22 | H36: U10B03125H | I36: =INDEX(CDN!E:E,MATCH($H:$H,CDN!$C:$C,0)) -> 100 | J36: =ROUND(INDEX(CDN!G:G,MATCH($H:$H,CDN!$C:$C,0))*(1-$N$2)*(1-$N$3)*(1-$N$4),2) -> 27.34
A38: UNIVERSAL SCREW (STAINLESS 316)
B39: BULK | E39: Pail | H39: PACKAGE
A40: SIZE | B40: STOCK CODE | C40: PCS | D40: MSRP | E40: STOCK CODE | F40: PCS | G40: MSRP | H40: STOCK CODE | I40: PCS | J40: MSRP
A41: 8 X 1-1/4" | B41: H08101250B | C41: =INDEX(CDN!E:E,MATCH(B:B,CDN!C:C,0)) -> 10000 | D41: =ROUND(INDEX(CDN!G:G,MATCH('CDN Price Index'!B:B,CDN!C:C,0))*(1-$N$2)*(1-$N$3)*(1-$N$4),2) -> 2250.98 | E41: H08101250P | F41: =INDEX(CDN!E:E,MATCH($E:$E,CDN!$C:$C,0)) -> 680 | G41: =ROUND(INDEX(CDN!G:G,MATCH($E:$E,CDN!$C:$C,0))*(1-$N$2)*(1-$N$3)*(1-$N$4),2) -> 169.95 | H41: H08101250H | I41: =INDEX(CDN!E:E,MATCH($H:$H,CDN!$C:$C,0)) -> 100 | J41: =ROUND(INDEX(CDN!G:G,MATCH($H:$H,CDN!$C:$C,0))*(1-$N$2)*(1-$N$3)*(1-$N$4),2) -> 28.14
A42: 8 X 1-1/2" | B42: H08101500B | C42: =INDEX(CDN!E:E,MATCH(B:B,CDN!C:C,0)) -> 6500 | D42: =ROUND(INDEX(CDN!G:G,MATCH('CDN Price Index'!B:B,CDN!C:C,0))*(1-$N$2)*(1-$N$3)*(1-$N$4),2) -> 1530.8 | E42: H08101500P | F42: =INDEX(CDN!E:E,MATCH($E:$E,CDN!$C:$C,0)) -> 620 | G42: =ROUND(INDEX(CDN!G:G,MATCH($E:$E,CDN!$C:$C,0))*(1-$N$2)*(1-$N$3)*(1-$N$4),2) -> 169.95 | H42: H08101500H | I42: =INDEX(CDN!E:E,MATCH($H:$H,CDN!$C:$C,0)) -> 100 | J42: =ROUND(INDEX(CDN!G:G,MATCH($H:$H,CDN!$C:$C,0))*(1-$N$2)*(1-$N$3)*(1-$N$4),2) -> 29.43
A43: 8 X 1-3/4" | B43: H08101750B | C43: =INDEX(CDN!E:E,MATCH(B:B,CDN!C:C,0)) -> 5000 | D43: =ROUND(INDEX(CDN!G:G,MATCH('CDN Price Index'!B:B,CDN!C:C,0))*(1-$N$2)*(1-$N$3)*(1-$N$4),2) -> 1545.73 | E43: H08101750P | F43: =INDEX(CDN!E:E,MATCH($E:$E,CDN!$C:$C,0)) -> 548 | G43: =ROUND(INDEX(CDN!G:G,MATCH($E:$E,CDN!$C:$C,0))*(1-$N$2)*(1-$N$3)*(1-$N$4),2) -> 169.95 | H43: H08101750H | I43: =INDEX(CDN!E:E,MATCH($H:$H,CDN!$C:$C,0)) -> 100 | J43: =ROUND(INDEX(CDN!G:G,MATCH($H:$H,CDN!$C:$C,0))*(1-$N$2)*(1-$N$3)*(1-$N$4),2) -> 35.21
A44: 9 X 1-1/2" | B44: H09101500B | C44: =INDEX(CDN!E:E,MATCH(B:B,CDN!C:C,0)) -> 5000 | D44: =ROUND(INDEX(CDN!G:G,MATCH('CDN Price Index'!B:B,CDN!C:C,0))*(1-$N$2)*(1-$N$3)*(1-$N$4),2) -> 1620.08 | E44: H09101500P | F44: =INDEX(CDN!E:E,MATCH($E:$E,CDN!$C:$C,0)) -> 545 | G44: =ROUND(INDEX(CDN!G:G,MATCH($E:$E,CDN!$C:$C,0))*(1-$N$2)*(1-$N$3)*(1-$N$4),2) -> 169.95 | H44: H09101500H | I44: =INDEX(CDN!E:E,MATCH($H:$H,CDN!$C:$C,0)) -> 100 | J44: =ROUND(INDEX(CDN!G:G,MATCH($H:$H,CDN!$C:$C,0))*(1-$N$2)*(1-$N$3)*(1-$N$4),2) -> 33.69
A45: 9 X 2" | B45: H09102000B | C45: =INDEX(CDN!E:E,MATCH(B:B,CDN!C:C,0)) -> 3700 | D45: =ROUND(INDEX(CDN!G:G,MATCH('CDN Price Index'!B:B,CDN!C:C,0))*(1-$N$2)*(1-$N$3)*(1-$N$4),2) -> 1327.5 | E45: H09102000P | F45: =INDEX(CDN!E:E,MATCH($E:$E,CDN!$C:$C,0)) -> 460 | G45: =ROUND(INDEX(CDN!G:G,MATCH($E:$E,CDN!$C:$C,0))*(1-$N$2)*(1-$N$3)*(1-$N$4),2) -> 169.95 | H45: H09102000H | I45: =INDEX(CDN!E:E,MATCH($H:$H,CDN!$C:$C,0)) -> 100 | J45: =ROUND(INDEX(CDN!G:G,MATCH($H:$H,CDN!$C:$C,0))*(1-$N$2)*(1-$N$3)*(1-$N$4),2) -> 41.23
A46: 10 X 2-1/2" | B46: H10102500B | C46: =INDEX(CDN!E:E,MATCH(B:B,CDN!C:C,0)) -> 2200 | D46: =ROUND(INDEX(CDN!G:G,MATCH('CDN Price Index'!B:B,CDN!C:C,0))*(1-$N$2)*(1-$N$3)*(1-$N$4),2) -> 946.67 | E46: H10102500P | F46: =INDEX(CDN!E:E,MATCH($E:$E,CDN!$C:$C,0)) -> 295 | G46: =ROUND(INDEX(CDN!G:G,MATCH($E:$E,CDN!$C:$C,0))*(1-$N$2)*(1-$N$3)*(1-$N$4),2) -> 169.95 | H46: H10102500H | I46: =INDEX(CDN!E:E,MATCH($H:$H,CDN!$C:$C,0)) -> 100 | J46: =ROUND(INDEX(CDN!G:G,MATCH($H:$H,CDN!$C:$C,0))*(1-$N$2)*(1-$N$3)*(1-$N$4),2) -> 62.09
A47: 10 X 2-3/4" | B47: H10102750B | C47: =INDEX(CDN!E:E,MATCH(B:B,CDN!C:C,0)) -> 2000 | D47: =ROUND(INDEX(CDN!G:G,MATCH('CDN Price Index'!B:B,CDN!C:C,0))*(1-$N$2)*(1-$N$3)*(1-$N$4),2) -> 1103.8 | E47: H10102750P | F47: =INDEX(CDN!E:E,MATCH($E:$E,CDN!$C:$C,0)) -> 250 | G47: =ROUND(INDEX(CDN!G:G,MATCH($E:$E,CDN!$C:$C,0))*(1-$N$2)*(1-$N$3)*(1-$N$4),2) -> 169.95 | H47: H10102750H | I47: =INDEX(CDN!E:E,MATCH($H:$H,CDN!$C:$C,0)) -> 100 | J47: =ROUND(INDEX(CDN!G:G,MATCH($H:$H,CDN!$C:$C,0))*(1-$N$2)*(1-$N$3)*(1-$N$4),2) -> 72.82
A48: 10 X 3" | B48: H10103000B | C48: =INDEX(CDN!E:E,MATCH(B:B,CDN!C:C,0)) -> 1500 | D48: =ROUND(INDEX(CDN!G:G,MATCH('CDN Price Index'!B:B,CDN!C:C,0))*(1-$N$2)*(1-$N$3)*(1-$N$4),2) -> 919.5 | E48: H10103000P | F48: =INDEX(CDN!E:E,MATCH($E:$E,CDN!$C:$C,0)) -> 210 | G48: =ROUND(INDEX(CDN!G:G,MATCH($E:$E,CDN!$C:$C,0))*(1-$N$2)*(1-$N$3)*(1-$N$4),2) -> 169.95 | H48: H10103000H | I48: =INDEX(CDN!E:E,MATCH($H:$H,CDN!$C:$C,0)) -> 100 | J48: =ROUND(INDEX(CDN!G:G,MATCH($H:$H,CDN!$C:$C,0))*(1-$N$2)*(1-$N$3)*(1-$N$4),2) -> 88.55
...
