Workbook

Sheet CDN
D1: U2 FASTENERS - Pricing / Order Sheet - CANADA
B5: Revision Date: | C5: 2026 MAY 01 | D5: Presumed Discount => | E5: 0 | G5: 0 | H5: 0
A6: Customer Name: | E6: Contact Name/Phone:
B7: Address:
F8: Your PO:
B10: Complete sections in YELLOW
B11: Send completed form to U2 fasteners: | F11: REQUESTED SHIP DATE:
B12: orders@u2fasteners.com
B13: Fx: 807-623-6224 Ph: 855-895-7096
B14: PRODUCT NET T O T A L Must meet the freight prepaid minimum to qualify ==> | H14: =SUBTOTAL(9,H18:H551) -> 0
E15: 0.1 | F15: plus T A R I F F ==> | H15: =H14*E15 -> 0
B16: Pricing Link: https://u2fasteners.com/cdn-pricing/ | E16: (taxes, freight [if any] will be added) | G16: Total | H16: =H14+H15 -> 0 | J16: =SUM(J18:J551) -> 0
A17: Order Line # | B17: UPC | C17: Stockcode | D17: Description | E17: Pieces | F17: OrderQty | G17: MSRP-CDN | H17: Net Price | I17: MSRP including Tariff | J17: Net Pricing including Tariff | K17: Driver Bit Size | L17: STATUS don’t order NEW ITEMS ! Coming soon ! | M17: Total Weight including packing materials/lbs | N17: weight in lbs/ provide by manufacturer | O17: weight per 100/pcs | P17: Packing Material | Q17: MC Packing Material | R17: 1 x Driver Bit | S17: Net weight/lbs
A18: =SUBTOTAL(3,$B$18:B18) -> 1 | B18: U2 Universal
A19: =SUBTOTAL(3,$B$18:B19) -> 2 | B19: 696244112168 | C19: U06100500B | D19: Univ 6X1/2" Bulk | E19: 16000 | G19: 695.61 | H19: =(ROUND(G19*(1-$E$5)*(1-$G$5)*(1-$H$5),2)*F19) -> 0 | I19: =(G19*$E$15)+G19 -> 765.171 | J19: =H19+(H19*$E$15) -> 0 | K19: 15 | L19: available | M19: =S19+P19 -> 23.95 | N19: 30.624 | O19: 0.3828 | P19: 1.43 | Q19: 0 | R19: 0 | S19: 22.52
A20: =SUBTOTAL(3,$B$18:B20) -> 3 | B20: 696244112182 | C20: U06100500H | D20: Univ 6X1/2" Pkg | E20: 100 | G20: 9.78 | H20: =(ROUND(G20*(1-$E$5)*(1-$G$5)*(1-$H$5),2)*F20) -> 0 | I20: =(G20*$E$15)+G20 -> 10.758 | J20: =H20+(H20*$E$15) -> 0 | K20: 15 | L20: available | M20: =(S20+P20)+(Q20/6) -> 0.2568 | N20: 0.3828 | O20: 0.3828 | P20: 0.078 | Q20: 0.228 | R20: 0.01 | S20: 0.1408
A21: =SUBTOTAL(3,$B$18:B21) -> 4 | B21: 696244112205 | C21: U06100500P | D21: Univ 6X1/2" Pail | E21: 1600 | G21: 71.29 | H21: =(ROUND(G21*(1-$E$5)*(1-$G$5)*(1-$H$5),2)*F21) -> 0 | I21: =(G21*$E$15)+G21 -> 78.419 | J21: =H21+(H21*$E$15) -> 0 | K21: 15 | L21: available | M21: =S21+P21 -> 2.514 | N21: 3.552384 | O21: 0.38 | P21: 0.264 | Q21: 0.4 | R21: 0.01 | S21: 2.25
A22: =SUBTOTAL(3,$B$18:B22) -> 5 | B22: 696244112229 | C22: U06100625B | D22: Univ 6X5/8" Bulk | E22: 14000 | G22: 701.97 | H22: =(ROUND(G22*(1-$E$5)*(1-$G$5)*(1-$H$5),2)*F22) -> 0 | I22: =(G22*$E$15)+G22 -> 772.167 | J22: =H22+(H22*$E$15) -> 0 | K22: 15 | L22: available | M22: =S22+P22 -> 26.07 | N22: 30.624 | O22: 0.3828 | P22: 1.43 | Q22: 0 | R22: 0 | S22: 24.64
A23: =SUBTOTAL(3,$B$18:B23) -> 6 | B23: 696244112243 | C23: U06100625H | D23: Univ 6X5/8" Pkg | E23: 100 | G23: 10.1 | H23: =(ROUND(G23*(1-$E$5)*(1-$G$5)*(1-$H$5),2)*F23) -> 0 | I23: =(G23*$E$15)+G23 -> 11.11 | J23: =H23+(H23*$E$15) -> 0 | K23: 15 | L23: available | M23: =(S23+P23)+(Q23/6) -> 0.5088 | N23: 0.3828 | O23: 0.3828 | P23: 0.078 | Q23: 0.228 | R23: 0.01 | S23: =O23/100*E23+R23 -> 0.3928
A24: =SUBTOTAL(3,$B$18:B24) -> 7 | B24: 696244112267 | C24: U06100625P | D24: Univ 6X5/8" Pail | E24: 1400 | G24: 71.29 | H24: =(ROUND(G24*(1-$E$5)*(1-$G$5)*(1-$H$5),2)*F24) -> 0 | I24: =(G24*$E$15)+G24 -> 78.419 | J24: =H24+(H24*$E$15) -> 0 | K24: 15 | L24: available | M24: =S24+P24 -> 2.724 | N24: 3.552384 | O24: 0.38 | P24: 0.264 | Q24: 0.4 | R24: 0.01 | S24: 2.46
A25: =SUBTOTAL(3,$B$18:B25) -> 8 | B25: 696244110232 | C25: U06101500B | D25: Univ 6X1"1/2 Bulk | E25: 8000 | G25: 584.41 | H25: =(ROUND(G25*(1-$E$5)*(1-$G$5)*(1-$H$5),2)*F25) -> 0 | I25: =(G25*$E$15)+G25 -> 642.851 | J25: =H25+(H25*$E$15) -> 0 | K25: 15 | L25: available | M25: =S25+P25 -> 32.054 | N25: 30.624 | O25: 0.3828 | P25: 1.43 | Q25: 0 | R25: 0 | S25: =O25/100*E25+R25 -> 30.624
A26: =SUBTOTAL(3,$B$18:B26) -> 9 | B26: 696244110256 | C26: U06101500H | D26: Univ 6X1"1/2 Pkg | E26: 100 | G26: 10.5 | H26: =(ROUND(G26*(1-$E$5)*(1-$G$5)*(1-$H$5),2)*F26) -> 0 | I26: =(G26*$E$15)+G26 -> 11.55 | J26: =H26+(H26*$E$15) -> 0 | K26: 15 | L26: available | M26: =(S26+P26)+(Q26/6) -> 0.5088 | N26: 0.3828 | O26: 0.3828 | P26: 0.078 | Q26: 0.228 | R26: 0.01 | S26: =O26/100*E26+R26 -> 0.3928
A27: =SUBTOTAL(3,$B$18:B27) -> 10 | B27: 696244110270 | C27: U06101500P | D27: Univ 6X1"1/2 Pail | E27: 928 | G27: 71.29 | H27: =(ROUND(G27*(1-$E$5)*(1-$G$5)*(1-$H$5),2)*F27) -> 0 | I27: =(G27*$E$15)+G27 -> 78.419 | J27: =H27+(H27*$E$15) -> 0 | K27: 15 | L27: available | M27: =S27+P27 -> 3.8004 | N27: 3.552384 | O27: 0.38 | P27: 0.264 | Q27: 0.4 | R27: 0.01 | S27: =O27/100*E27+R27 -> 3.5364
A28: =SUBTOTAL(3,$B$18:B28) -> 11 | B28: 696244111079 | C28: U08101250B | D28: Univ 8X1"1/4 Bulk | E28: 10000 | G28: 850.83 | H28: =(ROUND(G28*(1-$E$5)*(1-$G$5)*(1-$H$5),2)*F28) -> 0 | I28: =(G28*$E$15)+G28 -> 935.913 | J28: =H28+(H28*$E$15) -> 0 | K28: 15 | L28: available | M28: =S28+P28 -> 42.63 | N28: 30.745 | O28: 0.412 | P28: 1.43 | Q28: 0 | R28: 0 | S28: =O28/100*E28+R28 -> 41.2
A29: =SUBTOTAL(3,$B$18:B29) -> 12 | B29: 696244111093 | C29: U08101250H | D29: Univ 8X1"1/4 Pkg | E29: 100 | G29: 10.73 | H29: =(ROUND(G29*(1-$E$5)*(1-$G$5)*(1-$H$5),2)*F29) -> 0 | I29: =(G29*$E$15)+G29 -> 11.803 | J29: =H29+(H29*$E$15) -> 0 | K29: 15 | L29: available | M29: =(S29+P29)+(Q29/6) -> 0.538 | N29: 0.473 | O29: 0.412 | P29: 0.078 | Q29: 0.228 | R29: 0.01 | S29: =O29/100*E29+R29 -> 0.422
A30: =SUBTOTAL(3,$B$18:B30) -> 13 | B30: 696244111116 | C30: U08101250P | D30: Univ 8X1"1/4 Pail | E30: 835 | G30: 71.29 | H30: =(ROUND(G30*(1-$E$5)*(1-$G$5)*(1-$H$5),2)*F30) -> 0 | I30: =(G30*$E$15)+G30 -> 78.419 | J30: =H30+(H30*$E$15) -> 0 | K30: 15 | L30: available | M30: =S30+P30 -> 3.7142 | N30: 3.5475 | O30: 0.412 | P30: 0.264 | Q30: 0.4 | R30: 0.01 | S30: =O30/100*E30+R30 -> 3.4502
A31: =SUBTOTAL(3,$B$18:B31) -> 14 | B31: 696244100004 | C31: U08101500B | D31: Univ 8X1"1/2 Bulk | E31: 6500 | G31: 592 | H31: =(ROUND(G31*(1-$E$5)*(1-$G$5)*(1-$H$5),2)*F31) -> 0 | I31: =(G31*$E$15)+G31 -> 651.2 | J31: =H31+(H31*$E$15) -> 0 | K31: 15 | L31: available | M31: =S31+P31 -> 32.37 | N31: 30.745 | O31: 0.476 | P31: 1.43 | Q31: 0 | R31: 0 | S31: =O31/100*E31+R31 -> 30.94
A32: =SUBTOTAL(3,$B$18:B32) -> 15 | B32: 696244100271 | C32: U08101500H | D32: Univ 8X1"1/2 Pkg | E32: 100 | G32: 11.38 | H32: =(ROUND(G32*(1-$E$5)*(1-$G$5)*(1-$H$5),2)*F32) -> 0 | I32: =(G32*$E$15)+G32 -> 12.518 | J32: =H32+(H32*$E$15) -> 0 | K32: 15 | L32: available | M32: =(S32+P32)+(Q32/6) -> 0.602 | N32: 0.473 | O32: 0.476 | P32: 0.078 | Q32: 0.228 | R32: 0.01 | S32: =O32/100*E32+R32 -> 0.486
A33: =SUBTOTAL(3,$B$18:B33) -> 16 | B33: 696244100141 | C33: U08101500P | D33: Univ 8X1"1/2 Pail | E33: 750 | G33: 71.29 | H33: =(ROUND(G33*(1-$E$5)*(1-$G$5)*(1-$H$5),2)*F33) -> 0 | I33: =(G33*$E$15)+G33 -> 78.419 | J33: =H33+(H33*$E$15) -> 0 | K33: 15 | L33: available | M33: =S33+P33 -> 3.844 | N33: 3.5475 | O33: 0.476 | P33: 0.264 | Q33: 0.4 | R33: 0.01 | S33: =O33/100*E33+R33 -> 3.58
A34: =SUBTOTAL(3,$B$18:B34) -> 17 | B34: 696244100011 | C34: U08102000B | D34: Univ 8X2" Bulk | E34: 4500 | G34: 460.92 | H34: =(ROUND(G34*(1-$E$5)*(1-$G$5)*(1-$H$5),2)*F34) -> 0 | I34: =(G34*$E$15)+G34 -> 507.012 | J34: =H34+(H34*$E$15) -> 0 | K34: 15 | L34: available | M34: =S34+P34 -> 29.15 | N34: 27.522 | O34: 0.616 | P34: 1.43 | Q34: 0 | R34: 0 | S34: =O34/100*E34+R34 -> 27.72
A35: =SUBTOTAL(3,$B$18:B35) -> 18 | B35: 696244100288 | C35: U08102000H | D35: Univ 8X2" Pkg | E35: 100 | G35: 12.8 | H35: =(ROUND(G35*(1-$E$5)*(1-$G$5)*(1-$H$5),2)*F35) -> 0 | I35: =(G35*$E$15)+G35 -> 14.08 | J35: =H35+(H35*$E$15) -> 0 | K35: 15 | L35: available | M35: =(S35+P35)+(Q35/6) -> 0.742 | N35: 0.6116 | O35: 0.616 | P35: 0.078 | Q35: 0.228 | R35: 0.01 | S35: =O35/100*E35+R35 -> 0.626
A36: =SUBTOTAL(3,$B$18:B36) -> 19 | B36: 696244100158 | C36: U08102000P | D36: Univ 8X2" Pail | E36: 630 | G36: 71.29 | H36: =(ROUND(G36*(1-$E$5)*(1-$G$5)*(1-$H$5),2)*F36) -> 0 | I36: =(G36*$E$15)+G36 -> 78.419 | J36: =H36+(H36*$E$15) -> 0 | K36: 15 | L36: available | M36: =S36+P36 -> 4.1548 | N36: 3.85308 | O36: 0.616 | P36: 0.264 | Q36: 0.4 | R36: 0.01 | S36: =O36/100*E36+R36 -> 3.8908
A37: =SUBTOTAL(3,$B$18:B37) -> 20 | B37: 696244100028 | C37: U09101500B | D37: Univ 9X1"1/2 Bulk | E37: 5200 | G37: 510.2244 | H37: =(ROUND(G37*(1-$E$5)*(1-$G$5)*(1-$H$5),2)*F37) -> 0 | I37: =(G37*$E$15)+G37 -> 561.24684 | J37: =H37+(H37*$E$15) -> 0 | K37: 25 | L37: available | M37: =S37+P37 -> 31.382 | N37: 29.744 | O37: 0.576 | P37: 1.43 | Q37: 0 | R37: 0 | S37: =O37/100*E37+R37 -> 29.952
A38: =SUBTOTAL(3,$B$18:B38) -> 21 | B38: 696244100295 | C38: U09101500H | D38: Univ 9X1"1/2 Pkg | E38: 100 | G38: 12.2706 | H38: =(ROUND(G38*(1-$E$5)*(1-$G$5)*(1-$H$5),2)*F38) -> 0 | I38: =(G38*$E$15)+G38 -> 13.49766 | J38: =H38+(H38*$E$15) -> 0 | K38: 25 | L38: available | M38: =(S38+P38)+(Q38/6) -> 0.702 | N38: 0.572 | O38: 0.576 | P38: 0.078 | Q38: 0.228 | R38: 0.01 | S38: =O38/100*E38+R38 -> 0.586
A39: =SUBTOTAL(3,$B$18:B39) -> 22 | B39: 696244100165 | C39: U09101500P | D39: Univ 9X1"1/2 Pail | E39: 610 | G39: 72.7158 | H39: =(ROUND(G39*(1-$E$5)*(1-$G$5)*(1-$H$5),2)*F39) -> 0 | I39: =(G39*$E$15)+G39 -> 79.98738 | J39: =H39+(H39*$E$15) -> 0 | K39: 25 | L39: available | M39: =S39+P39 -> 3.7876 | N39: 3.4892 | O39: 0.576 | P39: 0.264 | Q39: 0.4 | R39: 0.01 | S39: =O39/100*E39+R39 -> 3.5236
A40: =SUBTOTAL(3,$B$18:B40) -> 23 | B40: 696244100936 | C40: U09101750B | D40: Univ 9X1"3/4 Bulk | E40: 4500 | G40: 573.3726 | H40: =(ROUND(G40*(1-$E$5)*(1-$G$5)*(1-$H$5),2)*F40) -> 0 | I40: =(G40*$E$15)+G40 -> 630.70986 | J40: =H40+(H40*$E$15) -> 0 | K40: 25 | L40: available | M40: =S40+P40 -> 32.93 | N40: 31.284 | O40: 0.7 | P40: 1.43 | Q40: 0 | R40: 0 | S40: =O40/100*E40+R40 -> 31.5
A41: =SUBTOTAL(3,$B$18:B41) -> 24 | B41: 696244100950 | C41: U09101750H | D41: Univ 9X1"3/4 Pkg | E41: 100 | G41: 15.1164 | H41: =(ROUND(G41*(1-$E$5)*(1-$G$5)*(1-$H$5),2)*F41) -> 0 | I41: =(G41*$E$15)+G41 -> 16.62804 | J41: =H41+(H41*$E$15) -> 0 | K41: 15 | L41: available | M41: =(S41+P41)+(Q41/6) -> 0.826 | N41: 0.6952 | O41: 0.7 | P41: 0.078 | Q41: 0.228 | R41: 0.01 | S41: =O41/100*E41+R41 -> 0.71
A42: =SUBTOTAL(3,$B$18:B42) -> 25 | B42: 696244100974 | C42: U09101750P | D42: Univ 9X1"3/4 Pail | E42: 542 | G42: 72.7158 | H42: =(ROUND(G42*(1-$E$5)*(1-$G$5)*(1-$H$5),2)*F42) -> 0 | I42: =(G42*$E$15)+G42 -> 79.98738 | J42: =H42+(H42*$E$15) -> 0 | K42: 15 | L42: available | M42: =S42+P42 -> 4.068 | N42: 3.767984 | O42: 0.7 | P42: 0.264 | Q42: 0.4 | R42: 0.01 | S42: =O42/100*E42+R42 -> 3.804
A43: =SUBTOTAL(3,$B$18:B43) -> 26 | B43: 696244100035 | C43: U09102000B | D43: Univ 9X2" Bulk | E43: 3700 | G43: 452.9004 | H43: =(ROUND(G43*(1-$E$5)*(1-$G$5)*(1-$H$5),2)*F43) -> 0 | I43: =(G43*$E$15)+G43 -> 498.19044 | J43: =H43+(H43*$E$15) -> 0 | K43: 25 | L43: available | M43: =S43+P43 -> 29.624 | N43: 28.083 | O43: 0.762 | P43: 1.43 | Q43: 0 | R43: 0 | S43: =O43/100*E43+R43 -> 28.194
A44: =SUBTOTAL(3,$B$18:B44) -> 27 | B44: 696244100301 | C44: U09102000H | D44: Univ 9X2" Pkg | E44: 100 | G44: 15.3102 | H44: =(ROUND(G44*(1-$E$5)*(1-$G$5)*(1-$H$5),2)*F44) -> 0 | I44: =(G44*$E$15)+G44 -> 16.84122 | J44: =H44+(H44*$E$15) -> 0 | K44: 25 | L44: available | M44: =(S44+P44)+(Q44/6) -> 0.888 | N44: 0.759 | O44: 0.762 | P44: 0.078 | Q44: 0.228 | R44: 0.01 | S44: =O44/100*E44+R44 -> 0.772
...

Sheet CDN Price Index
A1: UNIVERSAL SCREW | M1: Discounts
B2: BULK | E2: Pail | H2: PACKAGE | M2: #1 | N2: 0
A3: SIZE | B3: STOCK CODE | C3: PCS | D3: MSRP | E3: STOCK CODE | F3: PCS | G3: MSRP | H3: STOCK CODE | I3: PCS | J3: MSRP | K3: CDN Pricing | M3: #2 | N3: 0
A4: 6 X 1/2" | B4: U06100500B | C4: =INDEX(CDN!E:E,MATCH($B:$B,CDN!$C:$C,0)) -> 16000 | D4: =ROUND(INDEX(CDN!I:I,MATCH('CDN Price Index'!B:B,CDN!C:C,0))*(1-$N$2)*(1-$N$3)*(1-$N$4),2) -> 765.17 | E4: U06100500P | F4: =INDEX(CDN!E:E,MATCH($E:$E,CDN!$C:$C,0)) -> 1600 | G4: =ROUND(INDEX(CDN!I:I,MATCH($E:$E,CDN!$C:$C,0))*(1-$N$2)*(1-$N$3)*(1-$N$4),2) -> 78.42 | H4: U06100500H | I4: =INDEX(CDN!E:E,MATCH($H:$H,CDN!$C:$C,0)) -> 100 | J4: =ROUND(INDEX(CDN!I:I,MATCH($H:$H,CDN!$C:$C,0))*(1-$N$2)*(1-$N$3)*(1-$N$4),2) -> 10.76 | M4: #3 | N4: 0
A5: 6 X 5/8" | B5: U06100625B | C5: =INDEX(CDN!E:E,MATCH(B:B,CDN!C:C,0)) -> 14000 | D5: =ROUND(INDEX(CDN!I:I,MATCH('CDN Price Index'!B:B,CDN!C:C,0))*(1-$N$2)*(1-$N$3)*(1-$N$4),2) -> 772.17 | E5: U06100625P | F5: =INDEX(CDN!E:E,MATCH($E:$E,CDN!$C:$C,0)) -> 1400 | G5: =ROUND(INDEX(CDN!I:I,MATCH($E:$E,CDN!$C:$C,0))*(1-$N$2)*(1-$N$3)*(1-$N$4),2) -> 78.42 | H5: U06100625H | I5: =INDEX(CDN!E:E,MATCH($H:$H,CDN!$C:$C,0)) -> 100 | J5: =ROUND(INDEX(CDN!I:I,MATCH($H:$H,CDN!$C:$C,0))*(1-$N$2)*(1-$N$3)*(1-$N$4),2) -> 11.11
A6: 6 X 1-1/2" | B6: U06101500B | C6: =INDEX(CDN!E:E,MATCH(B:B,CDN!C:C,0)) -> 8000 | D6: =ROUND(INDEX(CDN!I:I,MATCH('CDN Price Index'!B:B,CDN!C:C,0))*(1-$N$2)*(1-$N$3)*(1-$N$4),2) -> 642.85 | E6: U06101500P | F6: =INDEX(CDN!E:E,MATCH($E:$E,CDN!$C:$C,0)) -> 928 | G6: =ROUND(INDEX(CDN!I:I,MATCH($E:$E,CDN!$C:$C,0))*(1-$N$2)*(1-$N$3)*(1-$N$4),2) -> 78.42 | H6: U06101500H | I6: =INDEX(CDN!E:E,MATCH($H:$H,CDN!$C:$C,0)) -> 100 | J6: =ROUND(INDEX(CDN!I:I,MATCH($H:$H,CDN!$C:$C,0))*(1-$N$2)*(1-$N$3)*(1-$N$4),2) -> 11.55
A7: 8 X 1-1/4" | B7: U08101250B | C7: =INDEX(CDN!E:E,MATCH(B:B,CDN!C:C,0)) -> 10000 | D7: =ROUND(INDEX(CDN!I:I,MATCH('CDN Price Index'!B:B,CDN!C:C,0))*(1-$N$2)*(1-$N$3)*(1-$N$4),2) -> 935.91 | E7: U08101250P | F7: =INDEX(CDN!E:E,MATCH($E:$E,CDN!$C:$C,0)) -> 835 | G7: =ROUND(INDEX(CDN!I:I,MATCH($E:$E,CDN!$C:$C,0))*(1-$N$2)*(1-$N$3)*(1-$N$4),2) -> 78.42 | H7: U08101250H | I7: =INDEX(CDN!E:E,MATCH($H:$H,CDN!$C:$C,0)) -> 100 | J7: =ROUND(INDEX(CDN!I:I,MATCH($H:$H,CDN!$C:$C,0))*(1-$N$2)*(1-$N$3)*(1-$N$4),2) -> 11.8
A8: 8 X 1-1/2" | B8: U08101500B | C8: =INDEX(CDN!E:E,MATCH(B:B,CDN!C:C,0)) -> 6500 | D8: =ROUND(INDEX(CDN!I:I,MATCH('CDN Price Index'!B:B,CDN!C:C,0))*(1-$N$2)*(1-$N$3)*(1-$N$4),2) -> 651.2 | E8: U08101500P | F8: =INDEX(CDN!E:E,MATCH($E:$E,CDN!$C:$C,0)) -> 750 | G8: =ROUND(INDEX(CDN!I:I,MATCH($E:$E,CDN!$C:$C,0))*(1-$N$2)*(1-$N$3)*(1-$N$4),2) -> 78.42 | H8: U08101500H | I8: =INDEX(CDN!E:E,MATCH($H:$H,CDN!$C:$C,0)) -> 100 | J8: =ROUND(INDEX(CDN!I:I,MATCH($H:$H,CDN!$C:$C,0))*(1-$N$2)*(1-$N$3)*(1-$N$4),2) -> 12.52
A9: 8 X 2" | B9: U08102000B | C9: =INDEX(CDN!E:E,MATCH(B:B,CDN!C:C,0)) -> 4500 | D9: =ROUND(INDEX(CDN!I:I,MATCH('CDN Price Index'!B:B,CDN!C:C,0))*(1-$N$2)*(1-$N$3)*(1-$N$4),2) -> 507.01 | E9: U08102000P | F9: =INDEX(CDN!E:E,MATCH($E:$E,CDN!$C:$C,0)) -> 630 | G9: =ROUND(INDEX(CDN!I:I,MATCH($E:$E,CDN!$C:$C,0))*(1-$N$2)*(1-$N$3)*(1-$N$4),2) -> 78.42 | H9: U08102000H | I9: =INDEX(CDN!E:E,MATCH($H:$H,CDN!$C:$C,0)) -> 100 | J9: =ROUND(INDEX(CDN!I:I,MATCH($H:$H,CDN!$C:$C,0))*(1-$N$2)*(1-$N$3)*(1-$N$4),2) -> 14.08
A10: 9 X 1-1/2" | B10: U09101500B | C10: =INDEX(CDN!E:E,MATCH(B:B,CDN!C:C,0)) -> 5200 | D10: =ROUND(INDEX(CDN!I:I,MATCH('CDN Price Index'!B:B,CDN!C:C,0))*(1-$N$2)*(1-$N$3)*(1-$N$4),2) -> 561.25 | E10: U09101500P | F10: =INDEX(CDN!E:E,MATCH($E:$E,CDN!$C:$C,0)) -> 610 | G10: =ROUND(INDEX(CDN!I:I,MATCH($E:$E,CDN!$C:$C,0))*(1-$N$2)*(1-$N$3)*(1-$N$4),2) -> 79.99 | H10: U09101500H | I10: =INDEX(CDN!E:E,MATCH($H:$H,CDN!$C:$C,0)) -> 100 | J10: =ROUND(INDEX(CDN!I:I,MATCH($H:$H,CDN!$C:$C,0))*(1-$N$2)*(1-$N$3)*(1-$N$4),2) -> 13.5
A11: 9 X 1-3/4 | B11: U09101750B | C11: =INDEX(CDN!E:E,MATCH(B:B,CDN!C:C,0)) -> 4500 | D11: =ROUND(INDEX(CDN!I:I,MATCH('CDN Price Index'!B:B,CDN!C:C,0))*(1-$N$2)*(1-$N$3)*(1-$N$4),2) -> 630.71 | E11: U09101750P | F11: =INDEX(CDN!E:E,MATCH($E:$E,CDN!$C:$C,0)) -> 542 | G11: =ROUND(INDEX(CDN!I:I,MATCH($E:$E,CDN!$C:$C,0))*(1-$N$2)*(1-$N$3)*(1-$N$4),2) -> 79.99 | H11: U09101750H | I11: =INDEX(CDN!E:E,MATCH($H:$H,CDN!$C:$C,0)) -> 100 | J11: =ROUND(INDEX(CDN!I:I,MATCH($H:$H,CDN!$C:$C,0))*(1-$N$2)*(1-$N$3)*(1-$N$4),2) -> 16.63
A12: 9 X 2" | B12: U09102000B | C12: =INDEX(CDN!E:E,MATCH(B:B,CDN!C:C,0)) -> 3700 | D12: =ROUND(INDEX(CDN!I:I,MATCH('CDN Price Index'!B:B,CDN!C:C,0))*(1-$N$2)*(1-$N$3)*(1-$N$4),2) -> 498.19 | E12: U09102000P | F12: =INDEX(CDN!E:E,MATCH($E:$E,CDN!$C:$C,0)) -> 510 | G12: =ROUND(INDEX(CDN!I:I,MATCH($E:$E,CDN!$C:$C,0))*(1-$N$2)*(1-$N$3)*(1-$N$4),2) -> 79.99 | H12: U09102000H | I12: =INDEX(CDN!E:E,MATCH($H:$H,CDN!$C:$C,0)) -> 100 | J12: =ROUND(INDEX(CDN!I:I,MATCH($H:$H,CDN!$C:$C,0))*(1-$N$2)*(1-$N$3)*(1-$N$4),2) -> 16.84
A13: 9 X 2-1/2" | B13: U09102500B | C13: =INDEX(CDN!E:E,MATCH(B:B,CDN!C:C,0)) -> 2600 | D13: =ROUND(INDEX(CDN!I:I,MATCH('CDN Price Index'!B:B,CDN!C:C,0))*(1-$N$2)*(1-$N$3)*(1-$N$4),2) -> 413.06 | E13: U09102500P | F13: =INDEX(CDN!E:E,MATCH($E:$E,CDN!$C:$C,0)) -> 435 | G13: =ROUND(INDEX(CDN!I:I,MATCH($E:$E,CDN!$C:$C,0))*(1-$N$2)*(1-$N$3)*(1-$N$4),2) -> 79.99 | H13: U09102500H | I13: =INDEX(CDN!E:E,MATCH($H:$H,CDN!$C:$C,0)) -> 100 | J13: =ROUND(INDEX(CDN!I:I,MATCH($H:$H,CDN!$C:$C,0))*(1-$N$2)*(1-$N$3)*(1-$N$4),2) -> 19.86
A14: 9 X 2-3/4" | B14: U09102750B | C14: =INDEX(CDN!E:E,MATCH(B:B,CDN!C:C,0)) -> 2000 | D14: =ROUND(INDEX(CDN!I:I,MATCH('CDN Price Index'!B:B,CDN!C:C,0))*(1-$N$2)*(1-$N$3)*(1-$N$4),2) -> 379.24 | E14: U09102750P | F14: =INDEX(CDN!E:E,MATCH($E:$E,CDN!$C:$C,0)) -> 365 | G14: =ROUND(INDEX(CDN!I:I,MATCH($E:$E,CDN!$C:$C,0))*(1-$N$2)*(1-$N$3)*(1-$N$4),2) -> 79.99 | H14: U09102750H | I14: =INDEX(CDN!E:E,MATCH($H:$H,CDN!$C:$C,0)) -> 100 | J14: =ROUND(INDEX(CDN!I:I,MATCH($H:$H,CDN!$C:$C,0))*(1-$N$2)*(1-$N$3)*(1-$N$4),2) -> 23.71
A15: 9 X 3-1/8" | B15: U09103125B | C15: =INDEX(CDN!E:E,MATCH(B:B,CDN!C:C,0)) -> 1500 | D15: =ROUND(INDEX(CDN!I:I,MATCH('CDN Price Index'!B:B,CDN!C:C,0))*(1-$N$2)*(1-$N$3)*(1-$N$4),2) -> 272.01 | E15: U09103125P | F15: =INDEX(CDN!E:E,MATCH($E:$E,CDN!$C:$C,0)) -> 330 | G15: =ROUND(INDEX(CDN!I:I,MATCH($E:$E,CDN!$C:$C,0))*(1-$N$2)*(1-$N$3)*(1-$N$4),2) -> 70.64 | H15: U09103125H | I15: =INDEX(CDN!E:E,MATCH($H:$H,CDN!$C:$C,0)) -> 100 | J15: =ROUND(INDEX(CDN!I:I,MATCH($H:$H,CDN!$C:$C,0))*(1-$N$2)*(1-$N$3)*(1-$N$4),2) -> 24.95
A16: 10 X 1-5/8" | B16: U10101625B | C16: =INDEX(CDN!E:E,MATCH(B:B,CDN!C:C,0)) -> 2500 | D16: =ROUND(INDEX(CDN!I:I,MATCH('CDN Price Index'!B:B,CDN!C:C,0))*(1-$N$2)*(1-$N$3)*(1-$N$4),2) -> 441.02 | E16: U10101625P | F16: =INDEX(CDN!E:E,MATCH($E:$E,CDN!$C:$C,0)) -> 500 | G16: =ROUND(INDEX(CDN!I:I,MATCH($E:$E,CDN!$C:$C,0))*(1-$N$2)*(1-$N$3)*(1-$N$4),2) -> 88.41 | H16: U10101625H | I16: =INDEX(CDN!E:E,MATCH($H:$H,CDN!$C:$C,0)) -> 100 | J16: =ROUND(INDEX(CDN!I:I,MATCH($H:$H,CDN!$C:$C,0))*(1-$N$2)*(1-$N$3)*(1-$N$4),2) -> 19.98
... A24: 12 X 3-1/2" | B24: U12103500B | C24: =INDEX(CDN!E:E,MATCH(B:B,CDN!C:C,0)) -> 1200 | D24: =ROUND(INDEX(CDN!I:I,MATCH('CDN Price Index'!B:B,CDN!C:C,0))*(1-$N$2)*(1-$N$3)*(1-$N$4),2) -> 630.95 | E24: U12103500P | F24: =INDEX(CDN!E:E,MATCH($E:$E,CDN!$C:$C,0)) -> 125 | G24: =ROUND(INDEX(CDN!I:I,MATCH($E:$E,CDN!$C:$C,0))*(1-$N$2)*(1-$N$3)*(1-$N$4),2) -> 69.26 | H24: U12103500H | I24: =INDEX(CDN!E:E,MATCH($H:$H,CDN!$C:$C,0)) -> 50 | J24: =ROUND(INDEX(CDN!I:I,MATCH($H:$H,CDN!$C:$C,0))*(1-$N$2)*(1-$N$3)*(1-$N$4),2) -> 31.74
A25: 12 X 4" | B25: U12104000B | C25: =INDEX(CDN!E:E,MATCH(B:B,CDN!C:C,0)) -> 800 | D25: =ROUND(INDEX(CDN!I:I,MATCH('CDN Price Index'!B:B,CDN!C:C,0))*(1-$N$2)*(1-$N$3)*(1-$N$4),2) -> 449.36 | H25: U12104000H | I25: =INDEX(CDN!E:E,MATCH($H:$H,CDN!$C:$C,0)) -> 50 | J25: =ROUND(INDEX(CDN!I:I,MATCH($H:$H,CDN!$C:$C,0))*(1-$N$2)*(1-$N$3)*(1-$N$4),2) -> 35.11
A26: 12 X 5" | B26: U12105000B | C26: =INDEX(CDN!E:E,MATCH(B:B,CDN!C:C,0)) -> 500 | D26: =ROUND(INDEX(CDN!I:I,MATCH('CDN Price Index'!B:B,CDN!C:C,0))*(1-$N$2)*(1-$N$3)*(1-$N$4),2) -> 334.03 | H26: U12105000H | I26: =INDEX(CDN!E:E,MATCH($H:$H,CDN!$C:$C,0)) -> 50 | J26: =ROUND(INDEX(CDN!I:I,MATCH($H:$H,CDN!$C:$C,0))*(1-$N$2)*(1-$N$3)*(1-$N$4),2) -> 43.54
A27: 12 X 6" | B27: U12106000B | C27: =INDEX(CDN!E:E,MATCH(B:B,CDN!C:C,0)) -> 500 | D27: =ROUND(INDEX(CDN!I:I,MATCH('CDN Price Index'!B:B,CDN!C:C,0))*(1-$N$2)*(1-$N$3)*(1-$N$4),2) -> 435.55 | H27: U12106000H | I27: =INDEX(CDN!E:E,MATCH($H:$H,CDN!$C:$C,0)) -> 50 | J27: =ROUND(INDEX(CDN!I:I,MATCH($H:$H,CDN!$C:$C,0))*(1-$N$2)*(1-$N$3)*(1-$N$4),2) -> 52.46
A28: 12 X 7" | B28: U12107000B | C28: =INDEX(CDN!E:E,MATCH(B:B,CDN!C:C,0)) -> 300 | D28: =ROUND(INDEX(CDN!I:I,MATCH('CDN Price Index'!B:B,CDN!C:C,0))*(1-$N$2)*(1-$N$3)*(1-$N$4),2) -> 440.99 | H28: U12107000H | I28: =INDEX(CDN!E:E,MATCH($H:$H,CDN!$C:$C,0)) -> 40 | J28: =ROUND(INDEX(CDN!I:I,MATCH($H:$H,CDN!$C:$C,0))*(1-$N$2)*(1-$N$3)*(1-$N$4),2) -> 73.5
A29: 12 X 8" | B29: U12108000B | C29: =INDEX(CDN!E:E,MATCH(B:B,CDN!C:C,0)) -> 300 | D29: =ROUND(INDEX(CDN!I:I,MATCH('CDN Price Index'!B:B,CDN!C:C,0))*(1-$N$2)*(1-$N$3)*(1-$N$4),2) -> 690 | H29: U12108000H | I29: =INDEX(CDN!E:E,MATCH($H:$H,CDN!$C:$C,0)) -> 40 | J29: =ROUND(INDEX(CDN!I:I,MATCH($H:$H,CDN!$C:$C,0))*(1-$N$2)*(1-$N$3)*(1-$N$4),2) -> 114.99
A30: 12 X 10" | B30: U12110000B | C30: =INDEX(CDN!E:E,MATCH(B:B,CDN!C:C,0)) -> 300 | D30: =ROUND(INDEX(CDN!I:I,MATCH('CDN Price Index'!B:B,CDN!C:C,0))*(1-$N$2)*(1-$N$3)*(1-$N$4),2) -> 1013.9 | H30: U12110000H | I30: =INDEX(CDN!E:E,MATCH($H:$H,CDN!$C:$C,0)) -> 40 | J30: =ROUND(INDEX(CDN!I:I,MATCH($H:$H,CDN!$C:$C,0))*(1-$N$2)*(1-$N$3)*(1-$N$4),2) -> 169.79
A31: 12 X 12" | B31: U12112000B | C31: =INDEX(CDN!E:E,MATCH(B:B,CDN!C:C,0)) -> 300 | D31: =ROUND(INDEX(CDN!I:I,MATCH('CDN Price Index'!B:B,CDN!C:C,0))*(1-$N$2)*(1-$N$3)*(1-$N$4),2) -> 1297.04 | H31: U12112000H | I31: =INDEX(CDN!E:E,MATCH($H:$H,CDN!$C:$C,0)) -> 40 | J31: =ROUND(INDEX(CDN!I:I,MATCH($H:$H,CDN!$C:$C,0))*(1-$N$2)*(1-$N$3)*(1-$N$4),2) -> 216.63
A32: BLACK UNIVERSAL SCREW
B33: BULK | E33: Pail | H33: PACKAGE
A34: SIZE | B34: STOCK CODE | C34: PCS | D34: MSRP | E34: STOCK CODE | F34: PCS | G34: MSRP | H34: STOCK CODE | I34: PCS | J34: MSRP
A35: 10 X 2-1/2" BK | B35: U10B02500B | C35: =INDEX(CDN!E:E,MATCH(B:B,CDN!C:C,0)) -> 2200 | D35: =ROUND(INDEX(CDN!I:I,MATCH('CDN Price Index'!B:B,CDN!C:C,0))*(1-$N$2)*(1-$N$3)*(1-$N$4),2) -> 434.58 | E35: U10B02500P | F35: =INDEX(CDN!E:E,MATCH($E:$E,CDN!$C:$C,0)) -> 350 | G35: =ROUND(INDEX(CDN!I:I,MATCH($E:$E,CDN!$C:$C,0))*(1-$N$2)*(1-$N$3)*(1-$N$4),2) -> 79.99 | H35: U10B02500H | I35: =INDEX(CDN!E:E,MATCH($H:$H,CDN!$C:$C,0)) -> 100 | J35: =ROUND(INDEX(CDN!I:I,MATCH($H:$H,CDN!$C:$C,0))*(1-$N$2)*(1-$N$3)*(1-$N$4),2) -> 24.7
A36: 10 X 3-1/8" BK | B36: U10B03125B | C36: =INDEX(CDN!E:E,MATCH(B:B,CDN!C:C,0)) -> 1500 | D36: =ROUND(INDEX(CDN!I:I,MATCH('CDN Price Index'!B:B,CDN!C:C,0))*(1-$N$2)*(1-$N$3)*(1-$N$4),2) -> 325.67 | E36: U10B03125P | F36: =INDEX(CDN!E:E,MATCH($E:$E,CDN!$C:$C,0)) -> 270 | G36: =ROUND(INDEX(CDN!I:I,MATCH($E:$E,CDN!$C:$C,0))*(1-$N$2)*(1-$N$3)*(1-$N$4),2) -> 70.64 | H36: U10B03125H | I36: =INDEX(CDN!E:E,MATCH($H:$H,CDN!$C:$C,0)) -> 100 | J36: =ROUND(INDEX(CDN!I:I,MATCH($H:$H,CDN!$C:$C,0))*(1-$N$2)*(1-$N$3)*(1-$N$4),2) -> 30.07
A38: UNIVERSAL SCREW (STAINLESS 316)
B39: BULK | E39: Pail | H39: PACKAGE
A40: SIZE | B40: STOCK CODE | C40: PCS | D40: MSRP | E40: STOCK CODE | F40: PCS | G40: MSRP | H40: STOCK CODE | I40: PCS | J40: MSRP
A41: 8 X 1-1/4" | B41: H08101250B | C41: =INDEX(CDN!E:E,MATCH(B:B,CDN!C:C,0)) -> 10000 | D41: =ROUND(INDEX(CDN!I:I,MATCH('CDN Price Index'!B:B,CDN!C:C,0))*(1-$N$2)*(1-$N$3)*(1-$N$4),2) -> 2476.08 | E41: H08101250P | F41: =INDEX(CDN!E:E,MATCH($E:$E,CDN!$C:$C,0)) -> 680 | G41: =ROUND(INDEX(CDN!I:I,MATCH($E:$E,CDN!$C:$C,0))*(1-$N$2)*(1-$N$3)*(1-$N$4),2) -> 186.95 | H41: H08101250H | I41: =INDEX(CDN!E:E,MATCH($H:$H,CDN!$C:$C,0)) -> 100 | J41: =ROUND(INDEX(CDN!I:I,MATCH($H:$H,CDN!$C:$C,0))*(1-$N$2)*(1-$N$3)*(1-$N$4),2) -> 30.95
A42: 8 X 1-1/2" | B42: H08101500B | C42: =INDEX(CDN!E:E,MATCH(B:B,CDN!C:C,0)) -> 6500 | D42: =ROUND(INDEX(CDN!I:I,MATCH('CDN Price Index'!B:B,CDN!C:C,0))*(1-$N$2)*(1-$N$3)*(1-$N$4),2) -> 1683.87 | E42: H08101500P | F42: =INDEX(CDN!E:E,MATCH($E:$E,CDN!$C:$C,0)) -> 620 | G42: =ROUND(INDEX(CDN!I:I,MATCH($E:$E,CDN!$C:$C,0))*(1-$N$2)*(1-$N$3)*(1-$N$4),2) -> 186.95 | H42: H08101500H | I42: =INDEX(CDN!E:E,MATCH($H:$H,CDN!$C:$C,0)) -> 100 | J42: =ROUND(INDEX(CDN!I:I,MATCH($H:$H,CDN!$C:$C,0))*(1-$N$2)*(1-$N$3)*(1-$N$4),2) -> 32.37
A43: 8 X 1-3/4" | B43: H08101750B | C43: =INDEX(CDN!E:E,MATCH(B:B,CDN!C:C,0)) -> 5000 | D43: =ROUND(INDEX(CDN!I:I,MATCH('CDN Price Index'!B:B,CDN!C:C,0))*(1-$N$2)*(1-$N$3)*(1-$N$4),2) -> 1700.3 | E43: H08101750P | F43: =INDEX(CDN!E:E,MATCH($E:$E,CDN!$C:$C,0)) -> 548 | G43: =ROUND(INDEX(CDN!I:I,MATCH($E:$E,CDN!$C:$C,0))*(1-$N$2)*(1-$N$3)*(1-$N$4),2) -> 186.95 | H43: H08101750H | I43: =INDEX(CDN!E:E,MATCH($H:$H,CDN!$C:$C,0)) -> 100 | J43: =ROUND(INDEX(CDN!I:I,MATCH($H:$H,CDN!$C:$C,0))*(1-$N$2)*(1-$N$3)*(1-$N$4),2) -> 38.73
A44: 9 X 1-1/2" | B44: H09101500B | C44: =INDEX(CDN!E:E,MATCH(B:B,CDN!C:C,0)) -> 5000 | D44: =ROUND(INDEX(CDN!I:I,MATCH('CDN Price Index'!B:B,CDN!C:C,0))*(1-$N$2)*(1-$N$3)*(1-$N$4),2) -> 1782.08 | E44: H09101500P | F44: =INDEX(CDN!E:E,MATCH($E:$E,CDN!$C:$C,0)) -> 545 | G44: =ROUND(INDEX(CDN!I:I,MATCH($E:$E,CDN!$C:$C,0))*(1-$N$2)*(1-$N$3)*(1-$N$4),2) -> 186.95 | H44: H09101500H | I44: =INDEX(CDN!E:E,MATCH($H:$H,CDN!$C:$C,0)) -> 100 | J44: =ROUND(INDEX(CDN!I:I,MATCH($H:$H,CDN!$C:$C,0))*(1-$N$2)*(1-$N$3)*(1-$N$4),2) -> 37.06
A45: 9 X 2" | B45: H09102000B | C45: =INDEX(CDN!E:E,MATCH(B:B,CDN!C:C,0)) -> 3700 | D45: =ROUND(INDEX(CDN!I:I,MATCH('CDN Price Index'!B:B,CDN!C:C,0))*(1-$N$2)*(1-$N$3)*(1-$N$4),2) -> 1460.25 | E45: H09102000P | F45: =INDEX(CDN!E:E,MATCH($E:$E,CDN!$C:$C,0)) -> 460 | G45: =ROUND(INDEX(CDN!I:I,MATCH($E:$E,CDN!$C:$C,0))*(1-$N$2)*(1-$N$3)*(1-$N$4),2) -> 186.95 | H45: H09102000H | I45: =INDEX(CDN!E:E,MATCH($H:$H,CDN!$C:$C,0)) -> 100 | J45: =ROUND(INDEX(CDN!I:I,MATCH($H:$H,CDN!$C:$C,0))*(1-$N$2)*(1-$N$3)*(1-$N$4),2) -> 45.36
A46: 10 X 2-1/2" | B46: H10102500B | C46: =INDEX(CDN!E:E,MATCH(B:B,CDN!C:C,0)) -> 2200 | D46: =ROUND(INDEX(CDN!I:I,MATCH('CDN Price Index'!B:B,CDN!C:C,0))*(1-$N$2)*(1-$N$3)*(1-$N$4),2) -> 1041.34 | E46: H10102500P | F46: =INDEX(CDN!E:E,MATCH($E:$E,CDN!$C:$C,0)) -> 295 | G46: =ROUND(INDEX(CDN!I:I,MATCH($E:$E,CDN!$C:$C,0))*(1-$N$2)*(1-$N$3)*(1-$N$4),2) -> 186.95 | H46: H10102500H | I46: =INDEX(CDN!E:E,MATCH($H:$H,CDN!$C:$C,0)) -> 100 | J46: =ROUND(INDEX(CDN!I:I,MATCH($H:$H,CDN!$C:$C,0))*(1-$N$2)*(1-$N$3)*(1-$N$4),2) -> 68.3
A47: 10 X 2-3/4" | B47: H10102750B | C47: =INDEX(CDN!E:E,MATCH(B:B,CDN!C:C,0)) -> 2000 | D47: =ROUND(INDEX(CDN!I:I,MATCH('CDN Price Index'!B:B,CDN!C:C,0))*(1-$N$2)*(1-$N$3)*(1-$N$4),2) -> 1214.18 | E47: H10102750P | F47: =INDEX(CDN!E:E,MATCH($E:$E,CDN!$C:$C,0)) -> 250 | G47: =ROUND(INDEX(CDN!I:I,MATCH($E:$E,CDN!$C:$C,0))*(1-$N$2)*(1-$N$3)*(1-$N$4),2) -> 186.95 | H47: H10102750H | I47: =INDEX(CDN!E:E,MATCH($H:$H,CDN!$C:$C,0)) -> 100 | J47: =ROUND(INDEX(CDN!I:I,MATCH($H:$H,CDN!$C:$C,0))*(1-$N$2)*(1-$N$3)*(1-$N$4),2) -> 80.1
A48: 10 X 3" | B48: H10103000B | C48: =INDEX(CDN!E:E,MATCH(B:B,CDN!C:C,0)) -> 1500 | D48: =ROUND(INDEX(CDN!I:I,MATCH('CDN Price Index'!B:B,CDN!C:C,0))*(1-$N$2)*(1-$N$3)*(1-$N$4),2) -> 1011.45 | E48: H10103000P | F48: =INDEX(CDN!E:E,MATCH($E:$E,CDN!$C:$C,0)) -> 210 | G48: =ROUND(INDEX(CDN!I:I,MATCH($E:$E,CDN!$C:$C,0))*(1-$N$2)*(1-$N$3)*(1-$N$4),2) -> 186.95 | H48: H10103000H | I48: =INDEX(CDN!E:E,MATCH($H:$H,CDN!$C:$C,0)) -> 100 | J48: =ROUND(INDEX(CDN!I:I,MATCH($H:$H,CDN!$C:$C,0))*(1-$N$2)*(1-$N$3)*(1-$N$4),2) -> 97.4
...
