Workbook

Sheet CDN
D1: U2 FASTENERS - Pricing / Order Sheet - CANADA
B5: Revision Date: | C5: 2026 MAY 01 | D5: Presumed Discount => | E5: 0 | G5: 0 | H5: 0
A6: Customer Name: | E6: Contact Name/Phone:
B7: Address:
F8: Your PO:
B10: Complete sections in YELLOW
B11: Send completed form to U2 fasteners: | F11: REQUESTED SHIP DATE:
B12: orders@u2fasteners.com
B13: Fx: 807-623-6224 Ph: 855-895-7096
B14: PRODUCT NET T O T A L Must meet the freight prepaid minimum to qualify ==> | H14: =SUBTOTAL(9,H18:H551) -> 0
E15: 0.1 | F15: plus T A R I F F ==> | H15: =H14*E15 -> 0
B16: Pricing Link: https://u2fasteners.com/cdn-pricing/ | E16: (taxes, freight [if any] will be added) | G16: Total | H16: =H14+H15 -> 0 | J16: =SUM(J18:J551) -> 0
A17: Order Line # | B17: UPC | C17: Stockcode | D17: Description | E17: Pieces | F17: OrderQty | G17: MSRP-CDN | H17: Net Price | I17: MSRP including Tariff | J17: Net Pricing including Tariff | K17: Driver Bit Size | L17: STATUS don’t order NEW ITEMS ! Coming soon ! | M17: Total Weight including packing materials/lbs | N17: weight in lbs/ provide by manufacturer | O17: weight per 100/pcs | P17: Packing Material | Q17: MC Packing Material | R17: 1 x Driver Bit | S17: Net weight/lbs
A18: =SUBTOTAL(3,$B$18:B18) -> 1 | B18: U2 Universal
A19: =SUBTOTAL(3,$B$18:B19) -> 2 | B19: 696244112168 | C19: U06100500B | D19: Univ 6X1/2" Bulk | E19: 16000 | G19: 695.61 | H19: =(ROUND(G19*(1-$E$5)*(1-$G$5)*(1-$H$5),2)*F19) -> 0 | I19: =(G19*$E$15)+G19 -> 765.171 | J19: =H19+(H19*$E$15) -> 0 | K19: 15 | L19: available | M19: =S19+P19 -> 23.95 | N19: 30.624 | O19: 0.3828 | P19: 1.43 | Q19: 0 | R19: 0 | S19: 22.52
A20: =SUBTOTAL(3,$B$18:B20) -> 3 | B20: 696244112182 | C20: U06100500H | D20: Univ 6X1/2" Pkg | E20: 100 | G20: 9.78 | H20: =(ROUND(G20*(1-$E$5)*(1-$G$5)*(1-$H$5),2)*F20) -> 0 | I20: =(G20*$E$15)+G20 -> 10.758 | J20: =H20+(H20*$E$15) -> 0 | K20: 15 | L20: available | M20: =(S20+P20)+(Q20/6) -> 0.2568 | N20: 0.3828 | O20: 0.3828 | P20: 0.078 | Q20: 0.228 | R20: 0.01 | S20: 0.1408
A21: =SUBTOTAL(3,$B$18:B21) -> 4 | B21: 696244112205 | C21: U06100500P | D21: Univ 6X1/2" Pail | E21: 1600 | G21: 71.29 | H21: =(ROUND(G21*(1-$E$5)*(1-$G$5)*(1-$H$5),2)*F21) -> 0 | I21: =(G21*$E$15)+G21 -> 78.419 | J21: =H21+(H21*$E$15) -> 0 | K21: 15 | L21: available | M21: =S21+P21 -> 2.514 | N21: 3.552384 | O21: 0.38 | P21: 0.264 | Q21: 0.4 | R21: 0.01 | S21: 2.25
A22: =SUBTOTAL(3,$B$18:B22) -> 5 | B22: 696244112229 | C22: U06100625B | D22: Univ 6X5/8" Bulk | E22: 14000 | G22: 701.97 | H22: =(ROUND(G22*(1-$E$5)*(1-$G$5)*(1-$H$5),2)*F22) -> 0 | I22: =(G22*$E$15)+G22 -> 772.167 | J22: =H22+(H22*$E$15) -> 0 | K22: 15 | L22: available | M22: =S22+P22 -> 26.07 | N22: 30.624 | O22: 0.3828 | P22: 1.43 | Q22: 0 | R22: 0 | S22: 24.64
A23: =SUBTOTAL(3,$B$18:B23) -> 6 | B23: 696244112243 | C23: U06100625H | D23: Univ 6X5/8" Pkg | E23: 100 | G23: 10.1 | H23: =(ROUND(G23*(1-$E$5)*(1-$G$5)*(1-$H$5),2)*F23) -> 0 | I23: =(G23*$E$15)+G23 -> 11.11 | J23: =H23+(H23*$E$15) -> 0 | K23: 15 | L23: available | M23: =(S23+P23)+(Q23/6) -> 0.5088 | N23: 0.3828 | O23: 0.3828 | P23: 0.078 | Q23: 0.228 | R23: 0.01 | S23: =O23/100*E23+R23 -> 0.3928
A24: =SUBTOTAL(3,$B$18:B24) -> 7 | B24: 696244112267 | C24: U06100625P | D24: Univ 6X5/8" Pail | E24: 1400 | G24: 71.29 | H24: =(ROUND(G24*(1-$E$5)*(1-$G$5)*(1-$H$5),2)*F24) -> 0 | I24: =(G24*$E$15)+G24 -> 78.419 | J24: =H24+(H24*$E$15) -> 0 | K24: 15 | L24: available | M24: =S24+P24 -> 2.724 | N24: 3.552384 | O24: 0.38 | P24: 0.264 | Q24: 0.4 | R24: 0.01 | S24: 2.46
A25: =SUBTOTAL(3,$B$18:B25) -> 8 | B25: 696244110232 | C25: U06101500B | D25: Univ 6X1"1/2 Bulk | E25: 8000 | G25: 584.41 | H25: =(ROUND(G25*(1-$E$5)*(1-$G$5)*(1-$H$5),2)*F25) -> 0 | I25: =(G25*$E$15)+G25 -> 642.851 | J25: =H25+(H25*$E$15) -> 0 | K25: 15 | L25: available | M25: =S25+P25 -> 32.054 | N25: 30.624 | O25: 0.3828 | P25: 1.43 | Q25: 0 | R25: 0 | S25: =O25/100*E25+R25 -> 30.624
A26: =SUBTOTAL(3,$B$18:B26) -> 9 | B26: 696244110256 | C26: U06101500H | D26: Univ 6X1"1/2 Pkg | E26: 100 | G26: 10.5 | H26: =(ROUND(G26*(1-$E$5)*(1-$G$5)*(1-$H$5),2)*F26) -> 0 | I26: =(G26*$E$15)+G26 -> 11.55 | J26: =H26+(H26*$E$15) -> 0 | K26: 15 | L26: available | M26: =(S26+P26)+(Q26/6) -> 0.5088 | N26: 0.3828 | O26: 0.3828 | P26: 0.078 | Q26: 0.228 | R26: 0.01 | S26: =O26/100*E26+R26 -> 0.3928
A27: =SUBTOTAL(3,$B$18:B27) -> 10 | B27: 696244110270 | C27: U06101500P | D27: Univ 6X1"1/2 Pail | E27: 928 | G27: 71.29 | H27: =(ROUND(G27*(1-$E$5)*(1-$G$5)*(1-$H$5),2)*F27) -> 0 | I27: =(G27*$E$15)+G27 -> 78.419 | J27: =H27+(H27*$E$15) -> 0 | K27: 15 | L27: available | M27: =S27+P27 -> 3.8004 | N27: 3.552384 | O27: 0.38 | P27: 0.264 | Q27: 0.4 | R27: 0.01 | S27: =O27/100*E27+R27 -> 3.5364
A28: =SUBTOTAL(3,$B$18:B28) -> 11 | B28: 696244111079 | C28: U08101250B | D28: Univ 8X1"1/4 Bulk | E28: 10000 | G28: 850.83 | H28: =(ROUND(G28*(1-$E$5)*(1-$G$5)*(1-$H$5),2)*F28) -> 0 | I28: =(G28*$E$15)+G28 -> 935.913 | J28: =H28+(H28*$E$15) -> 0 | K28: 15 | L28: available | M28: =S28+P28 -> 42.63 | N28: 30.745 | O28: 0.412 | P28: 1.43 | Q28: 0 | R28: 0 | S28: =O28/100*E28+R28 -> 41.2
A29: =SUBTOTAL(3,$B$18:B29) -> 12 | B29: 696244111093 | C29: U08101250H | D29: Univ 8X1"1/4 Pkg | E29: 100 | G29: 10.73 | H29: =(ROUND(G29*(1-$E$5)*(1-$G$5)*(1-$H$5),2)*F29) -> 0 | I29: =(G29*$E$15)+G29 -> 11.803 | J29: =H29+(H29*$E$15) -> 0 | K29: 15 | L29: available | M29: =(S29+P29)+(Q29/6) -> 0.538 | N29: 0.473 | O29: 0.412 | P29: 0.078 | Q29: 0.228 | R29: 0.01 | S29: =O29/100*E29+R29 -> 0.422
A30: =SUBTOTAL(3,$B$18:B30) -> 13 | B30: 696244111116 | C30: U08101250P | D30: Univ 8X1"1/4 Pail | E30: 835 | G30: 71.29 | H30: =(ROUND(G30*(1-$E$5)*(1-$G$5)*(1-$H$5),2)*F30) -> 0 | I30: =(G30*$E$15)+G30 -> 78.419 | J30: =H30+(H30*$E$15) -> 0 | K30: 15 | L30: available | M30: =S30+P30 -> 3.7142 | N30: 3.5475 | O30: 0.412 | P30: 0.264 | Q30: 0.4 | R30: 0.01 | S30: =O30/100*E30+R30 -> 3.4502
A31: =SUBTOTAL(3,$B$18:B31) -> 14 | B31: 696244100004 | C31: U08101500B | D31: Univ 8X1"1/2 Bulk | E31: 6500 | G31: 592 | H31: =(ROUND(G31*(1-$E$5)*(1-$G$5)*(1-$H$5),2)*F31) -> 0 | I31: =(G31*$E$15)+G31 -> 651.2 | J31: =H31+(H31*$E$15) -> 0 | K31: 15 | L31: available | M31: =S31+P31 -> 32.37 | N31: 30.745 | O31: 0.476 | P31: 1.43 | Q31: 0 | R31: 0 | S31: =O31/100*E31+R31 -> 30.94
A32: =SUBTOTAL(3,$B$18:B32) -> 15 | B32: 696244100271 | C32: U08101500H | D32: Univ 8X1"1/2 Pkg | E32: 100 | G32: 11.38 | H32: =(ROUND(G32*(1-$E$5)*(1-$G$5)*(1-$H$5),2)*F32) -> 0 | I32: =(G32*$E$15)+G32 -> 12.518 | J32: =H32+(H32*$E$15) -> 0 | K32: 15 | L32: available | M32: =(S32+P32)+(Q32/6) -> 0.602 | N32: 0.473 | O32: 0.476 | P32: 0.078 | Q32: 0.228 | R32: 0.01 | S32: =O32/100*E32+R32 -> 0.486
A33: =SUBTOTAL(3,$B$18:B33) -> 16 | B33: 696244100141 | C33: U08101500P | D33: Univ 8X1"1/2 Pail | E33: 750 | G33: 71.29 | H33: =(ROUND(G33*(1-$E$5)*(1-$G$5)*(1-$H$5),2)*F33) -> 0 | I33: =(G33*$E$15)+G33 -> 78.419 | J33: =H33+(H33*$E$15) -> 0 | K33: 15 | L33: available | M33: =S33+P33 -> 3.844 | N33: 3.5475 | O33: 0.476 | P33: 0.264 | Q33: 0.4 | R33: 0.01 | S33: =O33/100*E33+R33 -> 3.58
A34: =SUBTOTAL(3,$B$18:B34) -> 17 | B34: 696244100011 | C34: U08102000B | D34: Univ 8X2" Bulk | E34: 4500 | G34: 460.92 | H34: =(ROUND(G34*(1-$E$5)*(1-$G$5)*(1-$H$5),2)*F34) -> 0 | I34: =(G34*$E$15)+G34 -> 507.012 | J34: =H34+(H34*$E$15) -> 0 | K34: 15 | L34: available | M34: =S34+P34 -> 29.15 | N34: 27.522 | O34: 0.616 | P34: 1.43 | Q34: 0 | R34: 0 | S34: =O34/100*E34+R34 -> 27.72
A35: =SUBTOTAL(3,$B$18:B35) -> 18 | B35: 696244100288 | C35: U08102000H | D35: Univ 8X2" Pkg | E35: 100 | G35: 12.8 | H35: =(ROUND(G35*(1-$E$5)*(1-$G$5)*(1-$H$5),2)*F35) -> 0 | I35: =(G35*$E$15)+G35 -> 14.08 | J35: =H35+(H35*$E$15) -> 0 | K35: 15 | L35: available | M35: =(S35+P35)+(Q35/6) -> 0.742 | N35: 0.6116 | O35: 0.616 | P35: 0.078 | Q35: 0.228 | R35: 0.01 | S35: =O35/100*E35+R35 -> 0.626
A36: =SUBTOTAL(3,$B$18:B36) -> 19 | B36: 696244100158 | C36: U08102000P | D36: Univ 8X2" Pail | E36: 630 | G36: 71.29 | H36: =(ROUND(G36*(1-$E$5)*(1-$G$5)*(1-$H$5),2)*F36) -> 0 | I36: =(G36*$E$15)+G36 -> 78.419 | J36: =H36+(H36*$E$15) -> 0 | K36: 15 | L36: available | M36: =S36+P36 -> 4.1548 | N36: 3.85308 | O36: 0.616 | P36: 0.264 | Q36: 0.4 | R36: 0.01 | S36: =O36/100*E36+R36 -> 3.8908
A37: =SUBTOTAL(3,$B$18:B37) -> 20 | B37: 696244100028 | C37: U09101500B | D37: Univ 9X1"1/2 Bulk | E37: 5200 | G37: 510.2244 | H37: =(ROUND(G37*(1-$E$5)*(1-$G$5)*(1-$H$5),2)*F37) -> 0 | I37: =(G37*$E$15)+G37 -> 561.24684 | J37: =H37+(H37*$E$15) -> 0 | K37: 25 | L37: available | M37: =S37+P37 -> 31.382 | N37: 29.744 | O37: 0.576 | P37: 1.43 | Q37: 0 | R37: 0 | S37: =O37/100*E37+R37 -> 29.952
A38: =SUBTOTAL(3,$B$18:B38) -> 21 | B38: 696244100295 | C38: U09101500H | D38: Univ 9X1"1/2 Pkg | E38: 100 | G38: 12.2706 | H38: =(ROUND(G38*(1-$E$5)*(1-$G$5)*(1-$H$5),2)*F38) -> 0 | I38: =(G38*$E$15)+G38 -> 13.49766 | J38: =H38+(H38*$E$15) -> 0 | K38: 25 | L38: available | M38: =(S38+P38)+(Q38/6) -> 0.702 | N38: 0.572 | O38: 0.576 | P38: 0.078 | Q38: 0.228 | R38: 0.01 | S38: =O38/100*E38+R38 -> 0.586
A39: =SUBTOTAL(3,$B$18:B39) -> 22 | B39: 696244100165 | C39: U09101500P | D39: Univ 9X1"1/2 Pail | E39: 610 | G39: 72.7158 | H39: =(ROUND(G39*(1-$E$5)*(1-$G$5)*(1-$H$5),2)*F39) -> 0 | I39: =(G39*$E$15)+G39 -> 79.98738 | J39: =H39+(H39*$E$15) -> 0 | K39: 25 | L39: available | M39: =S39+P39 -> 3.7876 | N39: 3.4892 | O39: 0.576 | P39: 0.264 | Q39: 0.4 | R39: 0.01 | S39: =O39/100*E39+R39 -> 3.5236
A40: =SUBTOTAL(3,$B$18:B40) -> 23 | B40: 696244100936 | C40: U09101750B | D40: Univ 9X1"3/4 Bulk | E40: 4500 | G40: 573.3726 | H40: =(ROUND(G40*(1-$E$5)*(1-$G$5)*(1-$H$5),2)*F40) -> 0 | I40: =(G40*$E$15)+G40 -> 630.70986 | J40: =H40+(H40*$E$15) -> 0 | K40: 25 | L40: available | M40: =S40+P40 -> 32.93 | N40: 31.284 | O40: 0.7 | P40: 1.43 | Q40: 0 | R40: 0 | S40: =O40/100*E40+R40 -> 31.5
A41: =SUBTOTAL(3,$B$18:B41) -> 24 | B41: 696244100950 | C41: U09101750H | D41: Univ 9X1"3/4 Pkg | E41: 100 | G41: 15.1164 | H41: =(ROUND(G41*(1-$E$5)*(1-$G$5)*(1-$H$5),2)*F41) -> 0 | I41: =(G41*$E$15)+G41 -> 16.62804 | J41: =H41+(H41*$E$15) -> 0 | K41: 15 | L41: available | M41: =(S41+P41)+(Q41/6) -> 0.826 | N41: 0.6952 | O41: 0.7 | P41: 0.078 | Q41: 0.228 | R41: 0.01 | S41: =O41/100*E41+R41 -> 0.71
A42: =SUBTOTAL(3,$B$18:B42) -> 25 | B42: 696244100974 | C42: U09101750P | D42: Univ 9X1"3/4 Pail | E42: 542 | G42: 72.7158 | H42: =(ROUND(G42*(1-$E$5)*(1-$G$5)*(1-$H$5),2)*F42) -> 0 | I42: =(G42*$E$15)+G42 -> 79.98738 | J42: =H42+(H42*$E$15) -> 0 | K42: 15 | L42: available | M42: =S42+P42 -> 4.068 | N42: 3.767984 | O42: 0.7 | P42: 0.264 | Q42: 0.4 | R42: 0.01 | S42: =O42/100*E42+R42 -> 3.804
A43: =SUBTOTAL(3,$B$18:B43) -> 26 | B43: 696244100035 | C43: U09102000B | D43: Univ 9X2" Bulk | E43: 3700 | G43: 452.9004 | H43: =(ROUND(G43*(1-$E$5)*(1-$G$5)*(1-$H$5),2)*F43) -> 0 | I43: =(G43*$E$15)+G43 -> 498.19044 | J43: =H43+(H43*$E$15) -> 0 | K43: 25 | L43: available | M43: =S43+P43 -> 29.624 | N43: 28.083 | O43: 0.762 | P43: 1.43 | Q43: 0 | R43: 0 | S43: =O43/100*E43+R43 -> 28.194
A44: =SUBTOTAL(3,$B$18:B44) -> 27 | B44: 696244100301 | C44: U09102000H | D44: Univ 9X2" Pkg | E44: 100 | G44: 15.3102 | H44: =(ROUND(G44*(1-$E$5)*(1-$G$5)*(1-$H$5),2)*F44) -> 0 | I44: =(G44*$E$15)+G44 -> 16.84122 | J44: =H44+(H44*$E$15) -> 0 | K44: 25 | L44: available | M44: =(S44+P44)+(Q44/6) -> 0.888 | N44: 0.759 | O44: 0.762 | P44: 0.078 | Q44: 0.228 | R44: 0.01 | S44: =O44/100*E44+R44 -> 0.772
A45: =SUBTOTAL(3,$B$18:B45) -> 28 | B45: 696244100172 | C45: U09102000P | D45: Univ 9X2" Pail | E45: 510 | G45: 72.7158 | H45: =(ROUND(G45*(1-$E$5)*(1-$G$5)*(1-$H$5),2)*F45) -> 0 | I45: =(G45*$E$15)+G45 -> 79.98738 | J45: =H45+(H45*$E$15) -> 0 | K45: 25 | L45: available | M45: =S45+P45 -> 4.1602 | N45: 3.8709 | O45: 0.762 | P45: 0.264 | Q45: 0.4 | R45: 0.01 | S45: =O45/100*E45+R45 -> 3.8962
A46: =SUBTOTAL(3,$B$18:B46) -> 29 | B46: 696244100042 | C46: U09102500B | D46: Univ 9X2"1/2 Bulk | E46: 2600 | G46: 375.513 | H46: =(ROUND(G46*(1-$E$5)*(1-$G$5)*(1-$H$5),2)*F46) -> 0 | I46: =(G46*$E$15)+G46 -> 413.0643 | J46: =H46+(H46*$E$15) -> 0 | K46: 25 | L46: available | M46: =S46+P46 -> 26.442 | N46: 24.4816 | O46: 0.962 | P46: 1.43 | Q46: 0 | R46: 0 | S46: =O46/100*E46+R46 -> 25.012
A47: =SUBTOTAL(3,$B$18:B47) -> 30 | B47: 696244100318 | C47: U09102500H | D47: Univ 9X2"1/2 Pkg | E47: 100 | G47: 18.054 | H47: =(ROUND(G47*(1-$E$5)*(1-$G$5)*(1-$H$5),2)*F47) -> 0 | I47: =(G47*$E$15)+G47 -> 19.8594 | J47: =H47+(H47*$E$15) -> 0 | K47: 25 | L47: available | M47: =(S47+P47)+(Q47/6) -> 1.0976667 | N47: 0.9416 | O47: 0.962 | P47: 0.078 | Q47: 0.286 | R47: 0.01 | S47: =O47/100*E47+R47 -> 0.972
A48: =SUBTOTAL(3,$B$18:B48) -> 31 | B48: 696244100189 | C48: U09102500P | D48: Univ 9X2"1/2 Pail | E48: 435 | G48: 72.7158 | H48: =(ROUND(G48*(1-$E$5)*(1-$G$5)*(1-$H$5),2)*F48) -> 0 | I48: =(G48*$E$15)+G48 -> 79.98738 | J48: =H48+(H48*$E$15) -> 0 | K48: 25 | L48: available | M48: =S48+P48 -> 4.4587 | N48: 4.09596 | O48: 0.962 | P48: 0.264 | Q48: 0.4 | R48: 0.01 | S48: =O48/100*E48+R48 -> 4.1947
A49: =SUBTOTAL(3,$B$18:B49) -> 32 | B49: 696244100059 | C49: U09102750B | D49: Univ 9X2"3/4 Bulk | E49: 2000 | G49: 344.76 | H49: =(ROUND(G49*(1-$E$5)*(1-$G$5)*(1-$H$5),2)*F49) -> 0 | I49: =(G49*$E$15)+G49 -> 379.236 | J49: =H49+(H49*$E$15) -> 0 | K49: 25 | L49: available | M49: =S49+P49 -> 22.07 | N49: 21.428 | O49: 1.032 | P49: 1.43 | Q49: 0 | R49: 0 | S49: =O49/100*E49+R49 -> 20.64
A50: =SUBTOTAL(3,$B$18:B50) -> 33 | B50: 696244100325 | C50: U09102750H | D50: Univ 9X2"3/4 Pkg | E50: 100 | G50: 21.5526 | H50: =(ROUND(G50*(1-$E$5)*(1-$G$5)*(1-$H$5),2)*F50) -> 0 | I50: =(G50*$E$15)+G50 -> 23.70786 | J50: =H50+(H50*$E$15) -> 0 | K50: 25 | L50: available | M50: =(S50+P50)+(Q50/6) -> 1.1756667 | N50: 1.0714 | O50: 1.032 | P50: 0.086 | Q50: 0.286 | R50: 0.01 | S50: =O50/100*E50+R50 -> 1.042
A51: =SUBTOTAL(3,$B$18:B51) -> 34 | B51: 696244100196 | C51: U09102750P | D51: Univ 9X2"3/4 Pail | E51: 365 | G51: 72.7158 | H51: =(ROUND(G51*(1-$E$5)*(1-$G$5)*(1-$H$5),2)*F51) -> 0 | I51: =(G51*$E$15)+G51 -> 79.98738 | J51: =H51+(H51*$E$15) -> 0 | K51: 25 | L51: available | M51: =S51+P51 -> 4.0408 | N51: 3.91061 | O51: 1.032 | P51: 0.264 | Q51: 0.4 | R51: 0.01 | S51: =O51/100*E51+R51 -> 3.7768
A52: =SUBTOTAL(3,$B$18:B52) -> 35 | B52: 696244101117 | C52: U09103125B | D52: Univ 9X3"1/8 Bulk | E52: 1500 | G52: 247.2786 | H52: =(ROUND(G52*(1-$E$5)*(1-$G$5)*(1-$H$5),2)*F52) -> 0 | I52: =(G52*$E$15)+G52 -> 272.00646 | J52: =H52+(H52*$E$15) -> 0 | K52: 25 | L52: available | M52: =S52+P52 -> 18.77 | N52: 17.49 | O52: 1.156 | P52: 1.43 | Q52: 0 | R52: 0 | S52: =O52/100*E52+R52 -> 17.34
A53: =SUBTOTAL(3,$B$18:B53) -> 36 | B53: 696244101131 | C53: U09103125H | D53: Univ 9X3"1/8 Pkg | E53: 100 | G53: 22.6848 | H53: =(ROUND(G53*(1-$E$5)*(1-$G$5)*(1-$H$5),2)*F53) -> 0 | I53: =(G53*$E$15)+G53 -> 24.95328 | J53: =H53+(H53*$E$15) -> 0 | K53: 25 | L53: available | M53: =(S53+P53)+(Q53/6) -> 1.2996667 | N53: 1.166 | O53: 1.156 | P53: 0.086 | Q53: 0.286 | R53: 0.01 | S53: =O53/100*E53+R53 -> 1.166
A54: =SUBTOTAL(3,$B$18:B54) -> 37 | B54: 696244101155 | C54: U09103125P | D54: Univ 9X3"1/8 Pail | E54: 330 | G54: 64.2192 | H54: =(ROUND(G54*(1-$E$5)*(1-$G$5)*(1-$H$5),2)*F54) -> 0 | I54: =(G54*$E$15)+G54 -> 70.64112 | J54: =H54+(H54*$E$15) -> 0 | K54: 25 | L54: available | M54: =S54+P54 -> 4.0888 | N54: 3.6729 | O54: 1.156 | P54: 0.264 | Q54: 0.4 | R54: 0.01 | S54: =O54/100*E54+R54 -> 3.8248
A55: =SUBTOTAL(3,$B$18:B55) -> 38 | B55: 696244111550 | C55: U10101625B | D55: Univ 10X1"5/8 Bulk | E55: 2500 | G55: 400.9314 | H55: =(ROUND(G55*(1-$E$5)*(1-$G$5)*(1-$H$5),2)*F55) -> 0 | I55: =(G55*$E$15)+G55 -> 441.02454 | J55: =H55+(H55*$E$15) -> 0 | K55: 25 | L55: available | M55: =S55+P55 -> 21.395 | N55: 25.5552 | O55: 0.7986 | P55: 1.43 | Q55: 0 | R55: 0 | S55: =O55/100*E55+R55 -> 19.965
A56: =SUBTOTAL(3,$B$18:B56) -> 39 | B56: 696244111574 | C56: U10101625H | D56: Univ 10X1"5/8 Pkg | E56: 100 | G56: 18.1662 | H56: =(ROUND(G56*(1-$E$5)*(1-$G$5)*(1-$H$5),2)*F56) -> 0 | I56: =(G56*$E$15)+G56 -> 19.98282 | J56: =H56+(H56*$E$15) -> 0 | K56: 25 | L56: available | M56: =S56+P56 -> 0.8846 | N56: 0.7986 | O56: 0.7986 | P56: 0.078 | Q56: 0.228 | R56: 0.008 | S56: =O56/100*E56+R56 -> 0.8066
A57: =SUBTOTAL(3,$B$18:B57) -> 40 | B57: 696244111598 | C57: U10101625P | D57: Univ 10X1"5/8 Pail | E57: 500 | G57: 80.376 | H57: =(ROUND(G57*(1-$E$5)*(1-$G$5)*(1-$H$5),2)*F57) -> 0 | I57: =(G57*$E$15)+G57 -> 88.4136 | J57: =H57+(H57*$E$15) -> 0 | K57: 25 | L57: available | M57: =S57+P57 -> 4.267 | N57: 3.993 | O57: 0.7986 | P57: 0.264 | Q57: 0.4 | R57: 0.01 | S57: =O57/100*E57+R57 -> 4.003
A58: =SUBTOTAL(3,$B$18:B58) -> 41 | B58: 696244111857 | C58: U10102250B | D58: Univ 10X2"1/4 Bulk | E58: 2500 | G58: 522.6888 | H58: =(ROUND(G58*(1-$E$5)*(1-$G$5)*(1-$H$5),2)*F58) -> 0 | I58: =(G58*$E$15)+G58 -> 574.95768 | J58: =H58+(H58*$E$15) -> 0 | K58: 25 | L58: available | M58: =S58+P58 -> 28.435 | N58: 25.92 | O58: 1.0802 | P58: 1.43 | Q58: 0 | R58: 0 | S58: =O58/100*E58+R58 -> 27.005
A59: =SUBTOTAL(3,$B$18:B59) -> 42 | B59: 696244111871 | C59: U10102250H | D59: Univ 10X2"1/4 Pkg | E59: 100 | G59: 23.6436 | H59: =(ROUND(G59*(1-$E$5)*(1-$G$5)*(1-$H$5),2)*F59) -> 0 | I59: =(G59*$E$15)+G59 -> 26.00796 | J59: =H59+(H59*$E$15) -> 0 | K59: 25 | L59: available | M59: =(S59+P59)+(Q59/6) -> 1.2238667 | N59: 1.0802 | O59: 1.0802 | P59: 0.086 | Q59: 0.286 | R59: 0.01 | S59: =O59/100*E59+R59 -> 1.0902
A60: =SUBTOTAL(3,$B$18:B60) -> 43 | B60: 696244111895 | C60: U10102250P | D60: Univ 10X2"1/4 Pail | E60: 500 | G60: 104.7234 | H60: =(ROUND(G60*(1-$E$5)*(1-$G$5)*(1-$H$5),2)*F60) -> 0 | I60: =(G60*$E$15)+G60 -> 115.19574 | J60: =H60+(H60*$E$15) -> 0 | K60: 25 | L60: available | M60: =S60+P60 -> 5.675 | N60: 5.401 | O60: 1.0802 | P60: 0.264 | Q60: 0.4 | R60: 0.01 | S60: =O60/100*E60+R60 -> 5.411
A61: =SUBTOTAL(3,$B$18:B61) -> 44 | B61: 696244100073 | C61: U10102500B | D61: Univ 10X2"1/2 Bulk | E61: 2200 | G61: 395.0766 | H61: =(ROUND(G61*(1-$E$5)*(1-$G$5)*(1-$H$5),2)*F61) -> 0 | I61: =(G61*$E$15)+G61 -> 434.58426 | J61: =H61+(H61*$E$15) -> 0 | K61: 25 | L61: available | M61: =S61+P61 -> 28.094 | N61: 26.5232 | O61: 1.212 | P61: 1.43 | Q61: 0 | R61: 0 | S61: =O61/100*E61+R61 -> 26.664
A62: =SUBTOTAL(3,$B$18:B62) -> 45 | B62: 696244100349 | C62: U10102500H | D62: Univ 10X2"1/2 Pkg | E62: 100 | G62: 22.4502 | H62: =(ROUND(G62*(1-$E$5)*(1-$G$5)*(1-$H$5),2)*F62) -> 0 | I62: =(G62*$E$15)+G62 -> 24.69522 | J62: =H62+(H62*$E$15) -> 0 | K62: 25 | L62: available | M62: =(S62+P62)+(Q62/6) -> 1.3556667 | N62: 1.2056 | O62: 1.212 | P62: 0.086 | Q62: 0.286 | R62: 0.01 | S62: =O62/100*E62+R62 -> 1.222
A63: =SUBTOTAL(3,$B$18:B63) -> 46 | B63: 696244100219 | C63: U10102500P | D63: Univ 10X2"1/2 Pail | E63: 350 | G63: 72.7158 | H63: =(ROUND(G63*(1-$E$5)*(1-$G$5)*(1-$H$5),2)*F63) -> 0 | I63: =(G63*$E$15)+G63 -> 79.98738 | J63: =H63+(H63*$E$15) -> 0 | K63: 25 | L63: available | M63: =S63+P63 -> 4.516 | N63: 4.2196 | O63: 1.212 | P63: 0.264 | Q63: 0.4 | R63: 0.01 | S63: =O63/100*E63+R63 -> 4.252
A64: =SUBTOTAL(3,$B$18:B64) -> 47 | B64: 696244100080 | C64: U10102750B | D64: Univ 10X2"3/4 Bulk | E64: 2000 | G64: 409.428 | H64: =(ROUND(G64*(1-$E$5)*(1-$G$5)*(1-$H$5),2)*F64) -> 0 | I64: =(G64*$E$15)+G64 -> 450.3708 | J64: =H64+(H64*$E$15) -> 0 | K64: 25 | L64: available | M64: =S64+P64 -> 27.71 | N64: 26.092 | O64: 1.314 | P64: 1.43 | Q64: 0 | R64: 0 | S64: =O64/100*E64+R64 -> 26.28
A65: =SUBTOTAL(3,$B$18:B65) -> 48 | B65: 696244100356 | C65: U10102750H | D65: Univ 10X2"3/4 Pkg | E65: 100 | G65: 25.602 | H65: =(ROUND(G65*(1-$E$5)*(1-$G$5)*(1-$H$5),2)*F65) -> 0 | I65: =(G65*$E$15)+G65 -> 28.1622 | J65: =H65+(H65*$E$15) -> 0 | K65: 25 | L65: available | M65: =(S65+P65)+(Q65/6) -> 1.4576667 | N65: 1.3046 | O65: 1.314 | P65: 0.086 | Q65: 0.286 | R65: 0.01 | S65: =O65/100*E65+R65 -> 1.324
A66: =SUBTOTAL(3,$B$18:B66) -> 49 | B66: 696244100226 | C66: U10102750P | D66: Univ 10X2"3/4 Pail | E66: 295 | G66: 72.7158 | H66: =(ROUND(G66*(1-$E$5)*(1-$G$5)*(1-$H$5),2)*F66) -> 0 | I66: =(G66*$E$15)+G66 -> 79.98738 | J66: =H66+(H66*$E$15) -> 0 | K66: 25 | L66: available | M66: =S66+P66 -> 4.1503 | N66: 3.84857 | O66: 1.314 | P66: 0.264 | Q66: 0.4 | R66: 0.01 | S66: =O66/100*E66+R66 -> 3.8863
A67: =SUBTOTAL(3,$B$18:B67) -> 50 | B67: 696244101261 | C67: U10103125B | D67: Univ 10X3"1/8 Bulk | E67: 1500 | G67: 296.0652 | H67: =(ROUND(G67*(1-$E$5)*(1-$G$5)*(1-$H$5),2)*F67) -> 0 | I67: =(G67*$E$15)+G67 -> 325.67172 | J67: =H67+(H67*$E$15) -> 0 | K67: 25 | L67: available | M67: =S67+P67 -> 23.63 | N67: 22.737 | O67: 1.48 | P67: 1.43 | Q67: 0 | R67: 0 | S67: =O67/100*E67+R67 -> 22.2
A68: =SUBTOTAL(3,$B$18:B68) -> 51 | B68: 696244101285 | C68: U10103125H | D68: Univ 10X3"1/8 Pkg | E68: 100 | G68: 27.336 | H68: =(ROUND(G68*(1-$E$5)*(1-$G$5)*(1-$H$5),2)*F68) -> 0 | I68: =(G68*$E$15)+G68 -> 30.0696 | J68: =H68+(H68*$E$15) -> 0 | K68: 25 | L68: available | M68: =(S68+P68)+(Q68/6) -> 1.6236667 | N68: 1.5158 | O68: 1.48 | P68: 0.086 | Q68: 0.286 | R68: 0.01 | S68: =O68/100*E68+R68 -> 1.49
A69: =SUBTOTAL(3,$B$18:B69) -> 52 | B69: 696244101308 | C69: U10103125P | D69: Univ 10X3"1/8 Pail | E69: 270 | G69: 64.2192 | H69: =(ROUND(G69*(1-$E$5)*(1-$G$5)*(1-$H$5),2)*F69) -> 0 | I69: =(G69*$E$15)+G69 -> 70.64112 | J69: =H69+(H69*$E$15) -> 0 | K69: 25 | L69: available | M69: =S69+P69 -> 4.27 | N69: 4.09266 | O69: 1.48 | P69: 0.264 | Q69: 0.4 | R69: 0.01 | S69: =O69/100*E69+R69 -> 4.006
A70: =SUBTOTAL(3,$B$18:B70) -> 53 | B70: 696244100103 | C70: U10103500B | D70: Univ 10X3"1/2 Bulk | E70: 1200 | G70: 277.1136 | H70: =(ROUND(G70*(1-$E$5)*(1-$G$5)*(1-$H$5),2)*F70) -> 0 | I70: =(G70*$E$15)+G70 -> 304.82496 | J70: =H70+(H70*$E$15) -> 0 | K70: 25 | L70: available | M70: =S70+P70 -> 21.254 | N70: 19.7736 | O70: 1.652 | P70: 1.43 | Q70: 0 | R70: 0 | S70: =O70/100*E70+R70 -> 19.824
A71: =SUBTOTAL(3,$B$18:B71) -> 54 | B71: 696244100370 | C71: U10103500H | D71: Univ 10X3"1/2 Pkg | E71: 50 | G71: 16.524 | H71: =(ROUND(G71*(1-$E$5)*(1-$G$5)*(1-$H$5),2)*F71) -> 0 | I71: =(G71*$E$15)+G71 -> 18.1764 | J71: =H71+(H71*$E$15) -> 0 | K71: 25 | L71: available | M71: =(S71+P71)+(Q71/6) -> 0.952 | N71: 0.8239 | O71: 1.652 | P71: 0.078 | Q71: 0.228 | R71: 0.01 | S71: =O71/100*E71+R71 -> 0.836
A72: =SUBTOTAL(3,$B$18:B72) -> 55 | B72: 696244100240 | C72: U10103500P | D72: Univ 10X3"1/2 Pail | E72: 225 | G72: 64.2192 | H72: =(ROUND(G72*(1-$E$5)*(1-$G$5)*(1-$H$5),2)*F72) -> 0 | I72: =(G72*$E$15)+G72 -> 70.64112 | J72: =H72+(H72*$E$15) -> 0 | K72: 25 | L72: available | M72: =S72+P72 -> 3.991 | N72: 3.70755 | O72: 1.652 | P72: 0.264 | Q72: 0.4 | R72: 0.01 | S72: =O72/100*E72+R72 -> 3.727
A73: =SUBTOTAL(3,$B$18:B73) -> 56 | B73: 696244100110 | C73: U10104000B | D73: Univ 10X4" Bulk | E73: 1000 | G73: 264.1188 | H73: =(ROUND(G73*(1-$E$5)*(1-$G$5)*(1-$H$5),2)*F73) -> 0 | I73: =(G73*$E$15)+G73 -> 290.53068 | J73: =H73+(H73*$E$15) -> 0 | K73: 25 | L73: available | M73: =S73+P73 -> 20.24 | N73: 18.81 | O73: 1.881 | P73: 1.43 | Q73: 0 | R73: 0 | S73: =O73/100*E73+R73 -> 18.81
A74: =SUBTOTAL(3,$B$18:B74) -> 57 | B74: 696244100387 | C74: U10104000H | D74: Univ 10X4" Pkg | E74: 50 | G74: 18.7272 | H74: =(ROUND(G74*(1-$E$5)*(1-$G$5)*(1-$H$5),2)*F74) -> 0 | I74: =(G74*$E$15)+G74 -> 20.59992 | J74: =H74+(H74*$E$15) -> 0 | K74: 25 | L74: available | M74: =(S74+P74)+(Q74/6) -> 1.0665 | N74: 0.9405 | O74: 1.881 | P74: 0.078 | Q74: 0.228 | R74: 0.01 | S74: =O74/100*E74+R74 -> 0.9505
A75: =SUBTOTAL(3,$B$18:B75) -> 58 | B75: 696244100257 | C75: U10104000P | D75: Univ 10X4" Pail | E75: 200 | G75: 64.2192 | H75: =(ROUND(G75*(1-$E$5)*(1-$G$5)*(1-$H$5),2)*F75) -> 0 | I75: =(G75*$E$15)+G75 -> 70.64112 | J75: =H75+(H75*$E$15) -> 0 | K75: 25 | L75: available | M75: =S75+P75 -> 4.036 | N75: 3.762 | O75: 1.881 | P75: 0.264 | Q75: 0.4 | R75: 0.01 | S75: =O75/100*E75+R75 -> 3.772
A76: =SUBTOTAL(3,$B$18:B76) -> 59 | B76: 696244100127 | C76: U10104500B | D76: Univ 10X4"1/2 Bulk | E76: 800 | G76: 255.714 | H76: =(ROUND(G76*(1-$E$5)*(1-$G$5)*(1-$H$5),2)*F76) -> 0 | I76: =(G76*$E$15)+G76 -> 281.2854 | J76: =H76+(H76*$E$15) -> 0 | K76: 25 | L76: available | M76: =S76+P76 -> 18.134 | N76: 16.0688 | O76: 2.088 | P76: 1.43 | Q76: 0 | R76: 0 | S76: =O76/100*E76+R76 -> 16.704
A77: =SUBTOTAL(3,$B$18:B77) -> 60 | B77: 696244100394 | C77: U10104500H | D77: Univ 10X4"1/2 Pkg | E77: 50 | G77: 21.8484 | H77: =(ROUND(G77*(1-$E$5)*(1-$G$5)*(1-$H$5),2)*F77) -> 0 | I77: =(G77*$E$15)+G77 -> 24.03324 | J77: =H77+(H77*$E$15) -> 0 | K77: 25 | L77: available | M77: =(S77+P77)+(Q77/4) -> 1.3085 | N77: 1.0043 | O77: 2.088 | P77: 0.158 | Q77: 0.386 | R77: 0.01 | S77: =O77/100*E77+R77 -> 1.054
A78: =SUBTOTAL(3,$B$18:B78) -> 61 | B78: 696244100264 | C78: U10104500P | D78: Univ 10X4"1/2 Pail | E78: 170 | G78: 64.2192 | H78: =(ROUND(G78*(1-$E$5)*(1-$G$5)*(1-$H$5),2)*F78) -> 0 | I78: =(G78*$E$15)+G78 -> 70.64112 | J78: =H78+(H78*$E$15) -> 0 | K78: 25 | L78: available | M78: =S78+P78 -> 3.8236 | N78: 3.41462 | O78: 2.088 | P78: 0.264 | Q78: 0.4 | R78: 0.01 | S78: =O78/100*E78+R78 -> 3.5596
A79: =SUBTOTAL(3,$B$18:B79) -> 62 | B79: 696244111918 | C79: U12103500B | D79: Univ 12X3"1/2 Bulk | E79: 1200 | G79: 573.59 | H79: =(ROUND(G79*(1-$E$5)*(1-$G$5)*(1-$H$5),2)*F79) -> 0 | I79: =(G79*$E$15)+G79 -> 630.949 | J79: =H79+(H79*$E$15) -> 0 | K79: 25 | L79: available | M79: =S79+P79 -> 29.9684 | N79: 28.53 | O79: 2.3782 | P79: 1.43 | Q79: 0 | R79: 0 | S79: =O79/100*E79+R79 -> 28.5384
A80: =SUBTOTAL(3,$B$18:B80) -> 63 | B80: 696244111932 | C80: U12103500H | D80: Univ 12X3"1/2 Pkg | E80: 50 | G80: 28.85 | H80: =(ROUND(G80*(1-$E$5)*(1-$G$5)*(1-$H$5),2)*F80) -> 0 | I80: =(G80*$E$15)+G80 -> 31.735 | J80: =H80+(H80*$E$15) -> 0 | K80: 25 | L80: available | M80: =(S80+P80)+(Q80/6) -> 1.3151 | N80: 1.1891 | O80: 2.3782 | P80: 0.078 | Q80: 0.228 | R80: 0.01 | S80: =O80/100*E80+R80 -> 1.1991
A81: =SUBTOTAL(3,$B$18:B81) -> 64 | B81: 696244111956 | C81: U12103500P | D81: Univ 12X3"1/2 Pail | E81: 125 | G81: 62.96 | H81: =(ROUND(G81*(1-$E$5)*(1-$G$5)*(1-$H$5),2)*F81) -> 0 | I81: =(G81*$E$15)+G81 -> 69.256 | J81: =H81+(H81*$E$15) -> 0 | K81: 25 | L81: available | M81: =S81+P81 -> 3.24675 | N81: 2.9728 | O81: 2.3782 | P81: 0.264 | Q81: 0.4 | R81: 0.01 | S81: =O81/100*E81+R81 -> 2.98275
A82: =SUBTOTAL(3,$B$18:B82) -> 65 | B82: 696244111970 | C82: U12104000B | D82: Univ 12X4" Bulk | E82: 800 | G82: 408.51 | H82: =(ROUND(G82*(1-$E$5)*(1-$G$5)*(1-$H$5),2)*F82) -> 0 | I82: =(G82*$E$15)+G82 -> 449.361 | J82: =H82+(H82*$E$15) -> 0 | K82: 25 | L82: available | M82: =S82+P82 -> 23.606 | N82: 21.2256 | O82: 2.772 | P82: 1.43 | Q82: 0 | R82: 0 | S82: =O82/100*E82+R82 -> 22.176
A83: =SUBTOTAL(3,$B$18:B83) -> 66 | B83: 696244111994 | C83: U12104000H | D83: Univ 12X4" Pkg | E83: 50 | G83: 31.92 | H83: =(ROUND(G83*(1-$E$5)*(1-$G$5)*(1-$H$5),2)*F83) -> 0 | I83: =(G83*$E$15)+G83 -> 35.112 | J83: =H83+(H83*$E$15) -> 0 | K83: 25 | L83: available | M83: =(S83+P83)+(Q83/6) -> 1.5296667 | N83: 1.386 | O83: 2.772 | P83: 0.086 | Q83: 0.286 | R83: 0.01 | S83: =O83/100*E83+R83 -> 1.396
A84: =SUBTOTAL(3,$B$18:B84) -> 67 | B84: 696244100585 | C84: U12105000B | D84: Univ 12X5" Bulk | E84: 500 | G84: 303.66 | H84: =(ROUND(G84*(1-$E$5)*(1-$G$5)*(1-$H$5),2)*F84) -> 0 | I84: =(G84*$E$15)+G84 -> 334.026 | J84: =H84+(H84*$E$15) -> 0 | K84: 25 | L84: available | M84: =S84+P84 -> 18.05 | N84: 16.5 | O84: 3.324 | P84: 1.43 | Q84: 0 | R84: 0 | S84: =O84/100*E84+R84 -> 16.62
A85: =SUBTOTAL(3,$B$18:B85) -> 68 | B85: 696244100592 | C85: U12105000H | D85: Univ 12X5" Pkg | E85: 50 | G85: 39.58 | H85: =(ROUND(G85*(1-$E$5)*(1-$G$5)*(1-$H$5),2)*F85) -> 0 | I85: =(G85*$E$15)+G85 -> 43.538 | J85: =H85+(H85*$E$15) -> 0 | K85: 25 | L85: available | M85: =(S85+P85)+(Q85/4) -> 1.9265 | N85: 1.65 | O85: 3.324 | P85: 0.158 | Q85: 0.386 | R85: 0.01 | S85: =O85/100*E85+R85 -> 1.672
A86: =SUBTOTAL(3,$B$18:B86) -> 69 | B86: 696244100134 | C86: U12106000B | D86: Univ 12X6" Bulk | E86: 500 | G86: 395.95 | H86: =(ROUND(G86*(1-$E$5)*(1-$G$5)*(1-$H$5),2)*F86) -> 0 | I86: =(G86*$E$15)+G86 -> 435.545 | J86: =H86+(H86*$E$15) -> 0 | K86: 25 | L86: available | M86: =S86+P86 -> 21.29 | N86: 20.372 | O86: 3.972 | P86: 1.43 | Q86: 0 | R86: 0 | S86: =O86/100*E86+R86 -> 19.86
A87: =SUBTOTAL(3,$B$18:B87) -> 70 | B87: 696244100400 | C87: U12106000H | D87: Univ 12X6" Pkg | E87: 50 | G87: 47.69 | H87: =(ROUND(G87*(1-$E$5)*(1-$G$5)*(1-$H$5),2)*F87) -> 0 | I87: =(G87*$E$15)+G87 -> 52.459 | J87: =H87+(H87*$E$15) -> 0 | K87: 25 | L87: available | M87: =(S87+P87)+(Q87/4) -> 2.2505 | N87: 2.0372 | O87: 3.972 | P87: 0.158 | Q87: 0.386 | R87: 0.01 | S87: =O87/100*E87+R87 -> 1.996
A88: =SUBTOTAL(3,$B$18:B88) -> 71 | B88: 696244101704 | C88: U12106000I | D88: Univ 12X6" CLAMSHELL | E88: 10 | G88: 17.71 | H88: =(ROUND(G88*(1-$E$5)*(1-$G$5)*(1-$H$5),2)*F88) -> 0 | I88: =(G88*$E$15)+G88 -> 19.481 | J88: =H88+(H88*$E$15) -> 0 | L88: available
A89: =SUBTOTAL(3,$B$18:B89) -> 72 | B89: 696244110478 | C89: U12107000B | D89: Univ 12X7" Bulk | E89: 300 | G89: 400.9 | H89: =(ROUND(G89*(1-$E$5)*(1-$G$5)*(1-$H$5),2)*F89) -> 0 | I89: =(G89*$E$15)+G89 -> 440.99 | J89: =H89+(H89*$E$15) -> 0 | K89: 25 | L89: available | M89: =(S89+P89)+(Q89/4) -> 15.2 | N89: 13.7742 | O89: 4.59 | P89: 1.43 | Q89: 0 | R89: 0 | S89: =O89/100*E89+R89 -> 13.77
A90: =SUBTOTAL(3,$B$18:B90) -> 73 | B90: 696244110492 | C90: U12107000H | D90: Univ 12X7" Pkg | E90: 40 | G90: 66.82 | H90: =(ROUND(G90*(1-$E$5)*(1-$G$5)*(1-$H$5),2)*F90) -> 0 | I90: =(G90*$E$15)+G90 -> 73.502 | J90: =H90+(H90*$E$15) -> 0 | K90: 25 | L90: available | M90: =(S90+P90)+(Q90/4) -> 2.1005 | N90: 1.83656 | O90: 4.59 | P90: 0.158 | Q90: 0.386 | R90: 0.01 | S90: =O90/100*E90+R90 -> 1.846
A91: =SUBTOTAL(3,$B$18:B91) -> 74 | B91: 696244110508 | C91: U12107000I | D91: Univ 12X7" CLAMSHELL | E91: 10 | G91: 22.94 | H91: =(ROUND(G91*(1-$E$5)*(1-$G$5)*(1-$H$5),2)*F91) -> 0 | I91: =(G91*$E$15)+G91 -> 25.234 | J91: =H91+(H91*$E$15) -> 0 | L91: available
A92: =SUBTOTAL(3,$B$18:B92) -> 75 | B92: 696244110591 | C92: U12108000B | D92: Univ 12X8" Bulk | E92: 300 | G92: 627.27 | H92: =(ROUND(G92*(1-$E$5)*(1-$G$5)*(1-$H$5),2)*F92) -> 0 | I92: =(G92*$E$15)+G92 -> 689.997 | J92: =H92+(H92*$E$15) -> 0 | K92: 25 | L92: available | M92: =(S92+P92)+(Q92/4) -> 17.12 | N92: 15.6948 | O92: 5.23 | P92: 1.43 | Q92: 0 | R92: 0 | S92: =O92/100*E92+R92 -> 15.69
A93: =SUBTOTAL(3,$B$18:B93) -> 76 | B93: 696244110614 | C93: U12108000H | D93: Univ 12X8" Pkg | E93: 40 | G93: 104.54 | H93: =(ROUND(G93*(1-$E$5)*(1-$G$5)*(1-$H$5),2)*F93) -> 0 | I93: =(G93*$E$15)+G93 -> 114.994 | J93: =H93+(H93*$E$15) -> 0 | K93: 25 | L93: available | M93: =(S93+P93)+(Q93/4) -> 2.3565 | N93: 2.09264 | O93: 5.23 | P93: 0.158 | Q93: 0.386 | R93: 0.01 | S93: =O93/100*E93+R93 -> 2.102
A94: =SUBTOTAL(3,$B$18:B94) -> 77 | B94: 696244110621 | C94: U12108000I | D94: Univ 12X8" CLAMSHELL | E94: 10 | G94: 30.07 | H94: =(ROUND(G94*(1-$E$5)*(1-$G$5)*(1-$H$5),2)*F94) -> 0 | I94: =(G94*$E$15)+G94 -> 33.077 | J94: =H94+(H94*$E$15) -> 0 | L94: available
A95: =SUBTOTAL(3,$B$18:B95) -> 78 | B95: 696244110713 | C95: U12110000B | D95: Univ 12X10" Bulk | E95: 300 | G95: 921.73 | H95: =(ROUND(G95*(1-$E$5)*(1-$G$5)*(1-$H$5),2)*F95) -> 0 | I95: =(G95*$E$15)+G95 -> 1013.903 | J95: =H95+(H95*$E$15) -> 0 | K95: 25 | L95: available | M95: =(S95+P95)+(Q95/4) -> 20.35 | N95: 19.5096 | O95: 6.5 | P95: 0.85 | Q95: 0 | R95: 0 | S95: =O95/100*E95+R95 -> 19.5
A96: =SUBTOTAL(3,$B$18:B96) -> 79 | B96: 696244110737 | C96: U12110000H | D96: Univ 12X10" Pkg | E96: 40 | G96: 154.35 | H96: =(ROUND(G96*(1-$E$5)*(1-$G$5)*(1-$H$5),2)*F96) -> 0 | I96: =(G96*$E$15)+G96 -> 169.785 | J96: =H96+(H96*$E$15) -> 0 | K96: 25 | L96: available | M96: =(S96+P96)+(Q96/4) -> 2.6 | N96: 2.60128 | O96: 6.5 | Q96: 0 | R96: 0 | S96: =O96/100*E96+R96 -> 2.6
A97: =SUBTOTAL(3,$B$18:B97) -> 80 | B97: 696244110744 | C97: U12110000I | D97: Univ 12X10" CLAMSHELL | E97: 8 | G97: 37.52 | H97: =(ROUND(G97*(1-$E$5)*(1-$G$5)*(1-$H$5),2)*F97) -> 0 | I97: =(G97*$E$15)+G97 -> 41.272 | J97: =H97+(H97*$E$15) -> 0 | L97: available
A98: =SUBTOTAL(3,$B$18:B98) -> 81 | B98: 696244110898 | C98: U12112000B | D98: Univ 12X12" Bulk | E98: 300 | G98: 1179.13 | H98: =(ROUND(G98*(1-$E$5)*(1-$G$5)*(1-$H$5),2)*F98) -> 0 | I98: =(G98*$E$15)+G98 -> 1297.043 | J98: =H98+(H98*$E$15) -> 0 | K98: 25 | L98: available | M98: =(S98+P98)+(Q98/4) -> 24.23 | N98: 23.3244 | O98: 7.77 | P98: 0.92 | Q98: 0 | R98: 0 | S98: =O98/100*E98+R98 -> 23.31
A99: =SUBTOTAL(3,$B$18:B99) -> 82 | B99: 696244110911 | C99: U12112000H | D99: Univ 12X12" Pkg | E99: 40 | G99: 196.94 | H99: =(ROUND(G99*(1-$E$5)*(1-$G$5)*(1-$H$5),2)*F99) -> 0 | I99: =(G99*$E$15)+G99 -> 216.634 | J99: =H99+(H99*$E$15) -> 0 | K99: 25 | L99: available
A100: =SUBTOTAL(3,$B$18:B100) -> 83 | B100: 696244110928 | C100: U12112000I | D100: Univ 12X12" CLAMSHELL | E100: 8 | G100: 46.87 | H100: =(ROUND(G100*(1-$E$5)*(1-$G$5)*(1-$H$5),2)*F100) -> 0 | I100: =(G100*$E$15)+G100 -> 51.557 | J100: =H100+(H100*$E$15) -> 0 | L100: available | M100: =(S100+P100)+(Q100/4) -> 0.6216 | N100: 3.10992 | O100: 7.77 | Q100: 0 | R100: 0 | S100: =O100/100*E100+R100 -> 0.6216
A101: =SUBTOTAL(3,$B$18:B101) -> 84 | B101: U2 BLACK Universal
A102: =SUBTOTAL(3,$B$18:B102) -> 85 | B102: 696244112526 | C102: U10B02500B | D102: Univ 10X2"1/2 (blk) Bulk | E102: 2200 | G102: 395.0766 | H102: =(ROUND(G102*(1-$E$5)*(1-$G$5)*(1-$H$5),2)*F102) -> 0 | I102: =(G102*$E$15)+G102 -> 434.58426 | J102: =H102+(H102*$E$15) -> 0 | K102: 25 | L102: available | M102: 28.094 | N102: 26.5232 | O102: 1.212 | P102: 1.43 | Q102: 0 | R102: 0 | S102: 26.664
A103: =SUBTOTAL(3,$B$18:B103) -> 86 | B103: 696244112540 | C103: U10B02500H | D103: Univ 10X2"1/2 (blk) Pkg | E103: 100 | G103: 22.4502 | H103: =(ROUND(G103*(1-$E$5)*(1-$G$5)*(1-$H$5),2)*F103) -> 0 | I103: =(G103*$E$15)+G103 -> 24.69522 | J103: =H103+(H103*$E$15) -> 0 | K103: 25 | L103: available | M103: 1.3556667 | N103: 1.2056 | O103: 1.212 | P103: 0.086 | Q103: 0.286 | R103: 0.01 | S103: 1.222
A104: =SUBTOTAL(3,$B$18:B104) -> 87 | B104: 696244112564 | C104: U10B02500P | D104: Univ 10X2"1/2 (blk) Pail | E104: 350 | G104: 72.7158 | H104: =(ROUND(G104*(1-$E$5)*(1-$G$5)*(1-$H$5),2)*F104) -> 0 | I104: =(G104*$E$15)+G104 -> 79.98738 | J104: =H104+(H104*$E$15) -> 0 | K104: 25 | L104: available | M104: 4.516 | N104: 4.2196 | O104: 1.212 | P104: 0.264 | Q104: 0.4 | R104: 0.01 | S104: 4.252
...

Sheet CDN Price Index
A1: UNIVERSAL SCREW | M1: Discounts
B2: BULK | E2: Pail | H2: PACKAGE | M2: #1 | N2: 0
A3: SIZE | B3: STOCK CODE | C3: PCS | D3: MSRP | E3: STOCK CODE | F3: PCS | G3: MSRP | H3: STOCK CODE | I3: PCS | J3: MSRP | K3: CDN Pricing | M3: #2 | N3: 0
A4: 6 X 1/2" | B4: U06100500B | C4: =INDEX(CDN!E:E,MATCH($B:$B,CDN!$C:$C,0)) -> 16000 | D4: =ROUND(INDEX(CDN!I:I,MATCH('CDN Price Index'!B:B,CDN!C:C,0))*(1-$N$2)*(1-$N$3)*(1-$N$4),2) -> 765.17 | E4: U06100500P | F4: =INDEX(CDN!E:E,MATCH($E:$E,CDN!$C:$C,0)) -> 1600 | G4: =ROUND(INDEX(CDN!I:I,MATCH($E:$E,CDN!$C:$C,0))*(1-$N$2)*(1-$N$3)*(1-$N$4),2) -> 78.42 | H4: U06100500H | I4: =INDEX(CDN!E:E,MATCH($H:$H,CDN!$C:$C,0)) -> 100 | J4: =ROUND(INDEX(CDN!I:I,MATCH($H:$H,CDN!$C:$C,0))*(1-$N$2)*(1-$N$3)*(1-$N$4),2) -> 10.76 | M4: #3 | N4: 0
A5: 6 X 5/8" | B5: U06100625B | C5: =INDEX(CDN!E:E,MATCH(B:B,CDN!C:C,0)) -> 14000 | D5: =ROUND(INDEX(CDN!I:I,MATCH('CDN Price Index'!B:B,CDN!C:C,0))*(1-$N$2)*(1-$N$3)*(1-$N$4),2) -> 772.17 | E5: U06100625P | F5: =INDEX(CDN!E:E,MATCH($E:$E,CDN!$C:$C,0)) -> 1400 | G5: =ROUND(INDEX(CDN!I:I,MATCH($E:$E,CDN!$C:$C,0))*(1-$N$2)*(1-$N$3)*(1-$N$4),2) -> 78.42 | H5: U06100625H | I5: =INDEX(CDN!E:E,MATCH($H:$H,CDN!$C:$C,0)) -> 100 | J5: =ROUND(INDEX(CDN!I:I,MATCH($H:$H,CDN!$C:$C,0))*(1-$N$2)*(1-$N$3)*(1-$N$4),2) -> 11.11
A6: 6 X 1-1/2" | B6: U06101500B | C6: =INDEX(CDN!E:E,MATCH(B:B,CDN!C:C,0)) -> 8000 | D6: =ROUND(INDEX(CDN!I:I,MATCH('CDN Price Index'!B:B,CDN!C:C,0))*(1-$N$2)*(1-$N$3)*(1-$N$4),2) -> 642.85 | E6: U06101500P | F6: =INDEX(CDN!E:E,MATCH($E:$E,CDN!$C:$C,0)) -> 928 | G6: =ROUND(INDEX(CDN!I:I,MATCH($E:$E,CDN!$C:$C,0))*(1-$N$2)*(1-$N$3)*(1-$N$4),2) -> 78.42 | H6: U06101500H | I6: =INDEX(CDN!E:E,MATCH($H:$H,CDN!$C:$C,0)) -> 100 | J6: =ROUND(INDEX(CDN!I:I,MATCH($H:$H,CDN!$C:$C,0))*(1-$N$2)*(1-$N$3)*(1-$N$4),2) -> 11.55
A7: 8 X 1-1/4" | B7: U08101250B | C7: =INDEX(CDN!E:E,MATCH(B:B,CDN!C:C,0)) -> 10000 | D7: =ROUND(INDEX(CDN!I:I,MATCH('CDN Price Index'!B:B,CDN!C:C,0))*(1-$N$2)*(1-$N$3)*(1-$N$4),2) -> 935.91 | E7: U08101250P | F7: =INDEX(CDN!E:E,MATCH($E:$E,CDN!$C:$C,0)) -> 835 | G7: =ROUND(INDEX(CDN!I:I,MATCH($E:$E,CDN!$C:$C,0))*(1-$N$2)*(1-$N$3)*(1-$N$4),2) -> 78.42 | H7: U08101250H | I7: =INDEX(CDN!E:E,MATCH($H:$H,CDN!$C:$C,0)) -> 100 | J7: =ROUND(INDEX(CDN!I:I,MATCH($H:$H,CDN!$C:$C,0))*(1-$N$2)*(1-$N$3)*(1-$N$4),2) -> 11.8
A8: 8 X 1-1/2" | B8: U08101500B | C8: =INDEX(CDN!E:E,MATCH(B:B,CDN!C:C,0)) -> 6500 | D8: =ROUND(INDEX(CDN!I:I,MATCH('CDN Price Index'!B:B,CDN!C:C,0))*(1-$N$2)*(1-$N$3)*(1-$N$4),2) -> 651.2 | E8: U08101500P | F8: =INDEX(CDN!E:E,MATCH($E:$E,CDN!$C:$C,0)) -> 750 | G8: =ROUND(INDEX(CDN!I:I,MATCH($E:$E,CDN!$C:$C,0))*(1-$N$2)*(1-$N$3)*(1-$N$4),2) -> 78.42 | H8: U08101500H | I8: =INDEX(CDN!E:E,MATCH($H:$H,CDN!$C:$C,0)) -> 100 | J8: =ROUND(INDEX(CDN!I:I,MATCH($H:$H,CDN!$C:$C,0))*(1-$N$2)*(1-$N$3)*(1-$N$4),2) -> 12.52
A9: 8 X 2" | B9: U08102000B | C9: =INDEX(CDN!E:E,MATCH(B:B,CDN!C:C,0)) -> 4500 | D9: =ROUND(INDEX(CDN!I:I,MATCH('CDN Price Index'!B:B,CDN!C:C,0))*(1-$N$2)*(1-$N$3)*(1-$N$4),2) -> 507.01 | E9: U08102000P | F9: =INDEX(CDN!E:E,MATCH($E:$E,CDN!$C:$C,0)) -> 630 | G9: =ROUND(INDEX(CDN!I:I,MATCH($E:$E,CDN!$C:$C,0))*(1-$N$2)*(1-$N$3)*(1-$N$4),2) -> 78.42 | H9: U08102000H | I9: =INDEX(CDN!E:E,MATCH($H:$H,CDN!$C:$C,0)) -> 100 | J9: =ROUND(INDEX(CDN!I:I,MATCH($H:$H,CDN!$C:$C,0))*(1-$N$2)*(1-$N$3)*(1-$N$4),2) -> 14.08
A10: 9 X 1-1/2" | B10: U09101500B | C10: =INDEX(CDN!E:E,MATCH(B:B,CDN!C:C,0)) -> 5200 | D10: =ROUND(INDEX(CDN!I:I,MATCH('CDN Price Index'!B:B,CDN!C:C,0))*(1-$N$2)*(1-$N$3)*(1-$N$4),2) -> 561.25 | E10: U09101500P | F10: =INDEX(CDN!E:E,MATCH($E:$E,CDN!$C:$C,0)) -> 610 | G10: =ROUND(INDEX(CDN!I:I,MATCH($E:$E,CDN!$C:$C,0))*(1-$N$2)*(1-$N$3)*(1-$N$4),2) -> 79.99 | H10: U09101500H | I10: =INDEX(CDN!E:E,MATCH($H:$H,CDN!$C:$C,0)) -> 100 | J10: =ROUND(INDEX(CDN!I:I,MATCH($H:$H,CDN!$C:$C,0))*(1-$N$2)*(1-$N$3)*(1-$N$4),2) -> 13.5
A11: 9 X 1-3/4 | B11: U09101750B | C11: =INDEX(CDN!E:E,MATCH(B:B,CDN!C:C,0)) -> 4500 | D11: =ROUND(INDEX(CDN!I:I,MATCH('CDN Price Index'!B:B,CDN!C:C,0))*(1-$N$2)*(1-$N$3)*(1-$N$4),2) -> 630.71 | E11: U09101750P | F11: =INDEX(CDN!E:E,MATCH($E:$E,CDN!$C:$C,0)) -> 542 | G11: =ROUND(INDEX(CDN!I:I,MATCH($E:$E,CDN!$C:$C,0))*(1-$N$2)*(1-$N$3)*(1-$N$4),2) -> 79.99 | H11: U09101750H | I11: =INDEX(CDN!E:E,MATCH($H:$H,CDN!$C:$C,0)) -> 100 | J11: =ROUND(INDEX(CDN!I:I,MATCH($H:$H,CDN!$C:$C,0))*(1-$N$2)*(1-$N$3)*(1-$N$4),2) -> 16.63
A12: 9 X 2" | B12: U09102000B | C12: =INDEX(CDN!E:E,MATCH(B:B,CDN!C:C,0)) -> 3700 | D12: =ROUND(INDEX(CDN!I:I,MATCH('CDN Price Index'!B:B,CDN!C:C,0))*(1-$N$2)*(1-$N$3)*(1-$N$4),2) -> 498.19 | E12: U09102000P | F12: =INDEX(CDN!E:E,MATCH($E:$E,CDN!$C:$C,0)) -> 510 | G12: =ROUND(INDEX(CDN!I:I,MATCH($E:$E,CDN!$C:$C,0))*(1-$N$2)*(1-$N$3)*(1-$N$4),2) -> 79.99 | H12: U09102000H | I12: =INDEX(CDN!E:E,MATCH($H:$H,CDN!$C:$C,0)) -> 100 | J12: =ROUND(INDEX(CDN!I:I,MATCH($H:$H,CDN!$C:$C,0))*(1-$N$2)*(1-$N$3)*(1-$N$4),2) -> 16.84
A13: 9 X 2-1/2" | B13: U09102500B | C13: =INDEX(CDN!E:E,MATCH(B:B,CDN!C:C,0)) -> 2600 | D13: =ROUND(INDEX(CDN!I:I,MATCH('CDN Price Index'!B:B,CDN!C:C,0))*(1-$N$2)*(1-$N$3)*(1-$N$4),2) -> 413.06 | E13: U09102500P | F13: =INDEX(CDN!E:E,MATCH($E:$E,CDN!$C:$C,0)) -> 435 | G13: =ROUND(INDEX(CDN!I:I,MATCH($E:$E,CDN!$C:$C,0))*(1-$N$2)*(1-$N$3)*(1-$N$4),2) -> 79.99 | H13: U09102500H | I13: =INDEX(CDN!E:E,MATCH($H:$H,CDN!$C:$C,0)) -> 100 | J13: =ROUND(INDEX(CDN!I:I,MATCH($H:$H,CDN!$C:$C,0))*(1-$N$2)*(1-$N$3)*(1-$N$4),2) -> 19.86
A14: 9 X 2-3/4" | B14: U09102750B | C14: =INDEX(CDN!E:E,MATCH(B:B,CDN!C:C,0)) -> 2000 | D14: =ROUND(INDEX(CDN!I:I,MATCH('CDN Price Index'!B:B,CDN!C:C,0))*(1-$N$2)*(1-$N$3)*(1-$N$4),2) -> 379.24 | E14: U09102750P | F14: =INDEX(CDN!E:E,MATCH($E:$E,CDN!$C:$C,0)) -> 365 | G14: =ROUND(INDEX(CDN!I:I,MATCH($E:$E,CDN!$C:$C,0))*(1-$N$2)*(1-$N$3)*(1-$N$4),2) -> 79.99 | H14: U09102750H | I14: =INDEX(CDN!E:E,MATCH($H:$H,CDN!$C:$C,0)) -> 100 | J14: =ROUND(INDEX(CDN!I:I,MATCH($H:$H,CDN!$C:$C,0))*(1-$N$2)*(1-$N$3)*(1-$N$4),2) -> 23.71
A15: 9 X 3-1/8" | B15: U09103125B | C15: =INDEX(CDN!E:E,MATCH(B:B,CDN!C:C,0)) -> 1500 | D15: =ROUND(INDEX(CDN!I:I,MATCH('CDN Price Index'!B:B,CDN!C:C,0))*(1-$N$2)*(1-$N$3)*(1-$N$4),2) -> 272.01 | E15: U09103125P | F15: =INDEX(CDN!E:E,MATCH($E:$E,CDN!$C:$C,0)) -> 330 | G15: =ROUND(INDEX(CDN!I:I,MATCH($E:$E,CDN!$C:$C,0))*(1-$N$2)*(1-$N$3)*(1-$N$4),2) -> 70.64 | H15: U09103125H | I15: =INDEX(CDN!E:E,MATCH($H:$H,CDN!$C:$C,0)) -> 100 | J15: =ROUND(INDEX(CDN!I:I,MATCH($H:$H,CDN!$C:$C,0))*(1-$N$2)*(1-$N$3)*(1-$N$4),2) -> 24.95
A16: 10 X 1-5/8" | B16: U10101625B | C16: =INDEX(CDN!E:E,MATCH(B:B,CDN!C:C,0)) -> 2500 | D16: =ROUND(INDEX(CDN!I:I,MATCH('CDN Price Index'!B:B,CDN!C:C,0))*(1-$N$2)*(1-$N$3)*(1-$N$4),2) -> 441.02 | E16: U10101625P | F16: =INDEX(CDN!E:E,MATCH($E:$E,CDN!$C:$C,0)) -> 500 | G16: =ROUND(INDEX(CDN!I:I,MATCH($E:$E,CDN!$C:$C,0))*(1-$N$2)*(1-$N$3)*(1-$N$4),2) -> 88.41 | H16: U10101625H | I16: =INDEX(CDN!E:E,MATCH($H:$H,CDN!$C:$C,0)) -> 100 | J16: =ROUND(INDEX(CDN!I:I,MATCH($H:$H,CDN!$C:$C,0))*(1-$N$2)*(1-$N$3)*(1-$N$4),2) -> 19.98
... A24: 12 X 3-1/2" | B24: U12103500B | C24: =INDEX(CDN!E:E,MATCH(B:B,CDN!C:C,0)) -> 1200 | D24: =ROUND(INDEX(CDN!I:I,MATCH('CDN Price Index'!B:B,CDN!C:C,0))*(1-$N$2)*(1-$N$3)*(1-$N$4),2) -> 630.95 | E24: U12103500P | F24: =INDEX(CDN!E:E,MATCH($E:$E,CDN!$C:$C,0)) -> 125 | G24: =ROUND(INDEX(CDN!I:I,MATCH($E:$E,CDN!$C:$C,0))*(1-$N$2)*(1-$N$3)*(1-$N$4),2) -> 69.26 | H24: U12103500H | I24: =INDEX(CDN!E:E,MATCH($H:$H,CDN!$C:$C,0)) -> 50 | J24: =ROUND(INDEX(CDN!I:I,MATCH($H:$H,CDN!$C:$C,0))*(1-$N$2)*(1-$N$3)*(1-$N$4),2) -> 31.74
A25: 12 X 4" | B25: U12104000B | C25: =INDEX(CDN!E:E,MATCH(B:B,CDN!C:C,0)) -> 800 | D25: =ROUND(INDEX(CDN!I:I,MATCH('CDN Price Index'!B:B,CDN!C:C,0))*(1-$N$2)*(1-$N$3)*(1-$N$4),2) -> 449.36 | H25: U12104000H | I25: =INDEX(CDN!E:E,MATCH($H:$H,CDN!$C:$C,0)) -> 50 | J25: =ROUND(INDEX(CDN!I:I,MATCH($H:$H,CDN!$C:$C,0))*(1-$N$2)*(1-$N$3)*(1-$N$4),2) -> 35.11
A26: 12 X 5" | B26: U12105000B | C26: =INDEX(CDN!E:E,MATCH(B:B,CDN!C:C,0)) -> 500 | D26: =ROUND(INDEX(CDN!I:I,MATCH('CDN Price Index'!B:B,CDN!C:C,0))*(1-$N$2)*(1-$N$3)*(1-$N$4),2) -> 334.03 | H26: U12105000H | I26: =INDEX(CDN!E:E,MATCH($H:$H,CDN!$C:$C,0)) -> 50 | J26: =ROUND(INDEX(CDN!I:I,MATCH($H:$H,CDN!$C:$C,0))*(1-$N$2)*(1-$N$3)*(1-$N$4),2) -> 43.54
A27: 12 X 6" | B27: U12106000B | C27: =INDEX(CDN!E:E,MATCH(B:B,CDN!C:C,0)) -> 500 | D27: =ROUND(INDEX(CDN!I:I,MATCH('CDN Price Index'!B:B,CDN!C:C,0))*(1-$N$2)*(1-$N$3)*(1-$N$4),2) -> 435.55 | H27: U12106000H | I27: =INDEX(CDN!E:E,MATCH($H:$H,CDN!$C:$C,0)) -> 50 | J27: =ROUND(INDEX(CDN!I:I,MATCH($H:$H,CDN!$C:$C,0))*(1-$N$2)*(1-$N$3)*(1-$N$4),2) -> 52.46
A28: 12 X 7" | B28: U12107000B | C28: =INDEX(CDN!E:E,MATCH(B:B,CDN!C:C,0)) -> 300 | D28: =ROUND(INDEX(CDN!I:I,MATCH('CDN Price Index'!B:B,CDN!C:C,0))*(1-$N$2)*(1-$N$3)*(1-$N$4),2) -> 440.99 | H28: U12107000H | I28: =INDEX(CDN!E:E,MATCH($H:$H,CDN!$C:$C,0)) -> 40 | J28: =ROUND(INDEX(CDN!I:I,MATCH($H:$H,CDN!$C:$C,0))*(1-$N$2)*(1-$N$3)*(1-$N$4),2) -> 73.5
A29: 12 X 8" | B29: U12108000B | C29: =INDEX(CDN!E:E,MATCH(B:B,CDN!C:C,0)) -> 300 | D29: =ROUND(INDEX(CDN!I:I,MATCH('CDN Price Index'!B:B,CDN!C:C,0))*(1-$N$2)*(1-$N$3)*(1-$N$4),2) -> 690 | H29: U12108000H | I29: =INDEX(CDN!E:E,MATCH($H:$H,CDN!$C:$C,0)) -> 40 | J29: =ROUND(INDEX(CDN!I:I,MATCH($H:$H,CDN!$C:$C,0))*(1-$N$2)*(1-$N$3)*(1-$N$4),2) -> 114.99
A30: 12 X 10" | B30: U12110000B | C30: =INDEX(CDN!E:E,MATCH(B:B,CDN!C:C,0)) -> 300 | D30: =ROUND(INDEX(CDN!I:I,MATCH('CDN Price Index'!B:B,CDN!C:C,0))*(1-$N$2)*(1-$N$3)*(1-$N$4),2) -> 1013.9 | H30: U12110000H | I30: =INDEX(CDN!E:E,MATCH($H:$H,CDN!$C:$C,0)) -> 40 | J30: =ROUND(INDEX(CDN!I:I,MATCH($H:$H,CDN!$C:$C,0))*(1-$N$2)*(1-$N$3)*(1-$N$4),2) -> 169.79
A31: 12 X 12" | B31: U12112000B | C31: =INDEX(CDN!E:E,MATCH(B:B,CDN!C:C,0)) -> 300 | D31: =ROUND(INDEX(CDN!I:I,MATCH('CDN Price Index'!B:B,CDN!C:C,0))*(1-$N$2)*(1-$N$3)*(1-$N$4),2) -> 1297.04 | H31: U12112000H | I31: =INDEX(CDN!E:E,MATCH($H:$H,CDN!$C:$C,0)) -> 40 | J31: =ROUND(INDEX(CDN!I:I,MATCH($H:$H,CDN!$C:$C,0))*(1-$N$2)*(1-$N$3)*(1-$N$4),2) -> 216.63
A32: BLACK UNIVERSAL SCREW
B33: BULK | E33: Pail | H33: PACKAGE
A34: SIZE | B34: STOCK CODE | C34: PCS | D34: MSRP | E34: STOCK CODE | F34: PCS | G34: MSRP | H34: STOCK CODE | I34: PCS | J34: MSRP
A35: 10 X 2-1/2" BK | B35: U10B02500B | C35: =INDEX(CDN!E:E,MATCH(B:B,CDN!C:C,0)) -> 2200 | D35: =ROUND(INDEX(CDN!I:I,MATCH('CDN Price Index'!B:B,CDN!C:C,0))*(1-$N$2)*(1-$N$3)*(1-$N$4),2) -> 434.58 | E35: U10B02500P | F35: =INDEX(CDN!E:E,MATCH($E:$E,CDN!$C:$C,0)) -> 350 | G35: =ROUND(INDEX(CDN!I:I,MATCH($E:$E,CDN!$C:$C,0))*(1-$N$2)*(1-$N$3)*(1-$N$4),2) -> 79.99 | H35: U10B02500H | I35: =INDEX(CDN!E:E,MATCH($H:$H,CDN!$C:$C,0)) -> 100 | J35: =ROUND(INDEX(CDN!I:I,MATCH($H:$H,CDN!$C:$C,0))*(1-$N$2)*(1-$N$3)*(1-$N$4),2) -> 24.7
A36: 10 X 3-1/8" BK | B36: U10B03125B | C36: =INDEX(CDN!E:E,MATCH(B:B,CDN!C:C,0)) -> 1500 | D36: =ROUND(INDEX(CDN!I:I,MATCH('CDN Price Index'!B:B,CDN!C:C,0))*(1-$N$2)*(1-$N$3)*(1-$N$4),2) -> 325.67 | E36: U10B03125P | F36: =INDEX(CDN!E:E,MATCH($E:$E,CDN!$C:$C,0)) -> 270 | G36: =ROUND(INDEX(CDN!I:I,MATCH($E:$E,CDN!$C:$C,0))*(1-$N$2)*(1-$N$3)*(1-$N$4),2) -> 70.64 | H36: U10B03125H | I36: =INDEX(CDN!E:E,MATCH($H:$H,CDN!$C:$C,0)) -> 100 | J36: =ROUND(INDEX(CDN!I:I,MATCH($H:$H,CDN!$C:$C,0))*(1-$N$2)*(1-$N$3)*(1-$N$4),2) -> 30.07
A38: UNIVERSAL SCREW (STAINLESS 316)
B39: BULK | E39: Pail | H39: PACKAGE
A40: SIZE | B40: STOCK CODE | C40: PCS | D40: MSRP | E40: STOCK CODE | F40: PCS | G40: MSRP | H40: STOCK CODE | I40: PCS | J40: MSRP
A41: 8 X 1-1/4" | B41: H08101250B | C41: =INDEX(CDN!E:E,MATCH(B:B,CDN!C:C,0)) -> 10000 | D41: =ROUND(INDEX(CDN!I:I,MATCH('CDN Price Index'!B:B,CDN!C:C,0))*(1-$N$2)*(1-$N$3)*(1-$N$4),2) -> 2476.08 | E41: H08101250P | F41: =INDEX(CDN!E:E,MATCH($E:$E,CDN!$C:$C,0)) -> 680 | G41: =ROUND(INDEX(CDN!I:I,MATCH($E:$E,CDN!$C:$C,0))*(1-$N$2)*(1-$N$3)*(1-$N$4),2) -> 186.95 | H41: H08101250H | I41: =INDEX(CDN!E:E,MATCH($H:$H,CDN!$C:$C,0)) -> 100 | J41: =ROUND(INDEX(CDN!I:I,MATCH($H:$H,CDN!$C:$C,0))*(1-$N$2)*(1-$N$3)*(1-$N$4),2) -> 30.95
A42: 8 X 1-1/2" | B42: H08101500B | C42: =INDEX(CDN!E:E,MATCH(B:B,CDN!C:C,0)) -> 6500 | D42: =ROUND(INDEX(CDN!I:I,MATCH('CDN Price Index'!B:B,CDN!C:C,0))*(1-$N$2)*(1-$N$3)*(1-$N$4),2) -> 1683.87 | E42: H08101500P | F42: =INDEX(CDN!E:E,MATCH($E:$E,CDN!$C:$C,0)) -> 620 | G42: =ROUND(INDEX(CDN!I:I,MATCH($E:$E,CDN!$C:$C,0))*(1-$N$2)*(1-$N$3)*(1-$N$4),2) -> 186.95 | H42: H08101500H | I42: =INDEX(CDN!E:E,MATCH($H:$H,CDN!$C:$C,0)) -> 100 | J42: =ROUND(INDEX(CDN!I:I,MATCH($H:$H,CDN!$C:$C,0))*(1-$N$2)*(1-$N$3)*(1-$N$4),2) -> 32.37
A43: 8 X 1-3/4" | B43: H08101750B | C43: =INDEX(CDN!E:E,MATCH(B:B,CDN!C:C,0)) -> 5000 | D43: =ROUND(INDEX(CDN!I:I,MATCH('CDN Price Index'!B:B,CDN!C:C,0))*(1-$N$2)*(1-$N$3)*(1-$N$4),2) -> 1700.3 | E43: H08101750P | F43: =INDEX(CDN!E:E,MATCH($E:$E,CDN!$C:$C,0)) -> 548 | G43: =ROUND(INDEX(CDN!I:I,MATCH($E:$E,CDN!$C:$C,0))*(1-$N$2)*(1-$N$3)*(1-$N$4),2) -> 186.95 | H43: H08101750H | I43: =INDEX(CDN!E:E,MATCH($H:$H,CDN!$C:$C,0)) -> 100 | J43: =ROUND(INDEX(CDN!I:I,MATCH($H:$H,CDN!$C:$C,0))*(1-$N$2)*(1-$N$3)*(1-$N$4),2) -> 38.73
A44: 9 X 1-1/2" | B44: H09101500B | C44: =INDEX(CDN!E:E,MATCH(B:B,CDN!C:C,0)) -> 5000 | D44: =ROUND(INDEX(CDN!I:I,MATCH('CDN Price Index'!B:B,CDN!C:C,0))*(1-$N$2)*(1-$N$3)*(1-$N$4),2) -> 1782.08 | E44: H09101500P | F44: =INDEX(CDN!E:E,MATCH($E:$E,CDN!$C:$C,0)) -> 545 | G44: =ROUND(INDEX(CDN!I:I,MATCH($E:$E,CDN!$C:$C,0))*(1-$N$2)*(1-$N$3)*(1-$N$4),2) -> 186.95 | H44: H09101500H | I44: =INDEX(CDN!E:E,MATCH($H:$H,CDN!$C:$C,0)) -> 100 | J44: =ROUND(INDEX(CDN!I:I,MATCH($H:$H,CDN!$C:$C,0))*(1-$N$2)*(1-$N$3)*(1-$N$4),2) -> 37.06
A45: 9 X 2" | B45: H09102000B | C45: =INDEX(CDN!E:E,MATCH(B:B,CDN!C:C,0)) -> 3700 | D45: =ROUND(INDEX(CDN!I:I,MATCH('CDN Price Index'!B:B,CDN!C:C,0))*(1-$N$2)*(1-$N$3)*(1-$N$4),2) -> 1460.25 | E45: H09102000P | F45: =INDEX(CDN!E:E,MATCH($E:$E,CDN!$C:$C,0)) -> 460 | G45: =ROUND(INDEX(CDN!I:I,MATCH($E:$E,CDN!$C:$C,0))*(1-$N$2)*(1-$N$3)*(1-$N$4),2) -> 186.95 | H45: H09102000H | I45: =INDEX(CDN!E:E,MATCH($H:$H,CDN!$C:$C,0)) -> 100 | J45: =ROUND(INDEX(CDN!I:I,MATCH($H:$H,CDN!$C:$C,0))*(1-$N$2)*(1-$N$3)*(1-$N$4),2) -> 45.36
A46: 10 X 2-1/2" | B46: H10102500B | C46: =INDEX(CDN!E:E,MATCH(B:B,CDN!C:C,0)) -> 2200 | D46: =ROUND(INDEX(CDN!I:I,MATCH('CDN Price Index'!B:B,CDN!C:C,0))*(1-$N$2)*(1-$N$3)*(1-$N$4),2) -> 1041.34 | E46: H10102500P | F46: =INDEX(CDN!E:E,MATCH($E:$E,CDN!$C:$C,0)) -> 295 | G46: =ROUND(INDEX(CDN!I:I,MATCH($E:$E,CDN!$C:$C,0))*(1-$N$2)*(1-$N$3)*(1-$N$4),2) -> 186.95 | H46: H10102500H | I46: =INDEX(CDN!E:E,MATCH($H:$H,CDN!$C:$C,0)) -> 100 | J46: =ROUND(INDEX(CDN!I:I,MATCH($H:$H,CDN!$C:$C,0))*(1-$N$2)*(1-$N$3)*(1-$N$4),2) -> 68.3
A47: 10 X 2-3/4" | B47: H10102750B | C47: =INDEX(CDN!E:E,MATCH(B:B,CDN!C:C,0)) -> 2000 | D47: =ROUND(INDEX(CDN!I:I,MATCH('CDN Price Index'!B:B,CDN!C:C,0))*(1-$N$2)*(1-$N$3)*(1-$N$4),2) -> 1214.18 | E47: H10102750P | F47: =INDEX(CDN!E:E,MATCH($E:$E,CDN!$C:$C,0)) -> 250 | G47: =ROUND(INDEX(CDN!I:I,MATCH($E:$E,CDN!$C:$C,0))*(1-$N$2)*(1-$N$3)*(1-$N$4),2) -> 186.95 | H47: H10102750H | I47: =INDEX(CDN!E:E,MATCH($H:$H,CDN!$C:$C,0)) -> 100 | J47: =ROUND(INDEX(CDN!I:I,MATCH($H:$H,CDN!$C:$C,0))*(1-$N$2)*(1-$N$3)*(1-$N$4),2) -> 80.1
A48: 10 X 3" | B48: H10103000B | C48: =INDEX(CDN!E:E,MATCH(B:B,CDN!C:C,0)) -> 1500 | D48: =ROUND(INDEX(CDN!I:I,MATCH('CDN Price Index'!B:B,CDN!C:C,0))*(1-$N$2)*(1-$N$3)*(1-$N$4),2) -> 1011.45 | E48: H10103000P | F48: =INDEX(CDN!E:E,MATCH($E:$E,CDN!$C:$C,0)) -> 210 | G48: =ROUND(INDEX(CDN!I:I,MATCH($E:$E,CDN!$C:$C,0))*(1-$N$2)*(1-$N$3)*(1-$N$4),2) -> 186.95 | H48: H10103000H | I48: =INDEX(CDN!E:E,MATCH($H:$H,CDN!$C:$C,0)) -> 100 | J48: =ROUND(INDEX(CDN!I:I,MATCH($H:$H,CDN!$C:$C,0))*(1-$N$2)*(1-$N$3)*(1-$N$4),2) -> 97.4
A49: 10 X 4" | B49: H10104000B | C49: =INDEX(CDN!E:E,MATCH(B:B,CDN!C:C,0)) -> 1000 | D49: =ROUND(INDEX(CDN!I:I,MATCH('CDN Price Index'!B:B,CDN!C:C,0))*(1-$N$2)*(1-$N$3)*(1-$N$4),2) -> 867.58 | E49: H10104000P | F49: =INDEX(CDN!E:E,MATCH($E:$E,CDN!$C:$C,0)) -> 165 | G49: =ROUND(INDEX(CDN!I:I,MATCH($E:$E,CDN!$C:$C,0))*(1-$N$2)*(1-$N$3)*(1-$N$4),2) -> 186.95 | H49: H10104000H | I49: =INDEX(CDN!E:E,MATCH($H:$H,CDN!$C:$C,0)) -> 50 | J49: =ROUND(INDEX(CDN!I:I,MATCH($H:$H,CDN!$C:$C,0))*(1-$N$2)*(1-$N$3)*(1-$N$4),2) -> 61.98
A50: CONSTRUCTION SCREW
B51: BULK | E51: Pail | H51: PACKAGE
A52: SIZE | B52: STOCK CODE | C52: PCS | D52: MSRP | E52: STOCK CODE | F52: PCS | G52: MSRP | H52: STOCK CODE | I52: PCS | J52: MSRP
A53: 10 X 1-1/2" | B53: S10101500B | C53: =INDEX(CDN!E:E,MATCH(B:B,CDN!C:C,0)) -> 2300 | D53: =ROUND(INDEX(CDN!I:I,MATCH('CDN Price Index'!B:B,CDN!C:C,0))*(1-$N$2)*(1-$N$3)*(1-$N$4),2) -> 523.13 | E53: S10101500P | F53: =INDEX(CDN!E:E,MATCH($E:$E,CDN!$C:$C,0)) -> 282 | G53: =ROUND(INDEX(CDN!I:I,MATCH($E:$E,CDN!$C:$C,0))*(1-$N$2)*(1-$N$3)*(1-$N$4),2) -> 77.67 | H53: S10101500H | I53: =INDEX(CDN!E:E,MATCH($H:$H,CDN!$C:$C,0)) -> 40 | J53: =ROUND(INDEX(CDN!I:I,MATCH($H:$H,CDN!$C:$C,0))*(1-$N$2)*(1-$N$3)*(1-$N$4),2) -> 11.4
A54: 10 X 2" | B54: S10102000B | C54: =INDEX(CDN!E:E,MATCH(B:B,CDN!C:C,0)) -> 1600 | D54: =ROUND(INDEX(CDN!I:I,MATCH('CDN Price Index'!B:B,CDN!C:C,0))*(1-$N$2)*(1-$N$3)*(1-$N$4),2) -> 397.91 | E54: S10102000P | F54: =INDEX(CDN!E:E,MATCH($E:$E,CDN!$C:$C,0)) -> 258 | G54: =ROUND(INDEX(CDN!I:I,MATCH($E:$E,CDN!$C:$C,0))*(1-$N$2)*(1-$N$3)*(1-$N$4),2) -> 77.67 | H54: S10102000H | I54: =INDEX(CDN!E:E,MATCH($H:$H,CDN!$C:$C,0)) -> 40 | J54: =ROUND(INDEX(CDN!I:I,MATCH($H:$H,CDN!$C:$C,0))*(1-$N$2)*(1-$N$3)*(1-$N$4),2) -> 12.5
A55: 10 X 2-1/2" | B55: S10102500B | C55: =INDEX(CDN!E:E,MATCH(B:B,CDN!C:C,0)) -> 1000 | D55: =ROUND(INDEX(CDN!I:I,MATCH('CDN Price Index'!B:B,CDN!C:C,0))*(1-$N$2)*(1-$N$3)*(1-$N$4),2) -> 263.18 | E55: S10102500P | F55: =INDEX(CDN!E:E,MATCH($E:$E,CDN!$C:$C,0)) -> 240 | G55: =ROUND(INDEX(CDN!I:I,MATCH($E:$E,CDN!$C:$C,0))*(1-$N$2)*(1-$N$3)*(1-$N$4),2) -> 77.67 | H55: S10102500H | I55: =INDEX(CDN!E:E,MATCH($H:$H,CDN!$C:$C,0)) -> 40 | J55: =ROUND(INDEX(CDN!I:I,MATCH($H:$H,CDN!$C:$C,0))*(1-$N$2)*(1-$N$3)*(1-$N$4),2) -> 13.29
A56: 10 X 2-3/4" | B56: S10102750B | C56: =INDEX(CDN!E:E,MATCH(B:B,CDN!C:C,0)) -> 1000 | D56: =ROUND(INDEX(CDN!I:I,MATCH('CDN Price Index'!B:B,CDN!C:C,0))*(1-$N$2)*(1-$N$3)*(1-$N$4),2) -> 309.14 | E56: S10102750P | F56: =INDEX(CDN!E:E,MATCH($E:$E,CDN!$C:$C,0)) -> 207 | G56: =ROUND(INDEX(CDN!I:I,MATCH($E:$E,CDN!$C:$C,0))*(1-$N$2)*(1-$N$3)*(1-$N$4),2) -> 77.67 | H56: S10102750H | I56: =INDEX(CDN!E:E,MATCH($H:$H,CDN!$C:$C,0)) -> 40 | J56: =ROUND(INDEX(CDN!I:I,MATCH($H:$H,CDN!$C:$C,0))*(1-$N$2)*(1-$N$3)*(1-$N$4),2) -> 15.68
A57: 10 X 3-1/8" | B57: S10103125B | C57: =INDEX(CDN!E:E,MATCH(B:B,CDN!C:C,0)) -> 800 | D57: =ROUND(INDEX(CDN!I:I,MATCH('CDN Price Index'!B:B,CDN!C:C,0))*(1-$N$2)*(1-$N$3)*(1-$N$4),2) -> 251.83 | E57: S10103125P | F57: =INDEX(CDN!E:E,MATCH($E:$E,CDN!$C:$C,0)) -> 180 | G57: =ROUND(INDEX(CDN!I:I,MATCH($E:$E,CDN!$C:$C,0))*(1-$N$2)*(1-$N$3)*(1-$N$4),2) -> 68.61 | H57: S10103125H | I57: =INDEX(CDN!E:E,MATCH($H:$H,CDN!$C:$C,0)) -> 40 | J57: =ROUND(INDEX(CDN!I:I,MATCH($H:$H,CDN!$C:$C,0))*(1-$N$2)*(1-$N$3)*(1-$N$4),2) -> 16.63
A58: 1/4 X 1-1/2" | B58: S14101500B | C58: =INDEX(CDN!E:E,MATCH(B:B,CDN!C:C,0)) -> 1000 | D58: =ROUND(INDEX(CDN!I:I,MATCH('CDN Price Index'!B:B,CDN!C:C,0))*(1-$N$2)*(1-$N$3)*(1-$N$4),2) -> 284.58 | E58: S14101500P | F58: =INDEX(CDN!E:E,MATCH($E:$E,CDN!$C:$C,0)) -> 225 | G58: =ROUND(INDEX(CDN!I:I,MATCH($E:$E,CDN!$C:$C,0))*(1-$N$2)*(1-$N$3)*(1-$N$4),2) -> 77.67 | H58: S14101500H | I58: =INDEX(CDN!E:E,MATCH($H:$H,CDN!$C:$C,0)) -> 40 | J58: =ROUND(INDEX(CDN!I:I,MATCH($H:$H,CDN!$C:$C,0))*(1-$N$2)*(1-$N$3)*(1-$N$4),2) -> 14.27
A59: 1/4 X 2" | B59: S14102000B | C59: =INDEX(CDN!E:E,MATCH(B:B,CDN!C:C,0)) -> 800 | D59: =ROUND(INDEX(CDN!I:I,MATCH('CDN Price Index'!B:B,CDN!C:C,0))*(1-$N$2)*(1-$N$3)*(1-$N$4),2) -> 285.78 | E59: S14102000P | F59: =INDEX(CDN!E:E,MATCH($E:$E,CDN!$C:$C,0)) -> 179 | G59: =ROUND(INDEX(CDN!I:I,MATCH($E:$E,CDN!$C:$C,0))*(1-$N$2)*(1-$N$3)*(1-$N$4),2) -> 77.67 | H59: S14102000H | I59: =INDEX(CDN!E:E,MATCH($H:$H,CDN!$C:$C,0)) -> 40 | J59: =ROUND(INDEX(CDN!I:I,MATCH($H:$H,CDN!$C:$C,0))*(1-$N$2)*(1-$N$3)*(1-$N$4),2) -> 18
A60: 1/4 X 2-1/2" | B60: S14102500B | C60: =INDEX(CDN!E:E,MATCH(B:B,CDN!C:C,0)) -> 700 | D60: =ROUND(INDEX(CDN!I:I,MATCH('CDN Price Index'!B:B,CDN!C:C,0))*(1-$N$2)*(1-$N$3)*(1-$N$4),2) -> 270.81 | E60: S14102500P | F60: =INDEX(CDN!E:E,MATCH($E:$E,CDN!$C:$C,0)) -> 166 | G60: =ROUND(INDEX(CDN!I:I,MATCH($E:$E,CDN!$C:$C,0))*(1-$N$2)*(1-$N$3)*(1-$N$4),2) -> 77.67 | H60: S14102500H | I60: =INDEX(CDN!E:E,MATCH($H:$H,CDN!$C:$C,0)) -> 40 | J60: =ROUND(INDEX(CDN!I:I,MATCH($H:$H,CDN!$C:$C,0))*(1-$N$2)*(1-$N$3)*(1-$N$4),2) -> 19.46
A61: 1/4 X 2-3/4" | B61: S14102750B | C61: =INDEX(CDN!E:E,MATCH(B:B,CDN!C:C,0)) -> 700 | D61: =ROUND(INDEX(CDN!I:I,MATCH('CDN Price Index'!B:B,CDN!C:C,0))*(1-$N$2)*(1-$N$3)*(1-$N$4),2) -> 270.81 | E61: S14102750P | F61: =INDEX(CDN!E:E,MATCH($E:$E,CDN!$C:$C,0)) -> 144 | G61: =ROUND(INDEX(CDN!I:I,MATCH($E:$E,CDN!$C:$C,0))*(1-$N$2)*(1-$N$3)*(1-$N$4),2) -> 77.67 | H61: S14102750H | I61: =INDEX(CDN!E:E,MATCH($H:$H,CDN!$C:$C,0)) -> 40 | J61: =ROUND(INDEX(CDN!I:I,MATCH($H:$H,CDN!$C:$C,0))*(1-$N$2)*(1-$N$3)*(1-$N$4),2) -> 19.46
A62: 1/4 X 3-1/8" | B62: S14103125B | C62: =INDEX(CDN!E:E,MATCH(B:B,CDN!C:C,0)) -> 700 | D62: =ROUND(INDEX(CDN!I:I,MATCH('CDN Price Index'!B:B,CDN!C:C,0))*(1-$N$2)*(1-$N$3)*(1-$N$4),2) -> 317.83 | E62: S14103125P | F62: =INDEX(CDN!E:E,MATCH($E:$E,CDN!$C:$C,0)) -> 131 | G62: =ROUND(INDEX(CDN!I:I,MATCH($E:$E,CDN!$C:$C,0))*(1-$N$2)*(1-$N$3)*(1-$N$4),2) -> 68.61 | H62: S14103125H | I62: =INDEX(CDN!E:E,MATCH($H:$H,CDN!$C:$C,0)) -> 40 | J62: =ROUND(INDEX(CDN!I:I,MATCH($H:$H,CDN!$C:$C,0))*(1-$N$2)*(1-$N$3)*(1-$N$4),2) -> 22.81
A63: 1/4 X 3-3/8" | B63: S14103375B | C63: =INDEX(CDN!E:E,MATCH(B:B,CDN!C:C,0)) -> 400 | D63: =ROUND(INDEX(CDN!I:I,MATCH('CDN Price Index'!B:B,CDN!C:C,0))*(1-$N$2)*(1-$N$3)*(1-$N$4),2) -> 221.38 | E63: S14103375P | F63: =INDEX(CDN!E:E,MATCH($E:$E,CDN!$C:$C,0)) -> 107 | G63: =ROUND(INDEX(CDN!I:I,MATCH($E:$E,CDN!$C:$C,0))*(1-$N$2)*(1-$N$3)*(1-$N$4),2) -> 68.61 | H63: S14103375H | I63: =INDEX(CDN!E:E,MATCH($H:$H,CDN!$C:$C,0)) -> 40 | J63: =ROUND(INDEX(CDN!I:I,MATCH($H:$H,CDN!$C:$C,0))*(1-$N$2)*(1-$N$3)*(1-$N$4),2) -> 28.45
A64: 5/16 X 2-1/2" | B64: S20102500B | C64: =INDEX(CDN!E:E,MATCH(B:B,CDN!C:C,0)) -> 600 | D64: =ROUND(INDEX(CDN!I:I,MATCH('CDN Price Index'!B:B,CDN!C:C,0))*(1-$N$2)*(1-$N$3)*(1-$N$4),2) -> 309.2 | E64: S20102500P | F64: =INDEX(CDN!E:E,MATCH($E:$E,CDN!$C:$C,0)) -> 100 | G64: =ROUND(INDEX(CDN!I:I,MATCH($E:$E,CDN!$C:$C,0))*(1-$N$2)*(1-$N$3)*(1-$N$4),2) -> 57.1 | H64: S20102500H | I64: =INDEX(CDN!E:E,MATCH($H:$H,CDN!$C:$C,0)) -> 40 | J64: =ROUND(INDEX(CDN!I:I,MATCH($H:$H,CDN!$C:$C,0))*(1-$N$2)*(1-$N$3)*(1-$N$4),2) -> 27.99
... A67: 5/16 X 4" | B67: S20104000B | C67: =INDEX(CDN!E:E,MATCH(B:B,CDN!C:C,0)) -> 400 | D67: =ROUND(INDEX(CDN!I:I,MATCH('CDN Price Index'!B:B,CDN!C:C,0))*(1-$N$2)*(1-$N$3)*(1-$N$4),2) -> 266.39 | E67: S20104000P | F67: =INDEX(CDN!E:E,MATCH($E:$E,CDN!$C:$C,0)) -> 100 | G67: =ROUND(INDEX(CDN!I:I,MATCH($E:$E,CDN!$C:$C,0))*(1-$N$2)*(1-$N$3)*(1-$N$4),2) -> 80.91 | H67: S20104000H | I67: =INDEX(CDN!E:E,MATCH($H:$H,CDN!$C:$C,0)) -> 40 | J67: =ROUND(INDEX(CDN!I:I,MATCH($H:$H,CDN!$C:$C,0))*(1-$N$2)*(1-$N$3)*(1-$N$4),2) -> 35.13
A68: 5/16 X 5" | B68: S20105000B | C68: =INDEX(CDN!E:E,MATCH(B:B,CDN!C:C,0)) -> 300 | D68: =ROUND(INDEX(CDN!I:I,MATCH('CDN Price Index'!B:B,CDN!C:C,0))*(1-$N$2)*(1-$N$3)*(1-$N$4),2) -> 295.37 | H68: S20105000H | I68: =INDEX(CDN!E:E,MATCH($H:$H,CDN!$C:$C,0)) -> 40 | J68: =ROUND(INDEX(CDN!I:I,MATCH($H:$H,CDN!$C:$C,0))*(1-$N$2)*(1-$N$3)*(1-$N$4),2) -> 52.64
A69: 5/16 X 6" | B69: S20106000B | C69: =INDEX(CDN!E:E,MATCH(B:B,CDN!C:C,0)) -> 300 | D69: =ROUND(INDEX(CDN!I:I,MATCH('CDN Price Index'!B:B,CDN!C:C,0))*(1-$N$2)*(1-$N$3)*(1-$N$4),2) -> 384.98 | H69: S20106000H | I69: =INDEX(CDN!E:E,MATCH($H:$H,CDN!$C:$C,0)) -> 40 | J69: =ROUND(INDEX(CDN!I:I,MATCH($H:$H,CDN!$C:$C,0))*(1-$N$2)*(1-$N$3)*(1-$N$4),2) -> 67.2
A70: 3/8 X 3-1/8" | B70: S22103125B | C70: =INDEX(CDN!E:E,MATCH(B:B,CDN!C:C,0)) -> 300 | D70: =ROUND(INDEX(CDN!I:I,MATCH('CDN Price Index'!B:B,CDN!C:C,0))*(1-$N$2)*(1-$N$3)*(1-$N$4),2) -> 320.47 | H70: S22103125H | I70: =INDEX(CDN!E:E,MATCH($H:$H,CDN!$C:$C,0)) -> 40 | J70: =ROUND(INDEX(CDN!I:I,MATCH($H:$H,CDN!$C:$C,0))*(1-$N$2)*(1-$N$3)*(1-$N$4),2) -> 53.42
A71: 3/8 X 3-3/8" | B71: S22103375B | C71: =INDEX(CDN!E:E,MATCH(B:B,CDN!C:C,0)) -> 300 | D71: =ROUND(INDEX(CDN!I:I,MATCH('CDN Price Index'!B:B,CDN!C:C,0))*(1-$N$2)*(1-$N$3)*(1-$N$4),2) -> 342.52 | H71: S22103375H | I71: =INDEX(CDN!E:E,MATCH($H:$H,CDN!$C:$C,0)) -> 40 | J71: =ROUND(INDEX(CDN!I:I,MATCH($H:$H,CDN!$C:$C,0))*(1-$N$2)*(1-$N$3)*(1-$N$4),2) -> 56.39
A72: 3/8 X 4" | B72: S22104000B | C72: =INDEX(CDN!E:E,MATCH(B:B,CDN!C:C,0)) -> 300 | D72: =ROUND(INDEX(CDN!I:I,MATCH('CDN Price Index'!B:B,CDN!C:C,0))*(1-$N$2)*(1-$N$3)*(1-$N$4),2) -> 347.9 | H72: S22104000H | I72: =INDEX(CDN!E:E,MATCH($H:$H,CDN!$C:$C,0)) -> 40 | J72: =ROUND(INDEX(CDN!I:I,MATCH($H:$H,CDN!$C:$C,0))*(1-$N$2)*(1-$N$3)*(1-$N$4),2) -> 58.48
A73: 3/8 X 5" | B73: S22105000B | C73: =INDEX(CDN!E:E,MATCH(B:B,CDN!C:C,0)) -> 300 | D73: =ROUND(INDEX(CDN!I:I,MATCH('CDN Price Index'!B:B,CDN!C:C,0))*(1-$N$2)*(1-$N$3)*(1-$N$4),2) -> 524.16 | H73: S22105000H | I73: =INDEX(CDN!E:E,MATCH($H:$H,CDN!$C:$C,0)) -> 40 | J73: =ROUND(INDEX(CDN!I:I,MATCH($H:$H,CDN!$C:$C,0))*(1-$N$2)*(1-$N$3)*(1-$N$4),2) -> 87.37
A74: 3/8 X 6" | B74: S22106000B | C74: =INDEX(CDN!E:E,MATCH(B:B,CDN!C:C,0)) -> 300 | D74: =ROUND(INDEX(CDN!I:I,MATCH('CDN Price Index'!B:B,CDN!C:C,0))*(1-$N$2)*(1-$N$3)*(1-$N$4),2) -> 539.28 | H74: S22106000H | I74: =INDEX(CDN!E:E,MATCH($H:$H,CDN!$C:$C,0)) -> 40 | J74: =ROUND(INDEX(CDN!I:I,MATCH($H:$H,CDN!$C:$C,0))*(1-$N$2)*(1-$N$3)*(1-$N$4),2) -> 89.64
A75: 3/8 X 6-3/4" | B75: S22106750B | C75: =INDEX(CDN!E:E,MATCH(B:B,CDN!C:C,0)) -> 300 | D75: =ROUND(INDEX(CDN!I:I,MATCH('CDN Price Index'!B:B,CDN!C:C,0))*(1-$N$2)*(1-$N$3)*(1-$N$4),2) -> 639.89 | H75: S22106750H | I75: =INDEX(CDN!E:E,MATCH($H:$H,CDN!$C:$C,0)) -> 40 | J75: =ROUND(INDEX(CDN!I:I,MATCH($H:$H,CDN!$C:$C,0))*(1-$N$2)*(1-$N$3)*(1-$N$4),2) -> 110.75
A76: 3/8 X 7" | B76: S22107000B | C76: =INDEX(CDN!E:E,MATCH(B:B,CDN!C:C,0)) -> 300 | D76: =ROUND(INDEX(CDN!I:I,MATCH('CDN Price Index'!B:B,CDN!C:C,0))*(1-$N$2)*(1-$N$3)*(1-$N$4),2) -> 645.83 | H76: S22107000H | I76: =INDEX(CDN!E:E,MATCH($H:$H,CDN!$C:$C,0)) -> 40 | J76: =ROUND(INDEX(CDN!I:I,MATCH($H:$H,CDN!$C:$C,0))*(1-$N$2)*(1-$N$3)*(1-$N$4),2) -> 117.65
A77: 3/8 X 8" | B77: S22108000B | C77: =INDEX(CDN!E:E,MATCH(B:B,CDN!C:C,0)) -> 300 | D77: =ROUND(INDEX(CDN!I:I,MATCH('CDN Price Index'!B:B,CDN!C:C,0))*(1-$N$2)*(1-$N$3)*(1-$N$4),2) -> 815.55 | H77: S22108000H | I77: =INDEX(CDN!E:E,MATCH($H:$H,CDN!$C:$C,0)) -> 40 | J77: =ROUND(INDEX(CDN!I:I,MATCH($H:$H,CDN!$C:$C,0))*(1-$N$2)*(1-$N$3)*(1-$N$4),2) -> 136.39
A78: 3/8 X 10" | B78: S22110000B | C78: =INDEX(CDN!E:E,MATCH(B:B,CDN!C:C,0)) -> 300 | D78: =ROUND(INDEX(CDN!I:I,MATCH('CDN Price Index'!B:B,CDN!C:C,0))*(1-$N$2)*(1-$N$3)*(1-$N$4),2) -> 1285.5 | H78: S22110000H | I78: =INDEX(CDN!E:E,MATCH($H:$H,CDN!$C:$C,0)) -> 40 | J78: =ROUND(INDEX(CDN!I:I,MATCH($H:$H,CDN!$C:$C,0))*(1-$N$2)*(1-$N$3)*(1-$N$4),2) -> 234.53
A79: 3/8 X 12" | B79: S22112000B | C79: =INDEX(CDN!E:E,MATCH(B:B,CDN!C:C,0)) -> 300 | D79: =ROUND(INDEX(CDN!I:I,MATCH('CDN Price Index'!B:B,CDN!C:C,0))*(1-$N$2)*(1-$N$3)*(1-$N$4),2) -> 1485.9 | H79: S22112000H | I79: =INDEX(CDN!E:E,MATCH($H:$H,CDN!$C:$C,0)) -> 40 | J79: =ROUND(INDEX(CDN!I:I,MATCH($H:$H,CDN!$C:$C,0))*(1-$N$2)*(1-$N$3)*(1-$N$4),2) -> 258.42
... A82: 3/8 X 20" | B82: S22120000B | C82: =INDEX(CDN!E:E,MATCH(B:B,CDN!C:C,0)) -> 100 | D82: =ROUND(INDEX(CDN!I:I,MATCH('CDN Price Index'!B:B,CDN!C:C,0))*(1-$N$2)*(1-$N$3)*(1-$N$4),2) -> 1590.33 | H82: S22120000H | I82: =INDEX(CDN!E:E,MATCH($H:$H,CDN!$C:$C,0)) -> 25 | J82: =ROUND(INDEX(CDN!I:I,MATCH($H:$H,CDN!$C:$C,0))*(1-$N$2)*(1-$N$3)*(1-$N$4),2) -> 397.56
A83: BLACK CONSTRUCTION SCREW
B84: BULK | E84: Pail | H84: PACKAGE
A85: SIZE | B85: STOCK CODE | C85: PCS | D85: MSRP | E85: STOCK CODE | F85: PCS | G85: MSRP | H85: STOCK CODE | I85: PCS | J85: MSRP
A86: 5/16 X 2"7/8 BK | B86: S20B02875B | C86: =INDEX(CDN!E:E,MATCH(B:B,CDN!C:C,0)) -> 500 | D86: =ROUND(INDEX(CDN!I:I,MATCH('CDN Price Index'!B:B,CDN!C:C,0))*(1-$N$2)*(1-$N$3)*(1-$N$4),2) -> 422.01 | E86: S20B02875P | F86: =INDEX(CDN!E:E,MATCH($E:$E,CDN!$C:$C,0)) -> 120 | G86: =ROUND(INDEX(CDN!I:I,MATCH($E:$E,CDN!$C:$C,0))*(1-$N$2)*(1-$N$3)*(1-$N$4),2) -> 98.95 | H86: S20B02875H | I86: =INDEX(CDN!E:E,MATCH($H:$H,CDN!$C:$C,0)) -> 40 | J86: =ROUND(INDEX(CDN!I:I,MATCH($H:$H,CDN!$C:$C,0))*(1-$N$2)*(1-$N$3)*(1-$N$4),2) -> 44.98
A87: 5/16 X 3"1/8 BK | B87: S20B03125B | C87: =INDEX(CDN!E:E,MATCH(B:B,CDN!C:C,0)) -> 500 | D87: =ROUND(INDEX(CDN!I:I,MATCH('CDN Price Index'!B:B,CDN!C:C,0))*(1-$N$2)*(1-$N$3)*(1-$N$4),2) -> 314.06 | E87: S20B03125P | F87: =INDEX(CDN!E:E,MATCH($E:$E,CDN!$C:$C,0)) -> 100 | G87: =ROUND(INDEX(CDN!I:I,MATCH($E:$E,CDN!$C:$C,0))*(1-$N$2)*(1-$N$3)*(1-$N$4),2) -> 68.64 | H87: S20B03125H | I87: =INDEX(CDN!E:E,MATCH($H:$H,CDN!$C:$C,0)) -> 40 | J87: =ROUND(INDEX(CDN!I:I,MATCH($H:$H,CDN!$C:$C,0))*(1-$N$2)*(1-$N$3)*(1-$N$4),2) -> 27.29
A88: 5/16 X 4" BK | B88: S20B04000B | C88: =INDEX(CDN!E:E,MATCH(B:B,CDN!C:C,0)) -> 400 | D88: =ROUND(INDEX(CDN!I:I,MATCH('CDN Price Index'!B:B,CDN!C:C,0))*(1-$N$2)*(1-$N$3)*(1-$N$4),2) -> 266.39 | E88: S20B04000P | F88: =INDEX(CDN!E:E,MATCH($E:$E,CDN!$C:$C,0)) -> 100 | G88: =ROUND(INDEX(CDN!I:I,MATCH($E:$E,CDN!$C:$C,0))*(1-$N$2)*(1-$N$3)*(1-$N$4),2) -> 80.91 | H88: S20B04000H | I88: =INDEX(CDN!E:E,MATCH($H:$H,CDN!$C:$C,0)) -> 40 | J88: =ROUND(INDEX(CDN!I:I,MATCH($H:$H,CDN!$C:$C,0))*(1-$N$2)*(1-$N$3)*(1-$N$4),2) -> 35.13
A89: 5/16 X 5" BK | B89: S20B05000B | C89: =INDEX(CDN!E:E,MATCH(B:B,CDN!C:C,0)) -> 300 | D89: =ROUND(INDEX(CDN!I:I,MATCH('CDN Price Index'!B:B,CDN!C:C,0))*(1-$N$2)*(1-$N$3)*(1-$N$4),2) -> 295.37 | H89: S20B05000H | I89: =INDEX(CDN!E:E,MATCH($H:$H,CDN!$C:$C,0)) -> 40 | J89: =ROUND(INDEX(CDN!I:I,MATCH($H:$H,CDN!$C:$C,0))*(1-$N$2)*(1-$N$3)*(1-$N$4),2) -> 52.64
A90: 5/16 X 6" BK | B90: S20B06000B | C90: =INDEX(CDN!E:E,MATCH(B:B,CDN!C:C,0)) -> 300 | D90: =ROUND(INDEX(CDN!I:I,MATCH('CDN Price Index'!B:B,CDN!C:C,0))*(1-$N$2)*(1-$N$3)*(1-$N$4),2) -> 384.98 | H90: S20B06000H | I90: =INDEX(CDN!E:E,MATCH($H:$H,CDN!$C:$C,0)) -> 40 | J90: =ROUND(INDEX(CDN!I:I,MATCH($H:$H,CDN!$C:$C,0))*(1-$N$2)*(1-$N$3)*(1-$N$4),2) -> 67.2
A91: 3/8 X 2" BK | B91: S22B02000B | C91: =INDEX(CDN!E:E,MATCH(B:B,CDN!C:C,0)) -> 350 | D91: =ROUND(INDEX(CDN!I:I,MATCH('CDN Price Index'!B:B,CDN!C:C,0))*(1-$N$2)*(1-$N$3)*(1-$N$4),2) -> 251.3 | H91: S22B02000H | I91: =INDEX(CDN!E:E,MATCH($H:$H,CDN!$C:$C,0)) -> 40 | J91: =ROUND(INDEX(CDN!I:I,MATCH($H:$H,CDN!$C:$C,0))*(1-$N$2)*(1-$N$3)*(1-$N$4),2) -> 35.9
A92: 3/8 X 3"1/8 BK | B92: S22B03125B | C92: =INDEX(CDN!E:E,MATCH(B:B,CDN!C:C,0)) -> 300 | D92: =ROUND(INDEX(CDN!I:I,MATCH('CDN Price Index'!B:B,CDN!C:C,0))*(1-$N$2)*(1-$N$3)*(1-$N$4),2) -> 320.47 | H92: S22B03125H | I92: =INDEX(CDN!E:E,MATCH($H:$H,CDN!$C:$C,0)) -> 40 | J92: =ROUND(INDEX(CDN!I:I,MATCH($H:$H,CDN!$C:$C,0))*(1-$N$2)*(1-$N$3)*(1-$N$4),2) -> 53.42
A93: 3/8 X 4" BK | B93: S22B04000B | C93: =INDEX(CDN!E:E,MATCH(B:B,CDN!C:C,0)) -> 300 | D93: =ROUND(INDEX(CDN!I:I,MATCH('CDN Price Index'!B:B,CDN!C:C,0))*(1-$N$2)*(1-$N$3)*(1-$N$4),2) -> 347.9 | H93: S22B04000H | I93: =INDEX(CDN!E:E,MATCH($H:$H,CDN!$C:$C,0)) -> 40 | J93: =ROUND(INDEX(CDN!I:I,MATCH($H:$H,CDN!$C:$C,0))*(1-$N$2)*(1-$N$3)*(1-$N$4),2) -> 58.48
A94: 3/8 X 5" BK | B94: S22B05000B | C94: =INDEX(CDN!E:E,MATCH(B:B,CDN!C:C,0)) -> 300 | D94: =ROUND(INDEX(CDN!I:I,MATCH('CDN Price Index'!B:B,CDN!C:C,0))*(1-$N$2)*(1-$N$3)*(1-$N$4),2) -> 524.16 | H94: S22B05000H | I94: =INDEX(CDN!E:E,MATCH($H:$H,CDN!$C:$C,0)) -> 40 | J94: =ROUND(INDEX(CDN!I:I,MATCH($H:$H,CDN!$C:$C,0))*(1-$N$2)*(1-$N$3)*(1-$N$4),2) -> 87.37
A95: 3/8 X 6" BK | B95: S22B06000B | C95: =INDEX(CDN!E:E,MATCH(B:B,CDN!C:C,0)) -> 300 | D95: =ROUND(INDEX(CDN!I:I,MATCH('CDN Price Index'!B:B,CDN!C:C,0))*(1-$N$2)*(1-$N$3)*(1-$N$4),2) -> 539.28 | H95: S22B06000H | I95: =INDEX(CDN!E:E,MATCH($H:$H,CDN!$C:$C,0)) -> 40 | J95: =ROUND(INDEX(CDN!I:I,MATCH($H:$H,CDN!$C:$C,0))*(1-$N$2)*(1-$N$3)*(1-$N$4),2) -> 89.64
A96: 3/8 X 8" BK | B96: S22B08000B | C96: =INDEX(CDN!E:E,MATCH(B:B,CDN!C:C,0)) -> 300 | D96: =ROUND(INDEX(CDN!I:I,MATCH('CDN Price Index'!B:B,CDN!C:C,0))*(1-$N$2)*(1-$N$3)*(1-$N$4),2) -> 815.55 | H96: S22B08000H | I96: =INDEX(CDN!E:E,MATCH($H:$H,CDN!$C:$C,0)) -> 40 | J96: =ROUND(INDEX(CDN!I:I,MATCH($H:$H,CDN!$C:$C,0))*(1-$N$2)*(1-$N$3)*(1-$N$4),2) -> 136.39
A97: 3/8 X 10" BK | B97: S22B10000B | C97: =INDEX(CDN!E:E,MATCH(B:B,CDN!C:C,0)) -> 300 | D97: =ROUND(INDEX(CDN!I:I,MATCH('CDN Price Index'!B:B,CDN!C:C,0))*(1-$N$2)*(1-$N$3)*(1-$N$4),2) -> 1285.5 | H97: S22B10000H | I97: =INDEX(CDN!E:E,MATCH($H:$H,CDN!$C:$C,0)) -> 40 | J97: =ROUND(INDEX(CDN!I:I,MATCH($H:$H,CDN!$C:$C,0))*(1-$N$2)*(1-$N$3)*(1-$N$4),2) -> 234.53
A98: 3/8 X 12" BK | B98: S22B12000B | C98: =INDEX(CDN!E:E,MATCH(B:B,CDN!C:C,0)) -> 300 | D98: =ROUND(INDEX(CDN!I:I,MATCH('CDN Price Index'!B:B,CDN!C:C,0))*(1-$N$2)*(1-$N$3)*(1-$N$4),2) -> 1485.9 | H98: S22B12000H | I98: =INDEX(CDN!E:E,MATCH($H:$H,CDN!$C:$C,0)) -> 40 | J98: =ROUND(INDEX(CDN!I:I,MATCH($H:$H,CDN!$C:$C,0))*(1-$N$2)*(1-$N$3)*(1-$N$4),2) -> 258.42
A100: CONSTRUCTION SCREW (STAINLESS 316)
B101: BULK | E101: Pail | H101: PACKAGE
A102: SIZE | B102: STOCK CODE | C102: PCS | D102: MSRP | E102: STOCK CODE | F102: PCS | G102: MSRP | H102: STOCK CODE | I102: PCS | J102: MSRP
A103: 10 X 1" | B103: I10101000B | C103: =INDEX(CDN!E:E,MATCH(B:B,CDN!C:C,0)) -> 2500 | D103: =ROUND(INDEX(CDN!I:I,MATCH('CDN Price Index'!B:B,CDN!C:C,0))*(1-$N$2)*(1-$N$3)*(1-$N$4),2) -> 841.2 | E103: I10101000P | F103: =INDEX(CDN!E:E,MATCH($E:$E,CDN!$C:$C,0)) -> 510 | G103: =ROUND(INDEX(CDN!I:I,MATCH($E:$E,CDN!$C:$C,0))*(1-$N$2)*(1-$N$3)*(1-$N$4),2) -> 178.05 | H103: I10101000H | I103: =INDEX(CDN!E:E,MATCH($H:$H,CDN!$C:$C,0)) -> 40 | J103: =ROUND(INDEX(CDN!I:I,MATCH($H:$H,CDN!$C:$C,0))*(1-$N$2)*(1-$N$3)*(1-$N$4),2) -> 18.51
A104: 10 x 1-1/2" | B104: I10101500B | C104: =INDEX(CDN!E:E,MATCH(B:B,CDN!C:C,0)) -> 2300 | D104: =ROUND(INDEX(CDN!I:I,MATCH('CDN Price Index'!B:B,CDN!C:C,0))*(1-$N$2)*(1-$N$3)*(1-$N$4),2) -> 956.51 | E104: I10101500P | F104: =INDEX(CDN!E:E,MATCH($E:$E,CDN!$C:$C,0)) -> 372 | G104: =ROUND(INDEX(CDN!I:I,MATCH($E:$E,CDN!$C:$C,0))*(1-$N$2)*(1-$N$3)*(1-$N$4),2) -> 178.05 | H104: I10101500H | I104: =INDEX(CDN!E:E,MATCH($H:$H,CDN!$C:$C,0)) -> 40 | J104: =ROUND(INDEX(CDN!I:I,MATCH($H:$H,CDN!$C:$C,0))*(1-$N$2)*(1-$N$3)*(1-$N$4),2) -> 20.79
A105: 1/4 X 2" | B105: I14102000B | C105: =INDEX(CDN!E:E,MATCH(B:B,CDN!C:C,0)) -> 800 | D105: =ROUND(INDEX(CDN!I:I,MATCH('CDN Price Index'!B:B,CDN!C:C,0))*(1-$N$2)*(1-$N$3)*(1-$N$4),2) -> 619.48 | E105: I14102000P | F105: =INDEX(CDN!E:E,MATCH($E:$E,CDN!$C:$C,0)) -> 220 | G105: =ROUND(INDEX(CDN!I:I,MATCH($E:$E,CDN!$C:$C,0))*(1-$N$2)*(1-$N$3)*(1-$N$4),2) -> 186.95 | H105: I14102000H | I105: =INDEX(CDN!E:E,MATCH($H:$H,CDN!$C:$C,0)) -> 40 | J105: =ROUND(INDEX(CDN!I:I,MATCH($H:$H,CDN!$C:$C,0))*(1-$N$2)*(1-$N$3)*(1-$N$4),2) -> 38.73
A106: 5/16 X 2-1/2" | B106: I20102500B | C106: =INDEX(CDN!E:E,MATCH(B:B,CDN!C:C,0)) -> 600 | D106: =ROUND(INDEX(CDN!I:I,MATCH('CDN Price Index'!B:B,CDN!C:C,0))*(1-$N$2)*(1-$N$3)*(1-$N$4),2) -> 666.56 | H106: I20102500H | I106: =INDEX(CDN!E:E,MATCH($H:$H,CDN!$C:$C,0)) -> 40 | J106: =ROUND(INDEX(CDN!I:I,MATCH($H:$H,CDN!$C:$C,0))*(1-$N$2)*(1-$N$3)*(1-$N$4),2) -> 56.92
A107: 5/16 X 3" | B107: I20103000B | C107: =INDEX(CDN!E:E,MATCH(B:B,CDN!C:C,0)) -> 500 | D107: =ROUND(INDEX(CDN!I:I,MATCH('CDN Price Index'!B:B,CDN!C:C,0))*(1-$N$2)*(1-$N$3)*(1-$N$4),2) -> 705.36 | H107: I20103000H | I107: =INDEX(CDN!E:E,MATCH($H:$H,CDN!$C:$C,0)) -> 40 | J107: =ROUND(INDEX(CDN!I:I,MATCH($H:$H,CDN!$C:$C,0))*(1-$N$2)*(1-$N$3)*(1-$N$4),2) -> 73.16
A108: 5/16 X 4" | B108: I20104000B | C108: =INDEX(CDN!E:E,MATCH(B:B,CDN!C:C,0)) -> 400 | D108: =ROUND(INDEX(CDN!I:I,MATCH('CDN Price Index'!B:B,CDN!C:C,0))*(1-$N$2)*(1-$N$3)*(1-$N$4),2) -> 683.49 | H108: I20104000H | I108: =INDEX(CDN!E:E,MATCH($H:$H,CDN!$C:$C,0)) -> 40 | J108: =ROUND(INDEX(CDN!I:I,MATCH($H:$H,CDN!$C:$C,0))*(1-$N$2)*(1-$N$3)*(1-$N$4),2) -> 89.42
A109: 5/16 X 5" | B109: I20105000B | C109: =INDEX(CDN!E:E,MATCH(B:B,CDN!C:C,0)) -> 300 | D109: =ROUND(INDEX(CDN!I:I,MATCH('CDN Price Index'!B:B,CDN!C:C,0))*(1-$N$2)*(1-$N$3)*(1-$N$4),2) -> 953.94 | H109: I20105000H | I109: =INDEX(CDN!E:E,MATCH($H:$H,CDN!$C:$C,0)) -> 40 | J109: =ROUND(INDEX(CDN!I:I,MATCH($H:$H,CDN!$C:$C,0))*(1-$N$2)*(1-$N$3)*(1-$N$4),2) -> 139.85
A110: 5/16 X 6" | B110: I20106000B | C110: =INDEX(CDN!E:E,MATCH(B:B,CDN!C:C,0)) -> 300 | D110: =ROUND(INDEX(CDN!I:I,MATCH('CDN Price Index'!B:B,CDN!C:C,0))*(1-$N$2)*(1-$N$3)*(1-$N$4),2) -> 975.77 | H110: I20106000H | I110: =INDEX(CDN!E:E,MATCH($H:$H,CDN!$C:$C,0)) -> 40 | J110: =ROUND(INDEX(CDN!I:I,MATCH($H:$H,CDN!$C:$C,0))*(1-$N$2)*(1-$N$3)*(1-$N$4),2) -> 145.21
A111: 3/8 X 4" | B111: I22104000B | C111: =INDEX(CDN!E:E,MATCH(B:B,CDN!C:C,0)) -> 300 | D111: =ROUND(INDEX(CDN!I:I,MATCH('CDN Price Index'!B:B,CDN!C:C,0))*(1-$N$2)*(1-$N$3)*(1-$N$4),2) -> 844.99 | H111: I22104000H | I111: =INDEX(CDN!E:E,MATCH($H:$H,CDN!$C:$C,0)) -> 40 | J111: =ROUND(INDEX(CDN!I:I,MATCH($H:$H,CDN!$C:$C,0))*(1-$N$2)*(1-$N$3)*(1-$N$4),2) -> 140.83
A112: 3/8 X 5" | B112: I22105000B | C112: =INDEX(CDN!E:E,MATCH(B:B,CDN!C:C,0)) -> 300 | D112: =ROUND(INDEX(CDN!I:I,MATCH('CDN Price Index'!B:B,CDN!C:C,0))*(1-$N$2)*(1-$N$3)*(1-$N$4),2) -> 1103.92 | H112: I22105000H | I112: =INDEX(CDN!E:E,MATCH($H:$H,CDN!$C:$C,0)) -> 40 | J112: =ROUND(INDEX(CDN!I:I,MATCH($H:$H,CDN!$C:$C,0))*(1-$N$2)*(1-$N$3)*(1-$N$4),2) -> 183.99
A113: 3/8 X 8" | B113: I22108000B | C113: =INDEX(CDN!E:E,MATCH(B:B,CDN!C:C,0)) -> 300 | D113: =ROUND(INDEX(CDN!I:I,MATCH('CDN Price Index'!B:B,CDN!C:C,0))*(1-$N$2)*(1-$N$3)*(1-$N$4),2) -> 2746.56 | H113: I22108000H | I113: =INDEX(CDN!E:E,MATCH($H:$H,CDN!$C:$C,0)) -> 40 | J113: =ROUND(INDEX(CDN!I:I,MATCH($H:$H,CDN!$C:$C,0))*(1-$N$2)*(1-$N$3)*(1-$N$4),2) -> 453.34
...
